Workbook

Sheet Overview
A1: Shelf Life | B1: Total Orders | D1: Lost Sales | F1: Remaining Customer Base | H1: Av.Utility (Expected) | J1: Av.Utility (Actual) | L1: Av.Distance | N1: Av.Delay | P1: Av.ShelfLife | R1: Check | S1: Note: Run times not completely comparable as runs performed on two similiar, but not identical, computers (Intel Core i7-4930k with 32GB RAM or 64GB RAM)
B2: mean | C2: sd | D2: mean | E2: sd | F2: mean | G2: sd | H2: mean | I2: sd | J2: mean | K2: sd | L2: mean | M2: sd | N2: mean | O2: sd | P2: mean | Q2: sd
A3: 0 | B3: ='Shelf life 0'!$D$102 -> 4950.21 | C3: ='Shelf life 0'!$D$103 -> 222.36989 | D3: ='Shelf life 0'!$E$102 -> 8682.51 | E3: ='Shelf life 0'!$E$103 -> 279.15379 | F3: ='Shelf life 0'!$F$102 -> 0.36272977 | G3: ='Shelf life 0'!$F$103 -> 0.013980122 | H3: ='Shelf life 0'!$G$102 -> -2.6621519 | I3: ='Shelf life 0'!$G$103 -> 0.077878778 | J3: ='Shelf life 0'!$H$102 -> -2.3927154 | K3: ='Shelf life 0'!$H$103 -> 0.079671608 | L3: ='Shelf life 0'!$I$102 -> 2.0540643 | M3: ='Shelf life 0'!$I$103 -> 0.054480852 | N3: ='Shelf life 0'!$J$102 -> 5.3507279e-10 | O3: ='Shelf life 0'!$J$103 -> 5.3507279e-09 | P3: ='Shelf life 0'!$K$102 -> 2.4624887 | Q3: ='Shelf life 0'!$K$103 -> 0.047137839 | R3: ='Shelf life 0'!X2 -> 1:shelfLife(0),deliveryDay(1),timeWindow(240),discount(0),delay(0),deliveryFeeInCents(599) (open from 8 to 20)
A4: 1 | B4: ='Shelf life 1'!$D$102 -> 5190.41 | C4: ='Shelf life 1'!$D$103 -> 232.07231 | D4: ='Shelf life 1'!$E$102 -> 8442.32 | E4: ='Shelf life 1'!$E$103 -> 273.04944 | F4: ='Shelf life 1'!$F$102 -> 0.37585288 | G4: ='Shelf life 1'!$F$103 -> 0.014242603 | H4: ='Shelf life 1'!$G$102 -> -2.2913752 | I4: ='Shelf life 1'!$G$103 -> 0.078721025 | J4: ='Shelf life 1'!$H$102 -> -2.1179952 | K4: ='Shelf life 1'!$H$103 -> 0.075555948 | L4: ='Shelf life 1'!$I$102 -> 2.072324 | M4: ='Shelf life 1'!$I$103 -> 0.053333693 | N4: ='Shelf life 1'!$J$102 -> 1.7318663e-09 | O4: ='Shelf life 1'!$J$103 -> 1.7318663e-08 | P4: ='Shelf life 1'!$K$102 -> 2.8617484 | Q4: ='Shelf life 1'!$K$103 -> 0.036894305 | R4: ='Shelf life 1'!X2 -> 1:shelfLife(1),deliveryDay(1),timeWindow(240),discount(0),delay(0),deliveryFeeInCents(599) (open from 8 to 20)
A5: 2 | B5: ='Shelf life 2'!$D$102 -> 5889.68 | C5: ='Shelf life 2'!$D$103 -> 232.08458 | D5: ='Shelf life 2'!$E$102 -> 7743.05 | E5: ='Shelf life 2'!$E$103 -> 264.80667 | F5: ='Shelf life 2'!$F$102 -> 0.41579103 | G5: ='Shelf life 2'!$F$103 -> 0.014381019 | H5: ='Shelf life 2'!$G$102 -> -1.8062698 | I5: ='Shelf life 2'!$G$103 -> 0.074152615 | J5: ='Shelf life 2'!$H$102 -> -1.8021519 | K5: ='Shelf life 2'!$H$103 -> 0.070463175 | L5: ='Shelf life 2'!$I$102 -> 2.0694863 | M5: ='Shelf life 2'!$I$103 -> 0.049070756 | N5: ='Shelf life 2'!$J$102 -> 6.0697141e-06 | O5: ='Shelf life 2'!$J$103 -> 6.0697141e-05 | P5: ='Shelf life 2'!$K$102 -> 3.2952954 | Q5: ='Shelf life 2'!$K$103 -> 0.021218461 | R5: ='Shelf life 2'!$X2 -> 1:shelfLife(2),deliveryDay(1),timeWindow(240),discount(0),delay(0),deliveryFeeInCents(599) (open from 8 to 20)
A6: 3 | B6: ='Shelf life 3'!$D$102 -> 6281.12 | C6: ='Shelf life 3'!$D$103 -> 231.96143 | D6: ='Shelf life 3'!$E$102 -> 7351.61 | E6: ='Shelf life 3'!$E$103 -> 268.98447 | F6: ='Shelf life 3'!$F$102 -> 0.44974227 | G6: ='Shelf life 3'!$F$103 -> 0.014325007 | H6: ='Shelf life 3'!$G$102 -> -1.5613228 | I6: ='Shelf life 3'!$G$103 -> 0.060769114 | J6: ='Shelf life 3'!$H$102 -> -1.6267259 | K6: ='Shelf life 3'!$H$103 -> 0.060659891 | L6: ='Shelf life 3'!$I$102 -> 2.0991976 | M6: ='Shelf life 3'!$I$103 -> 0.048086917 | N6: ='Shelf life 3'!$J$102 -> 0.0014571397 | O6: ='Shelf life 3'!$J$103 -> 0.0056915096 | P6: ='Shelf life 3'!$K$102 -> 3.7594057 | Q6: ='Shelf life 3'!$K$103 -> 0.013162683 | R6: ='Shelf life 3'!X2 -> 1:shelfLife(3),deliveryDay(1),timeWindow(240),discount(0),delay(0),deliveryFeeInCents(599) (open from 8 to 20)
A7: 4 | B7: ='Shelf life 4'!$D$102 -> 6379.02 | C7: ='Shelf life 4'!$D$103 -> 236.09367 | D7: ='Shelf life 4'!$E$102 -> 7253.52 | E7: ='Shelf life 4'!$E$103 -> 259.44535 | F7: ='Shelf life 4'!$F$102 -> 0.46020872 | G7: ='Shelf life 4'!$F$103 -> 0.014192468 | H7: ='Shelf life 4'!$G$102 -> -1.5468971 | I7: ='Shelf life 4'!$G$103 -> 0.073040873 | J7: ='Shelf life 4'!$H$102 -> -1.571093 | K7: ='Shelf life 4'!$H$103 -> 0.072171103 | L7: ='Shelf life 4'!$I$102 -> 2.3688277 | M7: ='Shelf life 4'!$I$103 -> 0.050171443 | N7: ='Shelf life 4'!$J$102 -> 0.0016194038 | O7: ='Shelf life 4'!$J$103 -> 0.007359702 | P7: ='Shelf life 4'!$K$102 -> 4.2544942 | Q7: ='Shelf life 4'!$K$103 -> 0.0074265911 | R7: ='Shelf life 4'!X2 -> 1:shelfLife(4),deliveryDay(1),timeWindow(240),discount(0),delay(0),deliveryFeeInCents(599) (open from 8 to 20)
A8: 5 | B8: ='Shelf life 5'!$D$102 -> 6273 | C8: ='Shelf life 5'!$D$103 -> 232.65104 | D8: ='Shelf life 5'!$E$102 -> 7359.49 | E8: ='Shelf life 5'!$E$103 -> 256.69234 | F8: ='Shelf life 5'!$F$102 -> 0.45569953 | G8: ='Shelf life 5'!$F$103 -> 0.013963464 | H8: ='Shelf life 5'!$G$102 -> -1.6274196 | I8: ='Shelf life 5'!$G$103 -> 0.074340094 | J8: ='Shelf life 5'!$H$102 -> -1.5995593 | K8: ='Shelf life 5'!$H$103 -> 0.073466136 | L8: ='Shelf life 5'!$I$102 -> 2.7303697 | M8: ='Shelf life 5'!$I$103 -> 0.048657324 | N8: ='Shelf life 5'!$J$102 -> 0.00055161182 | O8: ='Shelf life 5'!$J$103 -> 0.0037132538 | P8: ='Shelf life 5'!$K$102 -> 4.3380128 | Q8: ='Shelf life 5'!$K$103 -> 0.011068798 | R8: ='Shelf life 5'!X2 -> 1:shelfLife(5),deliveryDay(1),timeWindow(240),discount(0),delay(0),deliveryFeeInCents(599) (open from 8 to 20)
B9: Total Orders | D9: Lost Sales | F9: Remaining Customer Base | H9: Av.Utility (Expected) | J9: Av.Utility (Actual) | L9: Av.Distance | N9: Av.Delay | P9: Av.ShelfLife
A10: Delivery Fee | B10: mean | C10: sd | D10: mean | E10: sd | F10: mean | G10: sd | H10: mean | I10: sd | J10: mean | K10: sd | L10: mean | M10: sd | N10: mean | O10: sd | P10: mean | Q10: sd
A11: 0 | B11: ='Delivery fee 0'!$D$102 -> 9887.31 | C11: ='Delivery fee 0'!$D$103 -> 279.07002 | D11: ='Delivery fee 0'!$E$102 -> 3745.01 | E11: ='Delivery fee 0'!$E$103 -> 201.1165 | F11: ='Delivery fee 0'!$F$102 -> 0.7081246 | G11: ='Delivery fee 0'!$F$103 -> 0.013053113 | H11: ='Delivery fee 0'!$G$102 -> 1.8905296 | I11: ='Delivery fee 0'!$G$103 -> 0.061151759 | J11: ='Delivery fee 0'!$H$102 -> 1.7883754 | K11: ='Delivery fee 0'!$H$103 -> 0.060165355 | L11: ='Delivery fee 0'!$I$102 -> 2.5561309 | M11: ='Delivery fee 0'!$I$103 -> 0.087036933 | N11: ='Delivery fee 0'!$J$102 -> 1.4802855 | O11: ='Delivery fee 0'!$J$103 -> 0.58767693 | P11: ='Delivery fee 0'!$K$102 -> 3.8757044 | Q11: ='Delivery fee 0'!$K$103 -> 0.013663386 | R11: ='Delivery fee 0'!X2 -> 1:shelfLife(3),deliveryDay(1),timeWindow(240),discount(0),delay(0),deliveryFeeInCents(0) (open from 8 to 20)
A12: 1.99 | B12: ='Delivery fee 1.99'!$D$102 -> 9296.4 | C12: ='Delivery fee 1.99'!$D$103 -> 269.941 | D12: ='Delivery fee 1.99'!$E$102 -> 4335.91 | E12: ='Delivery fee 1.99'!$E$103 -> 211.66865 | F12: ='Delivery fee 1.99'!$F$102 -> 0.65998982 | G12: ='Delivery fee 1.99'!$F$103 -> 0.013459109 | H12: ='Delivery fee 1.99'!$G$102 -> 0.92123975 | I12: ='Delivery fee 1.99'!$G$103 -> 0.061520826 | J12: ='Delivery fee 1.99'!$H$102 -> 0.81683321 | K12: ='Delivery fee 1.99'!$H$103 -> 0.063196835 | L12: ='Delivery fee 1.99'!$I$102 -> 2.3709366 | M12: ='Delivery fee 1.99'!$I$103 -> 0.091155522 | N12: ='Delivery fee 1.99'!$J$102 -> 0.74120249 | O12: ='Delivery fee 1.99'!$J$103 -> 0.41665689 | P12: ='Delivery fee 1.99'!$K$102 -> 3.8488542 | Q12: ='Delivery fee 1.99'!$K$103 -> 0.01456604 | R12: ='Delivery fee 1.99'!X2 -> 1:shelfLife(3),deliveryDay(1),timeWindow(240),discount(0),delay(0),deliveryFeeInCents(199) (open from 8 to 20)
A13: 3.99 | B13: ='Delivery fee 3.99'!$D$102 -> 7992.84 | C13: ='Delivery fee 3.99'!$D$103 -> 267.64256 | D13: ='Delivery fee 3.99'!$E$102 -> 5639.54 | E13: ='Delivery fee 3.99'!$E$103 -> 251.24427 | F13: ='Delivery fee 3.99'!$F$102 -> 0.56066764 | G13: ='Delivery fee 3.99'!$F$103 -> 0.01464952 | H13: ='Delivery fee 3.99'!$G$102 -> 0.6740014 | I13: ='Delivery fee 3.99'!$G$103 -> 0.080184902 | J13: ='Delivery fee 3.99'!$H$102 -> 0.55782422 | K13: ='Delivery fee 3.99'!$H$103 -> 0.076633102 | L13: ='Delivery fee 3.99'!$I$102 -> 2.1672387 | M13: ='Delivery fee 3.99'!$I$103 -> 0.061788295 | N13: ='Delivery fee 3.99'!$J$102 -> 0.12501221 | O13: ='Delivery fee 3.99'!$J$103 -> 0.13941807 | P13: ='Delivery fee 3.99'!$K$102 -> 3.8046615 | Q13: ='Delivery fee 3.99'!$K$103 -> 0.012040094 | R13: ='Delivery fee 3.99'!X2 -> 1:shelfLife(3),deliveryDay(1),timeWindow(240),discount(0),delay(0),deliveryFeeInCents(399) (open from 8 to 20)
A14: 5.99 | B14: ='Delivery fee 5.99'!$D$102 -> 6281.12 | C14: ='Delivery fee 5.99'!$D$103 -> 231.96143 | D14: ='Delivery fee 5.99'!$E$102 -> 7351.61 | E14: ='Delivery fee 5.99'!$E$103 -> 268.98447 | F14: ='Delivery fee 5.99'!$F$102 -> 0.44974227 | G14: ='Delivery fee 5.99'!$F$103 -> 0.014325007 | H14: ='Delivery fee 5.99'!$G$102 -> -1.5613228 | I14: ='Delivery fee 5.99'!$G$103 -> 0.060769114 | J14: ='Delivery fee 5.99'!$H$102 -> -1.6267259 | K14: ='Delivery fee 5.99'!$H$103 -> 0.060659891 | L14: ='Delivery fee 5.99'!$I$102 -> 2.0991976 | M14: ='Delivery fee 5.99'!$I$103 -> 0.048086917 | N14: ='Delivery fee 5.99'!$J$102 -> 0.0014571397 | O14: ='Delivery fee 5.99'!$J$103 -> 0.0056915096 | P14: ='Delivery fee 5.99'!$K$102 -> 3.7594057 | Q14: ='Delivery fee 5.99'!$K$103 -> 0.013162683 | R14: ='Delivery fee 5.99'!X2 -> 1:shelfLife(3),deliveryDay(1),timeWindow(240),discount(0),delay(0),deliveryFeeInCents(599) (open from 8 to 20)
A15: 7.99 | B15: ='Delivery fee 7.99'!$D$102 -> 5370.85 | C15: ='Delivery fee 7.99'!$D$103 -> 231.01158 | D15: ='Delivery fee 7.99'!$E$102 -> 8261.98 | E15: ='Delivery fee 7.99'!$E$103 -> 284.32703 | F15: ='Delivery fee 7.99'!$F$102 -> 0.38091287 | G15: ='Delivery fee 7.99'!$F$103 -> 0.014790981 | H15: ='Delivery fee 7.99'!$G$102 -> -3.3821663 | I15: ='Delivery fee 7.99'!$G$103 -> 0.069151323 | J15: ='Delivery fee 7.99'!$H$102 -> -3.4707683 | K15: ='Delivery fee 7.99'!$H$103 -> 0.067067159 | L15: ='Delivery fee 7.99'!$I$102 -> 2.1313033 | M15: ='Delivery fee 7.99'!$I$103 -> 0.054077471 | N15: ='Delivery fee 7.99'!$J$102 -> 0 | O15: ='Delivery fee 7.99'!$J$103 -> 0 | P15: ='Delivery fee 7.99'!$K$102 -> 3.7469157 | Q15: ='Delivery fee 7.99'!$K$103 -> 0.012707368 | R15: ='Delivery fee 7.99'!X2 -> 1:shelfLife(3),deliveryDay(1),timeWindow(240),discount(0),delay(0),deliveryFeeInCents(799) (open from 8 to 20)
A16: 9.99 | B16: ='Delivery fee 9.99'!$D$102 -> 4614.98 | C16: ='Delivery fee 9.99'!$D$103 -> 208.18106 | D16: ='Delivery fee 9.99'!$E$102 -> 9018.05 | E16: ='Delivery fee 9.99'!$E$103 -> 292.15387 | F16: ='Delivery fee 9.99'!$F$102 -> 0.32104593 | G16: ='Delivery fee 9.99'!$F$103 -> 0.014431351 | H16: ='Delivery fee 9.99'!$G$102 -> -4.2456784 | I16: ='Delivery fee 9.99'!$G$103 -> 0.080225014 | J16: ='Delivery fee 9.99'!$H$102 -> -4.3415365 | K16: ='Delivery fee 9.99'!$H$103 -> 0.083626567 | L16: ='Delivery fee 9.99'!$I$102 -> 2.1877323 | M16: ='Delivery fee 9.99'!$I$103 -> 0.054230561 | N16: ='Delivery fee 9.99'!$J$102 -> 0 | O16: ='Delivery fee 9.99'!$J$103 -> 0 | P16: ='Delivery fee 9.99'!$K$102 -> 3.7328518 | Q16: ='Delivery fee 9.99'!$K$103 -> 0.013960114 | R16: ='Delivery fee 9.99'!X2 -> 1:shelfLife(3),deliveryDay(1),timeWindow(240),discount(0),delay(0),deliveryFeeInCents(999) (open from 8 to 20)
B17: Total Orders | D17: Lost Sales | F17: Remaining Customer Base | H17: Av.Utility (Expected) | J17: Av.Utility (Actual) | L17: Av.Distance | N17: Av.Delay | P17: Av.ShelfLife
A18: Delivery Day | B18: mean | C18: sd | D18: mean | E18: sd | F18: mean | G18: sd | H18: mean | I18: sd | J18: mean | K18: sd | L18: mean | M18: sd | N18: mean | O18: sd | P18: mean | Q18: sd
A19: 0 | B19: ='Delivery day 0'!$D$102 -> 6898.21 | C19: ='Delivery day 0'!$D$103 -> 252.11703 | D19: ='Delivery day 0'!$E$102 -> 6734.02 | E19: ='Delivery day 0'!$E$103 -> 243.80622 | F19: ='Delivery day 0'!$F$102 -> 0.48968453 | G19: ='Delivery day 0'!$F$103 -> 0.014262907 | H19: ='Delivery day 0'!$G$102 -> -1.4855289 | I19: ='Delivery day 0'!$G$103 -> 0.056500034 | J19: ='Delivery day 0'!$H$102 -> -1.5499764 | K19: ='Delivery day 0'!$H$103 -> 0.055557468 | L19: ='Delivery day 0'!$I$102 -> 2.2890806 | M19: ='Delivery day 0'!$I$103 -> 0.049731106 | N19: ='Delivery day 0'!$J$102 -> 0.016248507 | O19: ='Delivery day 0'!$J$103 -> 0.032702621 | P19: ='Delivery day 0'!$K$102 -> 3.8629547 | Q19: ='Delivery day 0'!$K$103 -> 0.01070448 | R19: ='Delivery day 0'!X2 -> 1:shelfLife(3),deliveryDay(0),timeWindow(240),discount(0),delay(0),deliveryFeeInCents(599) (open from 8 to 20)
A20: 1 | B20: ='Delivery day 1'!$D$102 -> 6281.12 | C20: ='Delivery day 1'!$D$103 -> 231.96143 | D20: ='Delivery day 1'!$E$102 -> 7351.61 | E20: ='Delivery day 1'!$E$103 -> 268.98447 | F20: ='Delivery day 1'!$F$102 -> 0.44974227 | G20: ='Delivery day 1'!$F$103 -> 0.014325007 | H20: ='Delivery day 1'!$G$102 -> -1.5613228 | I20: ='Delivery day 1'!$G$103 -> 0.060769114 | J20: ='Delivery day 1'!$H$102 -> -1.6267259 | K20: ='Delivery day 1'!$H$103 -> 0.060659891 | L20: ='Delivery day 1'!$I$102 -> 2.0991976 | M20: ='Delivery day 1'!$I$103 -> 0.048086917 | N20: ='Delivery day 1'!$J$102 -> 0.0014571397 | O20: ='Delivery day 1'!$J$103 -> 0.0056915096 | P20: ='Delivery day 1'!$K$102 -> 3.7594057 | Q20: ='Delivery day 1'!$K$103 -> 0.013162683 | R20: ='Delivery day 1'!X2 -> 1:shelfLife(3),deliveryDay(1),timeWindow(240),discount(0),delay(0),deliveryFeeInCents(599) (open from 8 to 20)
A21: 2 | B21: ='Delivery day 2'!$D$102 -> 6083.1 | C21: ='Delivery day 2'!$D$103 -> 230.05904 | D21: ='Delivery day 2'!$E$102 -> 7549.59 | E21: ='Delivery day 2'!$E$103 -> 254.74916 | F21: ='Delivery day 2'!$F$102 -> 0.44022571 | G21: ='Delivery day 2'!$F$103 -> 0.013606699 | H21: ='Delivery day 2'!$G$102 -> -2.2638448 | I21: ='Delivery day 2'!$G$103 -> 0.072343403 | J21: ='Delivery day 2'!$H$102 -> -2.3059655 | K21: ='Delivery day 2'!$H$103 -> 0.072511316 | L21: ='Delivery day 2'!$I$102 -> 2.0905756 | M21: ='Delivery day 2'!$I$103 -> 0.049459553 | N21: ='Delivery day 2'!$J$102 -> 6.478819e-05 | O21: ='Delivery day 2'!$J$103 -> 0.00064787607 | P21: ='Delivery day 2'!$K$102 -> 3.7619374 | Q21: ='Delivery day 2'!$K$103 -> 0.014182529 | R21: ='Delivery day 2'!X2 -> 1:shelfLife(3),deliveryDay(2),timeWindow(240),discount(0),delay(0),deliveryFeeInCents(599) (open from 8 to 20)
A22: 3 | B22: ='Delivery day 3'!$D$102 -> 5473.34 | C22: ='Delivery day 3'!$D$103 -> 216.34 | D22: ='Delivery day 3'!$E$102 -> 8159.39 | E22: ='Delivery day 3'!$E$103 -> 276.91219 | F22: ='Delivery day 3'!$F$102 -> 0.39037618 | G22: ='Delivery day 3'!$F$103 -> 0.013924789 | H22: ='Delivery day 3'!$G$102 -> -2.6543822 | I22: ='Delivery day 3'!$G$103 -> 0.070817698 | J22: ='Delivery day 3'!$H$102 -> -2.7289071 | K22: ='Delivery day 3'!$H$103 -> 0.072064259 | L22: ='Delivery day 3'!$I$102 -> 2.1125235 | M22: ='Delivery day 3'!$I$103 -> 0.051065514 | N22: ='Delivery day 3'!$J$102 -> 4.7465767e-10 | O22: ='Delivery day 3'!$J$103 -> 3.3630813e-09 | P22: ='Delivery day 3'!$K$102 -> 3.7506831 | Q22: ='Delivery day 3'!$K$103 -> 0.014883405 | R22: ='Delivery day 3'!X2 -> 1:shelfLife(3),deliveryDay(3),timeWindow(240),discount(0),delay(0),deliveryFeeInCents(599) (open from 8 to 20)
B23: Total Orders | D23: Lost Sales | F23: Remaining Customer Base | H23: Av.Utility (Expected) | J23: Av.Utility (Actual) | L23: Av.Distance | N23: Av.Delay | P23: Av.ShelfLife
A24: Time Window | B24: mean | C24: sd | D24: mean | E24: sd | F24: mean | G24: sd | H24: mean | I24: sd | J24: mean | K24: sd | L24: mean | M24: sd | N24: mean | O24: sd | P24: mean | Q24: sd
A25: 0 | B25: ='Time Window 0'!$D$102 -> 6471.29 | C25: ='Time Window 0'!$D$103 -> 215.15723 | D25: ='Time Window 0'!$E$102 -> 7162.08 | E25: ='Time Window 0'!$E$103 -> 250.26017 | F25: ='Time Window 0'!$F$102 -> 0.44346658 | G25: ='Time Window 0'!$F$103 -> 0.013072945 | H25: ='Time Window 0'!$G$102 -> -1.1751492 | I25: ='Time Window 0'!$G$103 -> 0.067117344 | J25: ='Time Window 0'!$H$102 -> -1.2868302 | K25: ='Time Window 0'!$H$103 -> 0.062200114 | L25: ='Time Window 0'!$I$102 -> 3.8866619 | M25: ='Time Window 0'!$I$103 -> 0.099291611 | N25: ='Time Window 0'!$J$102 -> 31.276333 | O25: ='Time Window 0'!$J$103 -> 2.1560845 | P25: ='Time Window 0'!$K$102 -> 3.9047849 | Q25: ='Time Window 0'!$K$103 -> 0.010510085 | R25: ='Time Window 0'!X2 -> 1:shelfLife(3),deliveryDay(1),timeWindow(0),discount(0),delay(0),deliveryFeeInCents(599) (open from 8 to 20)
A26: 120 | B26: ='Time Window 120'!$D$102 -> 7108.46 | C26: ='Time Window 120'!$D$103 -> 240.52864 | D26: ='Time Window 120'!$E$102 -> 6524.91 | E26: ='Time Window 120'!$E$103 -> 252.11838 | F26: ='Time Window 120'!$F$102 -> 0.49373496 | G26: ='Time Window 120'!$F$103 -> 0.013440286 | H26: ='Time Window 120'!$G$102 -> -1.1435606 | I26: ='Time Window 120'!$G$103 -> 0.047935962 | J26: ='Time Window 120'!$H$102 -> -1.2560362 | K26: ='Time Window 120'!$H$103 -> 0.044984377 | L26: ='Time Window 120'!$I$102 -> 2.7061568 | M26: ='Time Window 120'!$I$103 -> 0.074620587 | N26: ='Time Window 120'!$J$102 -> 1.17311 | O26: ='Time Window 120'!$J$103 -> 0.53324608 | P26: ='Time Window 120'!$K$102 -> 3.8537674 | Q26: ='Time Window 120'!$K$103 -> 0.012378408 | R26: ='Time Window 120'!X2 -> 1:shelfLife(3),deliveryDay(1),timeWindow(120),discount(0),delay(0),deliveryFeeInCents(599) (open from 8 to 20)
A27: 240 | B27: ='Time Window 240'!$D$102 -> 6281.12 | C27: ='Time Window 240'!$D$103 -> 231.96143 | D27: ='Time Window 240'!$E$102 -> 7351.61 | E27: ='Time Window 240'!$E$103 -> 268.98447 | F27: ='Time Window 240'!$F$102 -> 0.44974227 | G27: ='Time Window 240'!$F$103 -> 0.014325007 | H27: ='Time Window 240'!$G$102 -> -1.5613228 | I27: ='Time Window 240'!$G$103 -> 0.060769114 | J27: ='Time Window 240'!$H$102 -> -1.6267259 | K27: ='Time Window 240'!$H$103 -> 0.060659891 | L27: ='Time Window 240'!$I$102 -> 2.0991976 | M27: ='Time Window 240'!$I$103 -> 0.048086917 | N27: ='Time Window 240'!$J$102 -> 0.0014571397 | O27: ='Time Window 240'!$J$103 -> 0.0056915096 | P27: ='Time Window 240'!$K$102 -> 3.7594057 | Q27: ='Time Window 240'!$K$103 -> 0.013162683 | R27: ='Time Window 240'!X2 -> 1:shelfLife(3),deliveryDay(1),timeWindow(240),discount(0),delay(0),deliveryFeeInCents(599) (open from 8 to 20)
A28: 360 | B28: ='Time Window 360'!$D$102 -> 5406.09 | C28: ='Time Window 360'!$D$103 -> 218.66944 | D28: ='Time Window 360'!$E$102 -> 8221.59 | E28: ='Time Window 360'!$E$103 -> 271.90072 | F28: ='Time Window 360'!$F$102 -> 0.38459959 | G28: ='Time Window 360'!$F$103 -> 0.014453554 | H28: ='Time Window 360'!$G$102 -> -3.1599393 | I28: ='Time Window 360'!$G$103 -> 0.062392551 | J28: ='Time Window 360'!$H$102 -> -3.2501202 | K28: ='Time Window 360'!$H$103 -> 0.062473 | L28: ='Time Window 360'!$I$102 -> 1.8654594 | M28: ='Time Window 360'!$I$103 -> 0.049530957 | N28: ='Time Window 360'!$J$102 -> 0 | O28: ='Time Window 360'!$J$103 -> 0 | P28: ='Time Window 360'!$K$102 -> 3.7217867 | Q28: ='Time Window 360'!$K$103 -> 0.014537823 | R28: ='Time Window 360'!X2 -> 1:shelfLife(3),deliveryDay(1),timeWindow(360),discount(0),delay(0),deliveryFeeInCents(599) (open from 8 to 20)
A29: 480 | B29: ='Time Window 480'!$D$102 -> 5271.31 | C29: ='Time Window 480'!$D$103 -> 230.61038 | D29: ='Time Window 480'!$E$102 -> 8349.63 | E29: ='Time Window 480'!$E$103 -> 273.34585 | F29: ='Time Window 480'!$F$102 -> 0.3769174 | G29: ='Time Window 480'!$F$103 -> 0.014596117 | H29: ='Time Window 480'!$G$102 -> -2.8282486 | I29: ='Time Window 480'!$G$103 -> 0.096924302 | J29: ='Time Window 480'!$H$102 -> -2.8979369 | K29: ='Time Window 480'!$H$103 -> 0.09877088 | L29: ='Time Window 480'!$I$102 -> 1.7344665 | M29: ='Time Window 480'!$I$103 -> 0.047168729 | N29: ='Time Window 480'!$J$102 -> 0 | O29: ='Time Window 480'!$J$103 -> 0 | P29: ='Time Window 480'!$K$102 -> 3.7112046 | Q29: ='Time Window 480'!$K$103 -> 0.013883314 | R29: ='Time Window 480'!X2 -> 1:shelfLife(3),deliveryDay(1),timeWindow(480),discount(0),delay(0),deliveryFeeInCents(599) (open from 8 to 20)
B30: Total Orders | D30: Lost Sales | F30: Remaining Customer Base | H30: Av.Utility (Expected) | J30: Av.Utility (Actual) | L30: Av.Distance | N30: Av.Delay | P30: Av.ShelfLife
A31: Delivery Period | B31: mean | C31: sd | D31: mean | E31: sd | F31: mean | G31: sd | H31: mean | I31: sd | J31: mean | K31: sd | L31: mean | M31: sd | N31: mean | O31: sd | P31: mean | Q31: sd
A32: 12 hours | B32: ='12 hours'!$D$102 -> 6281.12 | C32: ='12 hours'!$D$103 -> 231.96143 | D32: ='12 hours'!$E$102 -> 7351.61 | E32: ='12 hours'!$E$103 -> 268.98447 | F32: ='12 hours'!$F$102 -> 0.44974227 | G32: ='12 hours'!$F$103 -> 0.014325007 | H32: ='12 hours'!$G$102 -> -1.5613228 | I32: ='12 hours'!$G$103 -> 0.060769114 | J32: ='12 hours'!$H$102 -> -1.6267259 | K32: ='12 hours'!$H$103 -> 0.060659891 | L32: ='12 hours'!$I$102 -> 2.0991976 | M32: ='12 hours'!$I$103 -> 0.048086917 | N32: ='12 hours'!$J$102 -> 0.0014571397 | O32: ='12 hours'!$J$103 -> 0.0056915096 | P32: ='12 hours'!$K$102 -> 3.7594057 | Q32: ='12 hours'!$K$103 -> 0.013162683 | R32: ='12 hours'!X2 -> 1:shelfLife(3),deliveryDay(1),timeWindow(240),discount(0),delay(0),deliveryFeeInCents(599) (open from 8 to 20)
A33: 24 hours | B33: ='24 hours'!$D$102 -> 6697.25 | C33: ='24 hours'!$D$103 -> 234.81815 | D33: ='24 hours'!$E$102 -> 6934.85 | E33: ='24 hours'!$E$103 -> 257.06849 | F33: ='24 hours'!$F$102 -> 0.47892293 | G33: ='24 hours'!$F$103 -> 0.014317447 | H33: ='24 hours'!$G$102 -> -1.521633 | I33: ='24 hours'!$G$103 -> 0.060829273 | J33: ='24 hours'!$H$102 -> -1.5929952 | K33: ='24 hours'!$H$103 -> 0.06203394 | L33: ='24 hours'!$I$102 -> 2.137626 | M33: ='24 hours'!$I$103 -> 0.046136869 | N33: ='24 hours'!$J$102 -> 0 | O33: ='24 hours'!$J$103 -> 0 | P33: ='24 hours'!$K$102 -> 3.848152 | Q33: ='24 hours'!$K$103 -> 0.013521627 | R33: ='24 hours'!X2 -> 1:shelfLife(3),deliveryDay(1),timeWindow(240),discount(0),delay(0),deliveryFeeInCents(599) (open from 0 to 24)
B34: Total Orders | D34: Lost Sales | F34: Remaining Customer Base | H34: Av.Utility (Expected) | J34: Av.Utility (Actual) | L34: Av.Distance | N34: Av.Delay | P34: Av.ShelfLife
A35: Offers | B35: mean | C35: sd | D35: mean | E35: sd | F35: mean | G35: sd | H35: mean | I35: sd | J35: mean | K35: sd | L35: mean | M35: sd | N35: mean | O35: sd | P35: mean | Q35: sd
A36: 1 offer | B36: =B6 -> 6281.12 | C36: =C6 -> 231.96143 | D36: =D6 -> 7351.61 | E36: =E6 -> 268.98447 | F36: =F6 -> 0.44974227 | G36: =G6 -> 0.014325007 | H36: =H6 -> -1.5613228 | I36: =I6 -> 0.060769114 | ... R36: =R6 -> 1:shelfLife(3),deliveryDay(1),timeWindow(240),discount(0),delay(0),deliveryFeeInCents(599) (open from 8 to 20)
A37: 3 offers | B37: =Combined!$D$102 -> 7870.82 | C37: =Combined!$D$103 -> 276.22511 | D37: =Combined!$E$102 -> 5759.19 | E37: =Combined!$E$103 -> 247.08362 | F37: =Combined!$F$102 -> 0.55342564 | G37: =Combined!$F$103 -> 0.015059096 | H37: =Combined!$G$102 -> -0.10528747 | I37: =Combined!$G$103 -> 0.065300194 | J37: =Combined!$H$102 -> -0.21232413 | K37: =Combined!$H$103 -> 0.065003172 | L37: =Combined!$I$102 -> 2.0816085 | M37: =Combined!$I$103 -> 0.062191111 | N37: =Combined!$J$102 -> 0.0016826569 | O37: =Combined!$J$103 -> 0.0065429088 | P37: =Combined!$K$102 -> 3.8142478 | Q37: =Combined!$K$103 -> 0.012004959 | R37: =Combined!X2 -> 1:shelfLife(3),deliveryDay(1),timeWindow(240),discount(0),delay(0),deliveryFeeInCents(599) (open from 8 to 20)/2:shelfLife(3),deliveryDay(1),timeWindow(360),discount(0),delay(0),deliveryFeeInCents(399) (open from 8 to 20)/3:shelfLife(3),deliveryDay(0),timeWindow(120),discount(0),delay(0),deliveryFeeInCents(799) (open from 8 to 20)/
B38: Total Orders | D38: Lost Sales | F38: Remaining Customer Base | H38: Av.Utility (Expected) | J38: Av.Utility (Actual) | L38: Av.Distance | N38: Av.Delay | P38: Av.ShelfLife
A39: Discount | B39: mean | C39: sd | D39: mean | E39: sd | F39: mean | G39: sd | H39: mean | I39: sd | J39: mean | K39: sd | L39: mean | M39: sd | N39: mean | O39: sd | P39: mean | Q39: sd
A40: 0 | B40: ='Discount 0'!$D$102 -> 6281.12 | C40: ='Discount 0'!$D$103 -> 231.96143 | D40: ='Discount 0'!$E$102 -> 7351.61 | E40: ='Discount 0'!$E$103 -> 268.98447 | F40: ='Discount 0'!$F$102 -> 0.44974227 | G40: ='Discount 0'!$F$103 -> 0.014325007 | H40: ='Discount 0'!$G$102 -> -1.5613228 | I40: ='Discount 0'!$G$103 -> 0.060769114 | J40: ='Discount 0'!$H$102 -> -1.6267259 | K40: ='Discount 0'!$H$103 -> 0.060659891 | L40: ='Discount 0'!$I$102 -> 2.0991976 | M40: ='Discount 0'!$I$103 -> 0.048086917 | N40: ='Discount 0'!$J$102 -> 0.0014571397 | O40: ='Discount 0'!$J$103 -> 0.0056915096 | P40: ='Discount 0'!$K$102 -> 3.7594057 | Q40: ='Discount 0'!$K$103 -> 0.013162683 | R40: ='Discount 0'!X2 -> 1:shelfLife(3),deliveryDay(1),timeWindow(240),discount(0),delay(0),deliveryFeeInCents(599) (open from 8 to 20)
...

Sheet Shelf life 0
A1: Run | B1: Seed | C1: runTime | D1: OrdersFulfilled | E1: TotalLostSales | F1: RemainingCustomerBase | G1: AvExpUtil | H1: AvActUtil | I1: AvDistance | J1: AvDelay | K1: AvShelfLife | L1: avVehUtil | M1: foodWaste | N1: gapUtility | O1: lostSaleOffer | P1: lostSaleTW | Q1: totalInterest | R1: totalKm | S1: totalDelay | T1: totalExpUtil | U1: totalActUtil | V1: ordersPlaced | W1: stockouts | X1: service
A2: 1 | B2: 515711404 | C2: 1182.707 | D2: 4764 | E2: 9037 | F2: 0.34111363 | G2: -2.6798485 | H2: -2.4031194 | I2: 2.0679959 | J2: 0 | K2: 2.4333147 | L2: 0.30996034 | M2: 7254 | N2: 1318.3373 | O2: 8194 | P2: 843 | Q2: 13801 | R2: 9851.9327 | S2: 0 | T2: -12766.798 | U2: -11448.461 | V2: 4764 | W2: 0 | X2: 1:shelfLife(0),deliveryDay(1),timeWindow(240),discount(0),delay(0),deliveryFeeInCents(599) (open from 8 to 20)
A3: 21 | B3: -470406801 | C3: 1509.695 | D3: 4842 | E3: 8629 | F3: 0.36520076 | G3: -2.675619 | H3: -2.3550108 | I3: 2.0074351 | J3: 0 | K3: 2.5136626 | L3: 0.28397457 | M3: 7095 | N3: 1552.3851 | O3: 7753 | P3: 876 | Q3: 13471 | R3: 9720.0008 | S3: 0 | T3: -12955.347 | U3: -11402.962 | V3: 4842 | W3: 0 | X3: 1:shelfLife(0),deliveryDay(1),timeWindow(240),discount(0),delay(0),deliveryFeeInCents(599) (open from 8 to 20)
A4: 81 | B4: -1730322955 | C4: 1706.887 | D4: 5050 | E4: 8452 | F4: 0.36935413 | G4: -2.7272638 | H4: -2.4658288 | I4: 2.1011471 | J4: 0 | K4: 2.4127433 | L4: 0.31035741 | M4: 6903 | N4: 1320.2469 | O4: 7702 | P4: 750 | Q4: 13502 | R4: 10610.793 | S4: 0 | T4: -13772.682 | U4: -12452.435 | V4: 5050 | W4: 0 | X4: 1:shelfLife(0),deliveryDay(1),timeWindow(240),discount(0),delay(0),deliveryFeeInCents(599) (open from 8 to 20)
A5: 61 | B5: 702795945 | C5: 1935.941 | D5: 5187 | E5: 8533 | F5: 0.37515528 | G5: -2.5932352 | H5: -2.3460821 | I5: 1.9962693 | J5: 0 | K5: 2.4890142 | L5: 0.29640649 | M5: 6850 | N5: 1281.9829 | O5: 8079 | P5: 454 | Q5: 13721 | R5: 10354.649 | S5: 0 | T5: -13451.111 | U5: -12169.128 | V5: 5188 | W5: 0 | X5: 1:shelfLife(0),deliveryDay(1),timeWindow(240),discount(0),delay(0),deliveryFeeInCents(599) (open from 8 to 20)
A6: 41 | B6: 761480347 | C6: 2262.227 | D6: 5215 | E6: 8393 | F6: 0.38281993 | G6: -2.5381662 | H6: -2.2506212 | I6: 2.0332644 | J6: 0 | K6: 2.4838411 | L6: 0.31154042 | M6: 6858 | N6: 1499.5475 | O6: 7460 | P6: 933 | Q6: 13610 | R6: 10603.474 | S6: 0 | T6: -13236.537 | U6: -11736.989 | V6: 5217 | W6: 0 | X6: 1:shelfLife(0),deliveryDay(1),timeWindow(240),discount(0),delay(0),deliveryFeeInCents(599) (open from 8 to 20)
A7: 2 | B7: 382434788 | C7: 1165.938 | D7: 4847 | E7: 8533 | F7: 0.36476483 | G7: -2.6068558 | H7: -2.3334642 | I7: 2.0855842 | J7: 0 | K7: 2.4397449 | L7: 0.28737086 | M7: 6943 | N7: 1325.1292 | O7: 7658 | P7: 875 | Q7: 13381 | R7: 10108.827 | S7: 0 | T7: -12635.43 | U7: -11310.301 | V7: 4848 | W7: 0 | X7: 1:shelfLife(0),deliveryDay(1),timeWindow(240),discount(0),delay(0),deliveryFeeInCents(599) (open from 8 to 20)
A8: 22 | B8: -777409062 | C8: 1537.588 | D8: 4962 | E8: 8773 | F8: 0.36010249 | G8: -2.7044326 | H8: -2.4337419 | I8: 1.9973729 | J8: 0 | K8: 2.4858122 | L8: 0.29423234 | M8: 7038 | N8: 1343.1675 | O8: 7992 | P8: 781 | Q8: 13737 | R8: 9910.9642 | S8: 0 | T8: -13419.395 | U8: -12076.227 | V8: 4964 | W8: 0 | X8: 1:shelfLife(0),deliveryDay(1),timeWindow(240),discount(0),delay(0),deliveryFeeInCents(599) (open from 8 to 20)
A9: 82 | B9: -352012795 | C9: 1391.348 | D9: 5029 | E9: 8416 | F9: 0.37208103 | G9: -2.4740467 | H9: -2.2068041 | I9: 2.0614006 | J9: 0 | K9: 2.4889358 | L9: 0.29613131 | M9: 6910 | N9: 1343.9633 | O9: 7509 | P9: 907 | Q9: 13446 | R9: 10366.784 | S9: 0 | T9: -12441.981 | U9: -11098.018 | V9: 5030 | W9: 0 | X9: 1:shelfLife(0),deliveryDay(1),timeWindow(240),discount(0),delay(0),deliveryFeeInCents(599) (open from 8 to 20)
A10: 62 | B10: -557000124 | C10: 1494.143 | D10: 5181 | E10: 8462 | F10: 0.37912526 | G10: -2.6666312 | H10: -2.3582205 | I10: 2.0049117 | J10: 0 | K10: 2.5062509 | L10: 0.33354252 | M10: 6953 | N10: 1597.8755 | O10: 7741 | P10: 721 | Q10: 13644 | R10: 10387.448 | S10: 0 | T10: -13815.816 | U10: -12217.94 | V10: 5182 | W10: 0 | X10: 1:shelfLife(0),deliveryDay(1),timeWindow(240),discount(0),delay(0),deliveryFeeInCents(599) (open from 8 to 20)
A11: 3 | B11: 2141997007 | C11: 1209.419 | D11: 4740 | E11: 8768 | F11: 0.36149225 | G11: -2.6448497 | H11: -2.3924365 | I11: 2.027975 | J11: 0 | K11: 2.4897857 | L11: 0.29635451 | M11: 7109 | N11: 1196.4389 | O11: 7887 | P11: 881 | Q11: 13508 | R11: 9612.6017 | S11: 0 | T11: -12536.588 | U11: -11340.149 | V11: 4740 | W11: 0 | X11: 1:shelfLife(0),deliveryDay(1),timeWindow(240),discount(0),delay(0),deliveryFeeInCents(599) (open from 8 to 20)
A12: 42 | B12: 1585358012 | C12: 1753.705 | D12: 5116 | E12: 8581 | F12: 0.37232879 | G12: -2.7986 | H12: -2.5442777 | I12: 2.0391157 | J12: 0 | K12: 2.4356186 | L12: 0.30029478 | M12: 6924 | N12: 1301.1129 | O12: 7737 | P12: 844 | Q12: 13697 | R12: 10432.116 | S12: 0 | T12: -14317.638 | U12: -13016.525 | V12: 5116 | W12: 0 | X12: 1:shelfLife(0),deliveryDay(1),timeWindow(240),discount(0),delay(0),deliveryFeeInCents(599) (open from 8 to 20)
A13: 63 | B13: 624355429 | C13: 1173.968 | D13: 4897 | E13: 8952 | F13: 0.34944075 | G13: -2.6520551 | H13: -2.4097367 | I13: 1.9737722 | J13: 0 | K13: 2.4762353 | L13: 0.31571485 | M13: 7133 | N13: 1186.6332 | O13: 8034 | P13: 918 | Q13: 13850 | R13: 9665.5623 | S13: 0 | T13: -12987.114 | U13: -11800.48 | V13: 4898 | W13: 0 | X13: 1:shelfLife(0),deliveryDay(1),timeWindow(240),discount(0),delay(0),deliveryFeeInCents(599) (open from 8 to 20)
... A101: 100 | B101: -1988436389 | C101: 958.425 | D101: 4517 | E101: 8618 | F101: 0.34558824 | G101: -2.7602136 | H101: -2.4302078 | I101: 2.1207354 | J101: 0 | K101: 2.4101457 | L101: 0.29404559 | M101: 7182 | N101: 1490.636 | O101: 7841 | P101: 777 | Q101: 13135 | R101: 9579.3617 | S101: 0 | T101: -12467.885 | U101: -10977.249 | V101: 4517 | W101: 0 | X101: 1:shelfLife(0),deliveryDay(1),timeWindow(240),discount(0),delay(0),deliveryFeeInCents(599) (open from 8 to 20)
B102: Mean | C102: =AVERAGE(C2:C101) -> 1481.7886 | D102: =AVERAGE(D2:D101) -> 4950.21 | E102: =AVERAGE(E2:E101) -> 8682.51 | F102: =AVERAGE(F2:F101) -> 0.36272977 | G102: =AVERAGE(G2:G101) -> -2.6621519 | H102: =AVERAGE(H2:H101) -> -2.3927154 | I102: =AVERAGE(I2:I101) -> 2.0540643 | J102: =AVERAGE(J2:J101) -> 5.3507279e-10 | ... W102: =AVERAGE(W2:W101) -> 0
B103: SD | C103: =STDEVA(C2:C101) -> 249.44727 | D103: =STDEVA(D2:D101) -> 222.36989 | E103: =STDEVA(E2:E101) -> 279.15379 | F103: =STDEVA(F2:F101) -> 0.013980122 | G103: =STDEVA(G2:G101) -> 0.077878778 | H103: =STDEVA(H2:H101) -> 0.079671608 | I103: =STDEVA(I2:I101) -> 0.054480852 | J103: =STDEVA(J2:J101) -> 5.3507279e-09 | ... W103: =STDEVA(W2:W101) -> 0

Sheet Shelf life 1
A1: Run | B1: Seed | C1: runTime | D1: OrdersFulfilled | E1: TotalLostSales | F1: RemainingCustomerBase | G1: AvExpUtil | H1: AvActUtil | I1: AvDistance | J1: AvDelay | K1: AvShelfLife | L1: avVehUtil | M1: foodWaste | N1: gapUtility | O1: lostSaleOffer | P1: lostSaleTW | Q1: totalInterest | R1: totalKm | S1: totalDelay | T1: totalExpUtil | U1: totalActUtil | V1: ordersPlaced | W1: stockouts | X1: service
A2: 21 | B2: -470406801 | C2: 1497.147 | D2: 5100 | E2: 8370 | F2: 0.37902633 | G2: -2.3586213 | H2: -2.1696589 | I2: 2.0568273 | J2: 0 | K2: 2.8706664 | L2: 0.30778602 | M2: 6917 | N2: 963.70837 | O2: 7494 | P2: 876 | Q2: 13471 | R2: 10489.819 | S2: 0 | T2: -12028.969 | U2: -11065.26 | V2: 5101 | W2: 0 | X2: 1:shelfLife(1),deliveryDay(1),timeWindow(240),discount(0),delay(0),deliveryFeeInCents(599) (open from 8 to 20)
A3: 1 | B3: 515711404 | C3: 1573.794 | D3: 5022 | E3: 8779 | F3: 0.35552791 | G3: -2.3694497 | H3: -2.1876694 | I3: 2.0953349 | J3: 0 | K3: 2.8706935 | L3: 0.31237603 | M3: 7067 | N3: 912.90085 | O3: 7936 | P3: 843 | Q3: 13801 | R3: 10522.772 | S3: 0 | T3: -11899.376 | U3: -10986.476 | V3: 5022 | W3: 0 | X3: 1:shelfLife(1),deliveryDay(1),timeWindow(240),discount(0),delay(0),deliveryFeeInCents(599) (open from 8 to 20)
A4: 81 | B4: -1730322955 | C4: 1736.143 | D4: 5262 | E4: 8240 | F4: 0.38693541 | G4: -2.2984546 | H4: -2.1333258 | I4: 2.1268668 | J4: 0 | K4: 2.8645899 | L4: 0.30319189 | M4: 6760 | N4: 868.90738 | O4: 7490 | P4: 750 | Q4: 13502 | R4: 11191.573 | S4: 0 | T4: -12094.468 | U4: -11225.561 | V4: 5262 | W4: 0 | X4: 1:shelfLife(1),deliveryDay(1),timeWindow(240),discount(0),delay(0),deliveryFeeInCents(599) (open from 8 to 20)
A5: 41 | B5: 761480347 | C5: 1734.628 | D5: 5456 | E5: 8153 | F5: 0.39635619 | G5: -2.2594132 | H5: -2.0709275 | I5: 2.0390806 | J5: 0 | K5: 2.8044769 | L5: 0.35332663 | M5: 6687 | N5: 1028.3778 | O5: 7220 | P5: 933 | Q5: 13610 | R5: 11125.224 | S5: 0 | T5: -12327.358 | U5: -11298.98 | V5: 5457 | W5: 0 | X5: 1:shelfLife(1),deliveryDay(1),timeWindow(240),discount(0),delay(0),deliveryFeeInCents(599) (open from 8 to 20)
A6: 61 | B6: 702795945 | C6: 1885.682 | D6: 5362 | E6: 8359 | F6: 0.38377786 | G6: -2.1893569 | H6: -2.0146326 | I6: 2.0357804 | J6: 0 | K6: 2.9036125 | L6: 0.30890602 | M6: 6760 | N6: 936.87193 | O6: 7905 | P6: 454 | Q6: 13721 | R6: 10915.854 | S6: 0 | T6: -11739.332 | U6: -10802.46 | V6: 5362 | W6: 0 | X6: 1:shelfLife(1),deliveryDay(1),timeWindow(240),discount(0),delay(0),deliveryFeeInCents(599) (open from 8 to 20)
A7: 2 | B7: 382434788 | C7: 1474.286 | D7: 5076 | E7: 8303 | F7: 0.37837434 | G7: -2.2036556 | H7: -2.0221269 | I7: 2.1109838 | J7: 0 | K7: 2.8444979 | L7: 0.29960945 | M7: 6774 | N7: 921.43982 | O7: 7428 | P7: 875 | Q7: 13381 | R7: 10715.354 | S7: 0 | T7: -11185.756 | U7: -10264.316 | V7: 5078 | W7: 0 | X7: 1:shelfLife(1),deliveryDay(1),timeWindow(240),discount(0),delay(0),deliveryFeeInCents(599) (open from 8 to 20)
A8: 22 | B8: -777409062 | C8: 1707.321 | D8: 5128 | E8: 8608 | F8: 0.3681552 | G8: -2.3549875 | H8: -2.1820261 | I8: 2.02445 | J8: 0 | K8: 2.8445314 | L8: 0.30188809 | M8: 6952 | N8: 886.94632 | O8: 7827 | P8: 781 | Q8: 13737 | R8: 10381.38 | S8: 0 | T8: -12076.376 | U8: -11189.43 | V8: 5129 | W8: 0 | X8: 1:shelfLife(1),deliveryDay(1),timeWindow(240),discount(0),delay(0),deliveryFeeInCents(599) (open from 8 to 20)
A9: 82 | B9: -352012795 | C9: 1553.079 | D9: 5157 | E9: 8289 | F9: 0.37664825 | G9: -2.0723917 | H9: -1.9035617 | I9: 2.1217508 | J9: 0 | K9: 2.8670152 | L9: 0.30830802 | M9: 6873 | N9: 870.65642 | O9: 7382 | P9: 907 | Q9: 13446 | R9: 10941.869 | S9: 0 | T9: -10687.324 | U9: -9816.6678 | V9: 5157 | W9: 0 | X9: 1:shelfLife(1),deliveryDay(1),timeWindow(240),discount(0),delay(0),deliveryFeeInCents(599) (open from 8 to 20)
A10: 42 | B10: 1585358012 | C10: 1692.267 | D10: 5513 | E10: 8184 | F10: 0.39654292 | G10: -2.4789933 | H10: -2.2904666 | I10: 2.0438188 | J10: 0 | K10: 2.8397549 | L10: 0.32552913 | M10: 6650 | N10: 1039.3477 | O10: 7340 | P10: 844 | Q10: 13697 | R10: 11267.573 | S10: 0 | T10: -13666.69 | U10: -12627.343 | V10: 5513 | W10: 0 | X10: 1:shelfLife(1),deliveryDay(1),timeWindow(240),discount(0),delay(0),deliveryFeeInCents(599) (open from 8 to 20)
A11: 62 | B11: -557000124 | C11: 1742.003 | D11: 5361 | E11: 8282 | F11: 0.3884819 | G11: -2.2717621 | H11: -2.0937054 | I11: 2.0481482 | J11: 0 | K11: 2.8760015 | L11: 0.32321318 | M11: 6862 | N11: 954.56202 | O11: 7561 | P11: 721 | Q11: 13644 | R11: 10980.122 | S11: 0 | T11: -12178.917 | U11: -11224.355 | V11: 5362 | W11: 0 | X11: 1:shelfLife(1),deliveryDay(1),timeWindow(240),discount(0),delay(0),deliveryFeeInCents(599) (open from 8 to 20)
A12: 3 | B12: 2141997007 | C12: 1454.255 | D12: 5070 | E12: 8437 | F12: 0.37951494 | G12: -2.2955448 | H12: -2.1338456 | I12: 2.0320118 | J12: 0 | K12: 2.8930065 | L12: 0.31796585 | M12: 6881 | N12: 819.815 | O12: 7556 | P12: 881 | Q12: 13508 | R12: 10302.3 | S12: 0 | T12: -11638.412 | U12: -10818.597 | V12: 5071 | W12: 0 | X12: 1:shelfLife(1),deliveryDay(1),timeWindow(240),discount(0),delay(0),deliveryFeeInCents(599) (open from 8 to 20)
A13: 43 | B13: 1471829688 | C13: 1524.627 | D13: 5438 | E13: 8511 | F13: 0.38261311 | G13: -2.3189532 | H13: -2.1383352 | I13: 2.004163 | J13: 0 | K13: 2.842413 | L13: 0.34263697 | M13: 6790 | N13: 982.20083 | O13: 7768 | P13: 743 | Q13: 13951 | R13: 10898.638 | S13: 0 | T13: -12610.467 | U13: -11628.267 | V13: 5440 | W13: 0 | X13: 1:shelfLife(1),deliveryDay(1),timeWindow(240),discount(0),delay(0),deliveryFeeInCents(599) (open from 8 to 20)
... A101: 20 | B101: 1882698207 | C101: 1786.212 | D101: 5523 | E101: 8417 | F101: 0.39166608 | G101: -2.3319454 | H101: -2.1343522 | I101: 2.0106108 | J101: 0 | K101: 2.866478 | L101: 0.33628049 | M101: 7047 | N101: 1091.3074 | O101: 7457 | P101: 960 | Q101: 13942 | R101: 11104.604 | S101: 0 | T101: -12879.335 | U101: -11788.027 | V101: 5525 | W101: 0 | X101: 1:shelfLife(1),deliveryDay(1),timeWindow(240),discount(0),delay(0),deliveryFeeInCents(599) (open from 8 to 20)
B102: Mean | C102: =AVERAGE(C2:C101) -> 1570.7558 | D102: =AVERAGE(D2:D101) -> 5190.41 | E102: =AVERAGE(E2:E101) -> 8442.32 | F102: =AVERAGE(F2:F101) -> 0.37585288 | G102: =AVERAGE(G2:G101) -> -2.2913752 | H102: =AVERAGE(H2:H101) -> -2.1179952 | I102: =AVERAGE(I2:I101) -> 2.072324 | J102: =AVERAGE(J2:J101) -> 1.7318663e-09 | ... W102: =AVERAGE(W2:W101) -> 0
B103: SD | C103: =STDEVA(C2:C101) -> 220.11475 | D103: =STDEVA(D2:D101) -> 232.07231 | E103: =STDEVA(E2:E101) -> 273.04944 | F103: =STDEVA(F2:F101) -> 0.014242603 | G103: =STDEVA(G2:G101) -> 0.078721025 | H103: =STDEVA(H2:H101) -> 0.075555948 | I103: =STDEVA(I2:I101) -> 0.053333693 | J103: =STDEVA(J2:J101) -> 1.7318663e-08 | ... W103: =STDEVA(W2:W101) -> 0

Sheet Shelf life 2
A1: Run | B1: Seed | C1: runTime | D1: OrdersFulfilled | E1: TotalLostSales | F1: RemainingCustomerBase | G1: AvExpUtil | H1: AvActUtil | I1: AvDistance | J1: AvDelay | K1: AvShelfLife | L1: avVehUtil | M1: foodWaste | N1: gapUtility | O1: lostSaleOffer | P1: lostSaleTW | Q1: totalInterest | R1: totalKm | S1: totalDelay | T1: totalExpUtil | U1: totalActUtil | V1: ordersPlaced | W1: stockouts | X1: service
A2: 1 | B2: 515711404 | C2: 1889.222 | D2: 5811 | E2: 7990 | F2: 0.39481964 | G2: -1.8612654 | H2: -1.866797 | I2: 2.0283869 | J2: 0 | K2: 3.2875705 | L2: 0.36256547 | M2: 6441 | N2: -32.144035 | O2: 7147 | P2: 843 | Q2: 13801 | R2: 11786.956 | S2: 0 | T2: -10815.813 | U2: -10847.957 | V2: 5811 | W2: 0 | X2: 1:shelfLife(2),deliveryDay(1),timeWindow(240),discount(0),delay(0),deliveryFeeInCents(599) (open from 8 to 20)
A3: 21 | B3: -470406801 | C3: 1950.659 | D3: 5747 | E3: 7724 | F3: 0.42072364 | G3: -1.7970314 | H3: -1.8017766 | I3: 2.0423365 | J3: 0 | K3: 3.2965618 | L3: 0.33854581 | M3: 6428 | N3: -27.270963 | O3: 6848 | P3: 876 | Q3: 13471 | R3: 11737.308 | S3: 0 | T3: -10327.539 | U3: -10354.81 | V3: 5747 | W3: 0 | X3: 1:shelfLife(2),deliveryDay(1),timeWindow(240),discount(0),delay(0),deliveryFeeInCents(599) (open from 8 to 20)
A4: 41 | B4: 761480347 | C4: 2215.549 | D4: 6246 | E4: 7363 | F4: 0.44552572 | G4: -1.7517707 | H4: -1.740563 | I4: 2.0652026 | J4: 0 | K4: 3.3079187 | L4: 0.37540756 | M4: 6103 | N4: 70.003129 | O4: 6430 | P4: 933 | Q4: 13610 | R4: 12899.256 | S4: 0 | T4: -10941.56 | U4: -10871.556 | V4: 6247 | W4: 0 | X4: 1:shelfLife(2),deliveryDay(1),timeWindow(240),discount(0),delay(0),deliveryFeeInCents(599) (open from 8 to 20)
A5: 81 | B5: -1730322955 | C5: 2418.6 | D5: 5888 | E5: 7614 | F5: 0.41694865 | G5: -1.8294851 | H5: -1.8248338 | I5: 2.1094847 | J5: 0 | K5: 3.3019223 | L5: 0.33850917 | M5: 6289 | N5: 27.387221 | O5: 6864 | P5: 750 | Q5: 13502 | R5: 12420.646 | S5: 0 | T5: -10772.008 | U5: -10744.621 | V5: 5888 | W5: 0 | X5: 1:shelfLife(2),deliveryDay(1),timeWindow(240),discount(0),delay(0),deliveryFeeInCents(599) (open from 8 to 20)
A6: 61 | B6: 702795945 | C6: 2461.548 | D6: 6072 | E6: 7648 | F6: 0.42111801 | G6: -1.7733562 | H6: -1.7534087 | I6: 2.0502823 | J6: 0 | K6: 3.287298 | L6: 0.35658139 | M6: 6202 | N6: 121.12119 | O6: 7194 | P6: 454 | Q6: 13721 | R6: 12449.314 | S6: 0 | T6: -10767.819 | U6: -10646.698 | V6: 6073 | W6: 0 | X6: 1:shelfLife(2),deliveryDay(1),timeWindow(240),discount(0),delay(0),deliveryFeeInCents(599) (open from 8 to 20)
A7: 2 | B7: 382434788 | C7: 1820.09 | D7: 5842 | E7: 7538 | F7: 0.41800643 | G7: -1.7210332 | H7: -1.7211387 | I7: 2.0872553 | J7: 0 | K7: 3.2822279 | L7: 0.32967134 | M7: 6169 | N7: -0.6163586 | O7: 6663 | P7: 875 | Q7: 13381 | R7: 12193.746 | S7: 0 | T7: -10054.276 | U7: -10054.892 | V7: 5843 | W7: 0 | X7: 1:shelfLife(2),deliveryDay(1),timeWindow(240),discount(0),delay(0),deliveryFeeInCents(599) (open from 8 to 20)
A8: 22 | B8: -777409062 | C8: 2229.389 | D8: 5892 | E8: 7845 | F8: 0.4079063 | G8: -1.9268626 | H8: -1.9165366 | I8: 2.0677601 | J8: 0 | K8: 3.2440336 | L8: 0.34423766 | M8: 6326 | N8: 60.841176 | O8: 7064 | P8: 781 | Q8: 13737 | R8: 12183.242 | S8: 0 | T8: -11353.075 | U8: -11292.234 | V8: 5892 | W8: 0 | X8: 1:shelfLife(2),deliveryDay(1),timeWindow(240),discount(0),delay(0),deliveryFeeInCents(599) (open from 8 to 20)
A9: 82 | B9: -352012795 | C9: 1960.739 | D9: 5918 | E9: 7527 | F9: 0.41900552 | G9: -1.6938509 | H9: -1.684131 | I9: 2.1300688 | J9: 0 | K9: 3.2707263 | L9: 0.3593434 | M9: 6250 | N9: 57.522597 | O9: 6620 | P9: 907 | Q9: 13446 | R9: 12605.747 | S9: 0 | T9: -10024.21 | U9: -9966.6872 | V9: 5919 | W9: 0 | X9: 1:shelfLife(2),deliveryDay(1),timeWindow(240),discount(0),delay(0),deliveryFeeInCents(599) (open from 8 to 20)
A10: 42 | B10: 1585358012 | C10: 2459.63 | D10: 6206 | E10: 7490 | F10: 0.43060317 | G10: -1.9707354 | H10: -1.9530539 | I10: 2.048528 | J10: 0 | K10: 3.2720873 | L10: 0.36876064 | M10: 6114 | N10: 109.73172 | O10: 6646 | P10: 844 | Q10: 13697 | R10: 12713.165 | S10: 0 | T10: -12230.384 | U10: -12120.652 | V10: 6207 | W10: 0 | X10: 1:shelfLife(2),deliveryDay(1),timeWindow(240),discount(0),delay(0),deliveryFeeInCents(599) (open from 8 to 20)
A11: 62 | B11: -557000124 | C11: 2406.262 | D11: 6069 | E11: 7574 | F11: 0.42090375 | G11: -1.7525781 | H11: -1.760771 | I11: 2.0290258 | J11: 0 | K11: 3.3280765 | L11: 0.3697408 | M11: 6287 | N11: -49.722299 | O11: 6853 | P11: 721 | Q11: 13644 | R11: 12314.158 | S11: 0 | T11: -10636.397 | U11: -10686.119 | V11: 6070 | W11: 0 | X11: 1:shelfLife(2),deliveryDay(1),timeWindow(240),discount(0),delay(0),deliveryFeeInCents(599) (open from 8 to 20)
A12: 3 | B12: 2141997007 | C12: 1779.842 | D12: 5817 | E12: 7691 | F12: 0.41793369 | G12: -1.8718478 | H12: -1.8588432 | I12: 2.0207369 | J12: 0 | K12: 3.2957877 | L12: 0.35708596 | M12: 6279 | N12: 75.648102 | O12: 6810 | P12: 881 | Q12: 13508 | R12: 11754.626 | S12: 0 | T12: -10888.539 | U12: -10812.891 | V12: 5817 | W12: 0 | X12: 1:shelfLife(2),deliveryDay(1),timeWindow(240),discount(0),delay(0),deliveryFeeInCents(599) (open from 8 to 20)
A13: 23 | B13: -902824430 | C13: 2431.424 | D13: 6309 | E13: 7761 | F13: 0.44178377 | G13: -1.8965683 | H13: -1.873293 | I13: 2.0780081 | J13: 0 | K13: 3.2774325 | L13: 0.38142312 | M13: 6267 | N13: 146.84388 | O13: 6992 | P13: 769 | Q13: 14070 | R13: 13110.153 | S13: 0 | T13: -11965.449 | U13: -11818.605 | V13: 6309 | W13: 0 | X13: 1:shelfLife(2),deliveryDay(1),timeWindow(240),discount(0),delay(0),deliveryFeeInCents(599) (open from 8 to 20)
... A101: 100 | B101: -1988436389 | C101: 1517.666 | D101: 5399 | E101: 7736 | F101: 0.39923469 | G101: -1.8324334 | H101: -1.8228821 | I101: 2.131221 | J101: 0 | K101: 3.2819214 | L101: 0.3252665 | M101: 6524 | N101: 51.567532 | O101: 6959 | P101: 777 | Q101: 13135 | R101: 11506.462 | S101: 0 | T101: -9893.3078 | U101: -9841.7403 | V101: 5399 | W101: 0 | X101: 1:shelfLife(2),deliveryDay(1),timeWindow(240),discount(0),delay(0),deliveryFeeInCents(599) (open from 8 to 20)
B102: Mean | C102: =AVERAGE(C2:C101) -> 2155.0079 | D102: =AVERAGE(D2:D101) -> 5889.68 | E102: =AVERAGE(E2:E101) -> 7743.05 | F102: =AVERAGE(F2:F101) -> 0.41579103 | G102: =AVERAGE(G2:G101) -> -1.8062698 | H102: =AVERAGE(H2:H101) -> -1.8021519 | I102: =AVERAGE(I2:I101) -> 2.0694863 | J102: =AVERAGE(J2:J101) -> 6.0697141e-06 | ... W102: =AVERAGE(W2:W101) -> 0
B103: SD | C103: =STDEVA(C2:C101) -> 242.05703 | D103: =STDEVA(D2:D101) -> 232.08458 | E103: =STDEVA(E2:E101) -> 264.80667 | F103: =STDEVA(F2:F101) -> 0.014381019 | G103: =STDEVA(G2:G101) -> 0.074152615 | H103: =STDEVA(H2:H101) -> 0.070463175 | I103: =STDEVA(I2:I101) -> 0.049070756 | J103: =STDEVA(J2:J101) -> 6.0697141e-05 | ... W103: =STDEVA(W2:W101) -> 0

Sheet Shelf life 3
A1: Run | B1: Seed | C1: runTime | D1: OrdersFulfilled | E1: TotalLostSales | F1: RemainingCustomerBase | G1: AvExpUtil | H1: AvActUtil | I1: AvDistance | J1: AvDelay | K1: AvShelfLife | L1: avVehUtil | M1: foodWaste | N1: gapUtility | O1: lostSaleOffer | P1: lostSaleTW | Q1: totalInterest | R1: totalKm | S1: totalDelay | T1: totalExpUtil | U1: totalActUtil | V1: ordersPlaced | W1: stockouts | X1: service
A2: 1 | B2: 515711404 | C2: 1858.931 | D2: 6193 | E2: 7608 | F2: 0.4309651 | G2: -1.6222862 | H2: -1.6950354 | I2: 2.0581459 | J2: 0 | K2: 3.7520103 | L2: 0.37034654 | M2: 6268 | N2: -450.53629 | O2: 6765 | P2: 843 | Q2: 13801 | R2: 12746.098 | S2: 0 | T2: -10046.818 | U2: -10497.355 | V2: 6193 | W2: 0 | X2: 1:shelfLife(3),deliveryDay(1),timeWindow(240),discount(0),delay(0),deliveryFeeInCents(599) (open from 8 to 20)
A3: 21 | B3: -470406801 | C3: 1851.415 | D3: 6148 | E3: 7323 | F3: 0.4473452 | G3: -1.5986465 | H3: -1.6682263 | I3: 2.1079723 | J3: 0.0031620256 | K3: 3.7606335 | L3: 0.3674711 | M3: 6206 | N3: -427.77622 | O3: 6447 | P3: 876 | Q3: 13471 | R3: 12959.813 | S3: 19.440133 | T3: -9828.4788 | U3: -10256.255 | V3: 6148 | W3: 0 | X3: 1:shelfLife(3),deliveryDay(1),timeWindow(240),discount(0),delay(0),deliveryFeeInCents(599) (open from 8 to 20)
A4: 41 | B4: 761480347 | C4: 2024.539 | D4: 6570 | E4: 7038 | F4: 0.47413478 | G4: -1.4821412 | H4: -1.5479288 | I4: 2.0849299 | J4: 0 | K4: 3.7690208 | L4: 0.39869235 | M4: 5969 | N4: -432.22408 | O4: 6105 | P4: 933 | Q4: 13610 | R4: 13697.99 | S4: 0 | T4: -9737.668 | U4: -10169.892 | V4: 6572 | W4: 0 | X4: 1:shelfLife(3),deliveryDay(1),timeWindow(240),discount(0),delay(0),deliveryFeeInCents(599) (open from 8 to 20)
A5: 81 | B5: -1730322955 | C5: 2053.419 | D5: 6234 | E5: 7268 | F5: 0.44968368 | G5: -1.5518208 | H5: -1.620663 | I5: 2.1479978 | J5: 0 | K5: 3.7474556 | L5: 0.37318191 | M5: 6142 | N5: -429.16276 | O5: 6518 | P5: 750 | Q5: 13502 | R5: 13390.619 | S5: 0 | T5: -9674.0506 | U5: -10103.213 | V5: 6234 | W5: 0 | X5: 1:shelfLife(3),deliveryDay(1),timeWindow(240),discount(0),delay(0),deliveryFeeInCents(599) (open from 8 to 20)
A6: 61 | B6: 702795945 | C6: 2326.682 | D6: 6540 | E6: 7180 | F6: 0.46057727 | G6: -1.5412617 | H6: -1.5960119 | I6: 2.1100397 | J6: 0.0035781677 | K6: 3.7608456 | L6: 0.37389291 | M6: 5924 | N6: -358.06595 | O6: 6726 | P6: 454 | Q6: 13721 | R6: 13799.659 | S6: 23.401217 | T6: -10079.852 | U6: -10437.918 | V6: 6541 | W6: 0 | X6: 1:shelfLife(3),deliveryDay(1),timeWindow(240),discount(0),delay(0),deliveryFeeInCents(599) (open from 8 to 20)
A7: 2 | B7: 382434788 | C7: 1859.834 | D7: 6211 | E7: 7169 | F7: 0.45352576 | G7: -1.5055774 | H7: -1.5634354 | I7: 2.1174537 | J7: 0 | K7: 3.7718601 | L7: 0.36089787 | M7: 5996 | N7: -359.35651 | O7: 6294 | P7: 875 | Q7: 13381 | R7: 13151.505 | S7: 0 | T7: -9351.1409 | U7: -9710.4974 | V7: 6212 | W7: 0 | X7: 1:shelfLife(3),deliveryDay(1),timeWindow(240),discount(0),delay(0),deliveryFeeInCents(599) (open from 8 to 20)
A8: 22 | B8: -777409062 | C8: 1886.998 | D8: 6239 | E8: 7498 | F8: 0.44348463 | G8: -1.6532887 | H8: -1.7050139 | I8: 2.0634618 | J8: 0 | K8: 3.7443998 | L8: 0.36322799 | M8: 6174 | N8: -322.71327 | O8: 6717 | P8: 781 | Q8: 13737 | R8: 12873.938 | S8: 0 | T8: -10314.868 | U8: -10637.581 | V8: 6239 | W8: 0 | X8: 1:shelfLife(3),deliveryDay(1),timeWindow(240),discount(0),delay(0),deliveryFeeInCents(599) (open from 8 to 20)
A9: 82 | B9: -352012795 | C9: 1801.782 | D9: 6430 | E9: 7016 | F9: 0.46526703 | G9: -1.4465543 | H9: -1.5303452 | I9: 2.153578 | J9: 0 | K9: 3.7555687 | L9: 0.39625046 | M9: 5954 | N9: -538.77589 | O9: 6109 | P9: 907 | Q9: 13446 | R9: 13847.506 | S9: 0 | T9: -9301.3439 | U9: -9840.1198 | V9: 6430 | W9: 0 | X9: 1:shelfLife(3),deliveryDay(1),timeWindow(240),discount(0),delay(0),deliveryFeeInCents(599) (open from 8 to 20)
A10: 42 | B10: 1585358012 | C10: 2136.853 | D10: 6691 | E10: 7005 | F10: 0.47378018 | G10: -1.684738 | H10: -1.7386668 | I10: 2.0898727 | J10: 0.0095657948 | K10: 3.7711864 | L10: 0.3954087 | M10: 5835 | N10: -360.83765 | O10: 6161 | P10: 844 | Q10: 13697 | R10: 13983.338 | S10: 64.004733 | T10: -11272.582 | U10: -11633.419 | V10: 6692 | W10: 0 | X10: 1:shelfLife(3),deliveryDay(1),timeWindow(240),discount(0),delay(0),deliveryFeeInCents(599) (open from 8 to 20)
A11: 62 | B11: -557000124 | C11: 2078.509 | D11: 6444 | E11: 7199 | F11: 0.45934576 | G11: -1.5364223 | H11: -1.6192279 | I11: 2.0705475 | J11: 0.0047938366 | K11: 3.7634286 | L11: 0.39874141 | M11: 6091 | N11: -533.5994 | O11: 6478 | P11: 721 | Q11: 13644 | R11: 13342.608 | S11: 30.891483 | T11: -9900.7053 | U11: -10434.305 | V11: 6445 | W11: 0 | X11: 1:shelfLife(3),deliveryDay(1),timeWindow(240),discount(0),delay(0),deliveryFeeInCents(599) (open from 8 to 20)
A12: 3 | B12: 2141997007 | C12: 1987.273 | D12: 6157 | E12: 7350 | F12: 0.45138322 | G12: -1.5569694 | H12: -1.6044802 | I12: 2.0772612 | J12: 0 | K12: 3.7582396 | L12: 0.37133938 | M12: 6122 | N12: -292.52351 | O12: 6469 | P12: 881 | Q12: 13508 | R12: 12789.697 | S12: 0 | T12: -9586.2608 | U12: -9878.7843 | V12: 6158 | W12: 0 | X12: 1:shelfLife(3),deliveryDay(1),timeWindow(240),discount(0),delay(0),deliveryFeeInCents(599) (open from 8 to 20)
A13: 23 | B13: -902824430 | C13: 2002.189 | D13: 6654 | E13: 7415 | F13: 0.46852595 | G13: -1.6369797 | H13: -1.6887664 | I13: 2.0939948 | J13: 0 | K13: 3.7531708 | L13: 0.4255213 | M13: 6113 | N13: -344.58896 | O13: 6646 | P13: 769 | Q13: 14070 | R13: 13933.441 | S13: 0 | T13: -10892.463 | U13: -11237.052 | V13: 6655 | W13: 0 | X13: 1:shelfLife(3),deliveryDay(1),timeWindow(240),discount(0),delay(0),deliveryFeeInCents(599) (open from 8 to 20)
... A101: 20 | B101: 1882698207 | C101: 2197.989 | D101: 6626 | E101: 7315 | F101: 0.461891 | G101: -1.575382 | H101: -1.6512988 | I101: 2.0493974 | J101: 0 | K101: 3.7612292 | L101: 0.38838934 | M101: 6309 | N101: -503.02482 | O101: 6355 | P101: 960 | Q101: 13942 | R101: 13579.307 | S101: 0 | T101: -10438.481 | U101: -10941.506 | V101: 6627 | W101: 0 | X101: 1:shelfLife(3),deliveryDay(1),timeWindow(240),discount(0),delay(0),deliveryFeeInCents(599) (open from 8 to 20)
B102: Mean | C102: =AVERAGE(C2:C101) -> 1947.4885 | D102: =AVERAGE(D2:D101) -> 6281.12 | E102: =AVERAGE(E2:E101) -> 7351.61 | F102: =AVERAGE(F2:F101) -> 0.44974227 | G102: =AVERAGE(G2:G101) -> -1.5613228 | H102: =AVERAGE(H2:H101) -> -1.6267259 | I102: =AVERAGE(I2:I101) -> 2.0991976 | J102: =AVERAGE(J2:J101) -> 0.0014571397 | ... W102: =AVERAGE(W2:W101) -> 0
B103: SD | C103: =STDEVA(C2:C101) -> 187.31603 | D103: =STDEVA(D2:D101) -> 231.96143 | E103: =STDEVA(E2:E101) -> 268.98447 | F103: =STDEVA(F2:F101) -> 0.014325007 | G103: =STDEVA(G2:G101) -> 0.060769114 | H103: =STDEVA(H2:H101) -> 0.060659891 | I103: =STDEVA(I2:I101) -> 0.048086917 | J103: =STDEVA(J2:J101) -> 0.0056915096 | ... W103: =STDEVA(W2:W101) -> 0

Sheet Shelf life 4
A1: Run | B1: Seed | C1: runTime | D1: OrdersFulfilled | E1: TotalLostSales | F1: RemainingCustomerBase | G1: AvExpUtil | H1: AvActUtil | I1: AvDistance | J1: AvDelay | K1: AvShelfLife | L1: avVehUtil | M1: foodWaste | N1: gapUtility | O1: lostSaleOffer | P1: lostSaleTW | Q1: totalInterest | R1: totalKm | S1: totalDelay | T1: totalExpUtil | U1: totalActUtil | V1: ordersPlaced | W1: stockouts | X1: service
A2: 1 | B2: 515711404 | C2: 1381.354 | D2: 6373 | E2: 7428 | F2: 0.44618424 | G2: -1.5992347 | H2: -1.6319855 | I2: 2.3465911 | J2: 0 | K2: 4.2475035 | L2: 0.42766051 | M2: 6250 | N2: -208.72091 | O2: 6585 | P2: 843 | Q2: 13801 | R2: 14954.825 | S2: 0 | T2: -10191.923 | U2: -10400.644 | V2: 6373 | W2: 0 | X2: 1:shelfLife(4),deliveryDay(1),timeWindow(240),discount(0),delay(0),deliveryFeeInCents(599) (open from 8 to 20)
A3: 81 | B3: -1730322955 | C3: 1475.396 | D3: 6286 | E3: 7215 | F3: 0.45924673 | G3: -1.5400635 | H3: -1.564987 | I3: 2.4109175 | J3: 0 | K3: 4.2562468 | L3: 0.39654878 | M3: 6248 | N3: -156.66915 | O3: 6465 | P3: 750 | Q3: 13502 | R3: 15155.027 | S3: 0 | T3: -9680.8393 | U3: -9837.5084 | V3: 6287 | W3: 0 | X3: 1:shelfLife(4),deliveryDay(1),timeWindow(240),discount(0),delay(0),deliveryFeeInCents(599) (open from 8 to 20)
A4: 21 | B4: -470406801 | C4: 1475.577 | D4: 6345 | E4: 7124 | F4: 0.46793646 | G4: -1.5655392 | H4: -1.6070812 | I4: 2.3396645 | J4: 0 | K4: 4.2574906 | L4: 0.38637645 | M4: 6157 | N4: -263.58379 | O4: 6248 | P4: 876 | Q4: 13471 | R4: 14845.171 | S4: 0 | T4: -9933.3462 | U4: -10196.93 | V4: 6347 | W4: 0 | X4: 1:shelfLife(4),deliveryDay(1),timeWindow(240),discount(0),delay(0),deliveryFeeInCents(599) (open from 8 to 20)
A5: 61 | B5: 702795945 | C5: 1702.261 | D5: 6686 | E5: 7034 | F5: 0.47146511 | G5: -1.4761745 | H5: -1.4966308 | I5: 2.328208 | J5: 0.00055740852 | K5: 4.2561396 | L5: 0.41491561 | M5: 5906 | N5: -136.77091 | O5: 6580 | P5: 454 | Q5: 13721 | R5: 15566.399 | S5: 3.7268333 | T5: -9869.7026 | U5: -10006.473 | V5: 6687 | W5: 0 | X5: 1:shelfLife(4),deliveryDay(1),timeWindow(240),discount(0),delay(0),deliveryFeeInCents(599) (open from 8 to 20)
A6: 41 | B6: 761480347 | C6: 1789.743 | D6: 6639 | E6: 6969 | F6: 0.48086632 | G6: -1.4821637 | H6: -1.5048955 | I6: 2.355805 | J6: 0 | K6: 4.2568539 | L6: 0.44057203 | M6: 6022 | N6: -150.91641 | O6: 6036 | P6: 933 | Q6: 13610 | R6: 15640.189 | S6: 0 | T6: -9840.0849 | U6: -9991.0013 | V6: 6641 | W6: 0 | X6: 1:shelfLife(4),deliveryDay(1),timeWindow(240),discount(0),delay(0),deliveryFeeInCents(599) (open from 8 to 20)
A7: 2 | B7: 382434788 | C7: 1246.291 | D7: 6279 | E7: 7101 | F7: 0.46743438 | G7: -1.4500937 | H7: -1.4946882 | I7: 2.3692544 | J7: 0 | K7: 4.2400225 | L7: 0.38556247 | M7: 6098 | N7: -280.00851 | O7: 6226 | P7: 875 | Q7: 13381 | R7: 14876.549 | S7: 0 | T7: -9105.1387 | U7: -9385.1472 | V7: 6280 | W7: 0 | X7: 1:shelfLife(4),deliveryDay(1),timeWindow(240),discount(0),delay(0),deliveryFeeInCents(599) (open from 8 to 20)
A8: 82 | B8: -352012795 | C8: 1426.657 | D8: 6402 | E8: 7042 | F8: 0.46777164 | G8: -1.4052877 | H8: -1.4407469 | I8: 2.4560904 | J8: 0 | K8: 4.2626031 | L8: 0.39761873 | M8: 6101 | N8: -227.01032 | O8: 6135 | P8: 907 | Q8: 13446 | R8: 15723.891 | S8: 0 | T8: -8996.6515 | U8: -9223.6619 | V8: 6404 | W8: 0 | X8: 1:shelfLife(4),deliveryDay(1),timeWindow(240),discount(0),delay(0),deliveryFeeInCents(599) (open from 8 to 20)
A9: 22 | B9: -777409062 | C9: 1441.727 | D9: 6342 | E9: 7395 | F9: 0.4545388 | G9: -1.6121293 | H9: -1.6265549 | I9: 2.3707659 | J9: 0.035711511 | K9: 4.2491533 | L9: 0.41038741 | M9: 6203 | N9: -91.486852 | O9: 6614 | P9: 781 | Q9: 13737 | R9: 15035.398 | S9: 226.4824 | T9: -10224.124 | U9: -10315.611 | V9: 6342 | W9: 0 | X9: 1:shelfLife(4),deliveryDay(1),timeWindow(240),discount(0),delay(0),deliveryFeeInCents(599) (open from 8 to 20)
A10: 62 | B10: -557000124 | C10: 1575.014 | D10: 6543 | E10: 7101 | F10: 0.47109596 | G10: -1.5377812 | H10: -1.5585439 | I10: 2.4079464 | J10: 0.025001205 | K10: 4.2513395 | L10: 0.41811383 | M10: 6148 | N10: -135.85011 | O10: 6380 | P10: 721 | Q10: 13644 | R10: 15755.193 | S10: 163.58288 | T10: -10061.703 | U10: -10197.553 | V10: 6543 | W10: 0 | X10: 1:shelfLife(4),deliveryDay(1),timeWindow(240),discount(0),delay(0),deliveryFeeInCents(599) (open from 8 to 20)
A11: 42 | B11: 1585358012 | C11: 1932.925 | D11: 6768 | E11: 6928 | F11: 0.48399096 | G11: -1.6985172 | H11: -1.714596 | I11: 2.4248126 | J11: 0 | K11: 4.2519132 | L11: 0.43541897 | M11: 5907 | N11: -108.82077 | O11: 6084 | P11: 844 | Q11: 13697 | R11: 16411.132 | S11: 0 | T11: -11495.565 | U11: -11604.385 | V11: 6769 | W11: 0 | X11: 1:shelfLife(4),deliveryDay(1),timeWindow(240),discount(0),delay(0),deliveryFeeInCents(599) (open from 8 to 20)
A12: 3 | B12: 2141997007 | C12: 1634.263 | D12: 6348 | E12: 7159 | F12: 0.46198917 | G12: -1.5413929 | H12: -1.5604717 | I12: 2.337409 | J12: 0 | K12: 4.2497694 | L12: 0.38477752 | M12: 6073 | N12: -121.11185 | O12: 6278 | P12: 881 | Q12: 13508 | R12: 14837.872 | S12: 0 | T12: -9784.7623 | U12: -9905.8741 | V12: 6349 | W12: 0 | X12: 1:shelfLife(4),deliveryDay(1),timeWindow(240),discount(0),delay(0),deliveryFeeInCents(599) (open from 8 to 20)
A13: 23 | B13: -902824430 | C13: 1661.983 | D13: 6858 | E13: 7209 | F13: 0.48594781 | G13: -1.5908413 | H13: -1.6145314 | I13: 2.3924362 | J13: 0 | K13: 4.2375051 | L13: 0.45353159 | M13: 6061 | N13: -162.46654 | O13: 6440 | P13: 769 | Q13: 14070 | R13: 16407.328 | S13: 0 | T13: -10909.99 | U13: -11072.456 | V13: 6861 | W13: 0 | X13: 1:shelfLife(4),deliveryDay(1),timeWindow(240),discount(0),delay(0),deliveryFeeInCents(599) (open from 8 to 20)
... A101: 60 | B101: 1125753208 | C101: 1120.66 | D101: 5914 | E101: 7416 | F101: 0.43417825 | G101: -1.5205161 | H101: -1.5274313 | I101: 2.3446408 | J101: 0 | K101: 4.2555402 | L101: 0.36197455 | M101: 6444 | N101: -40.896675 | O101: 6463 | P101: 953 | Q101: 13330 | R101: 13866.206 | S101: 0 | T101: -8992.3322 | U101: -9033.2289 | V101: 5914 | W101: 0 | X101: 1:shelfLife(4),deliveryDay(1),timeWindow(240),discount(0),delay(0),deliveryFeeInCents(599) (open from 8 to 20)
B102: Mean | C102: =AVERAGE(C2:C101) -> 1529.9723 | D102: =AVERAGE(D2:D101) -> 6379.02 | E102: =AVERAGE(E2:E101) -> 7253.52 | F102: =AVERAGE(F2:F101) -> 0.46020872 | G102: =AVERAGE(G2:G101) -> -1.5468971 | H102: =AVERAGE(H2:H101) -> -1.571093 | I102: =AVERAGE(I2:I101) -> 2.3688277 | J102: =AVERAGE(J2:J101) -> 0.0016194038 | ... W102: =AVERAGE(W2:W101) -> 0
B103: SD | C103: =STDEVA(C2:C101) -> 214.38137 | D103: =STDEVA(D2:D101) -> 236.09367 | E103: =STDEVA(E2:E101) -> 259.44535 | F103: =STDEVA(F2:F101) -> 0.014192468 | G103: =STDEVA(G2:G101) -> 0.073040873 | H103: =STDEVA(H2:H101) -> 0.072171103 | I103: =STDEVA(I2:I101) -> 0.050171443 | J103: =STDEVA(J2:J101) -> 0.007359702 | ... W103: =STDEVA(W2:W101) -> 0

Sheet Shelf life 5
A1: Run | B1: Seed | C1: runTime | D1: OrdersFulfilled | E1: TotalLostSales | F1: RemainingCustomerBase | G1: AvExpUtil | H1: AvActUtil | I1: AvDistance | J1: AvDelay | K1: AvShelfLife | L1: avVehUtil | M1: foodWaste | N1: gapUtility | O1: lostSaleOffer | P1: lostSaleTW | Q1: totalInterest | R1: totalKm | S1: totalDelay | T1: totalExpUtil | U1: totalActUtil | V1: ordersPlaced | W1: stockouts | X1: service
A2: 1 | B2: 515711404 | C2: 1715.354 | D2: 6213 | E2: 7587 | F2: 0.4375503 | G2: -1.6817667 | H2: -1.6831376 | I2: 2.7120848 | J2: 0 | K2: 4.3412939 | L2: 0.39974305 | M2: 6394 | N2: -8.5176487 | O2: 6744 | P2: 843 | Q2: 13801 | R2: 16850.183 | S2: 0 | T2: -10448.817 | U2: -10457.334 | V2: 6214 | W2: 0 | X2: 1:shelfLife(5),deliveryDay(1),timeWindow(240),discount(0),delay(0),deliveryFeeInCents(599) (open from 8 to 20)
