Workbook

Sheet Overview
A1: Shelf Life | B1: Total Orders | D1: Lost Sales | F1: Remaining Customer Base | H1: Av.Utility (Expected) | J1: Av.Utility (Actual) | L1: Av.Distance | N1: Av.Delay | P1: Av.ShelfLife | R1: Check | S1: Note: Run times not completely comparable as runs performed on two similiar, but not identical, computers (Intel Core i7-4930k with 32GB RAM or 64GB RAM)
B2: mean | C2: sd | D2: mean | E2: sd | F2: mean | G2: sd | H2: mean | I2: sd | J2: mean | K2: sd | L2: mean | M2: sd | N2: mean | O2: sd | P2: mean | Q2: sd
A3: 0 | B3: ='Shelf life 0'!$D$102 -> 4950.21 | C3: ='Shelf life 0'!$D$103 -> 222.36989 | D3: ='Shelf life 0'!$E$102 -> 8682.51 | E3: ='Shelf life 0'!$E$103 -> 279.15379 | F3: ='Shelf life 0'!$F$102 -> 0.36272977 | G3: ='Shelf life 0'!$F$103 -> 0.013980122 | H3: ='Shelf life 0'!$G$102 -> -2.6621519 | I3: ='Shelf life 0'!$G$103 -> 0.077878778 | J3: ='Shelf life 0'!$H$102 -> -2.3927154 | K3: ='Shelf life 0'!$H$103 -> 0.079671608 | L3: ='Shelf life 0'!$I$102 -> 2.0540643 | M3: ='Shelf life 0'!$I$103 -> 0.054480852 | N3: ='Shelf life 0'!$J$102 -> 5.3507279e-10 | O3: ='Shelf life 0'!$J$103 -> 5.3507279e-09 | P3: ='Shelf life 0'!$K$102 -> 2.4624887 | Q3: ='Shelf life 0'!$K$103 -> 0.047137839 | R3: ='Shelf life 0'!X2 -> 1:shelfLife(0),deliveryDay(1),timeWindow(240),discount(0),delay(0),deliveryFeeInCents(599) (open from 8 to 20)
A4: 1 | B4: ='Shelf life 1'!$D$102 -> 5190.41 | C4: ='Shelf life 1'!$D$103 -> 232.07231 | D4: ='Shelf life 1'!$E$102 -> 8442.32 | E4: ='Shelf life 1'!$E$103 -> 273.04944 | F4: ='Shelf life 1'!$F$102 -> 0.37585288 | G4: ='Shelf life 1'!$F$103 -> 0.014242603 | H4: ='Shelf life 1'!$G$102 -> -2.2913752 | I4: ='Shelf life 1'!$G$103 -> 0.078721025 | J4: ='Shelf life 1'!$H$102 -> -2.1179952 | K4: ='Shelf life 1'!$H$103 -> 0.075555948 | L4: ='Shelf life 1'!$I$102 -> 2.072324 | M4: ='Shelf life 1'!$I$103 -> 0.053333693 | N4: ='Shelf life 1'!$J$102 -> 1.7318663e-09 | O4: ='Shelf life 1'!$J$103 -> 1.7318663e-08 | P4: ='Shelf life 1'!$K$102 -> 2.8617484 | Q4: ='Shelf life 1'!$K$103 -> 0.036894305 | R4: ='Shelf life 1'!X2 -> 1:shelfLife(1),deliveryDay(1),timeWindow(240),discount(0),delay(0),deliveryFeeInCents(599) (open from 8 to 20)
A5: 2 | B5: ='Shelf life 2'!$D$102 -> 5889.68 | C5: ='Shelf life 2'!$D$103 -> 232.08458 | D5: ='Shelf life 2'!$E$102 -> 7743.05 | E5: ='Shelf life 2'!$E$103 -> 264.80667 | F5: ='Shelf life 2'!$F$102 -> 0.41579103 | G5: ='Shelf life 2'!$F$103 -> 0.014381019 | H5: ='Shelf life 2'!$G$102 -> -1.8062698 | I5: ='Shelf life 2'!$G$103 -> 0.074152615 | J5: ='Shelf life 2'!$H$102 -> -1.8021519 | K5: ='Shelf life 2'!$H$103 -> 0.070463175 | L5: ='Shelf life 2'!$I$102 -> 2.0694863 | M5: ='Shelf life 2'!$I$103 -> 0.049070756 | N5: ='Shelf life 2'!$J$102 -> 6.0697141e-06 | O5: ='Shelf life 2'!$J$103 -> 6.0697141e-05 | P5: ='Shelf life 2'!$K$102 -> 3.2952954 | Q5: ='Shelf life 2'!$K$103 -> 0.021218461 | R5: ='Shelf life 2'!$X2 -> 1:shelfLife(2),deliveryDay(1),timeWindow(240),discount(0),delay(0),deliveryFeeInCents(599) (open from 8 to 20)
A6: 3 | B6: ='Shelf life 3'!$D$102 -> 6281.12 | C6: ='Shelf life 3'!$D$103 -> 231.96143 | D6: ='Shelf life 3'!$E$102 -> 7351.61 | E6: ='Shelf life 3'!$E$103 -> 268.98447 | F6: ='Shelf life 3'!$F$102 -> 0.44974227 | G6: ='Shelf life 3'!$F$103 -> 0.014325007 | H6: ='Shelf life 3'!$G$102 -> -1.5613228 | I6: ='Shelf life 3'!$G$103 -> 0.060769114 | J6: ='Shelf life 3'!$H$102 -> -1.6267259 | K6: ='Shelf life 3'!$H$103 -> 0.060659891 | L6: ='Shelf life 3'!$I$102 -> 2.0991976 | M6: ='Shelf life 3'!$I$103 -> 0.048086917 | N6: ='Shelf life 3'!$J$102 -> 0.0014571397 | O6: ='Shelf life 3'!$J$103 -> 0.0056915096 | P6: ='Shelf life 3'!$K$102 -> 3.7594057 | Q6: ='Shelf life 3'!$K$103 -> 0.013162683 | R6: ='Shelf life 3'!X2 -> 1:shelfLife(3),deliveryDay(1),timeWindow(240),discount(0),delay(0),deliveryFeeInCents(599) (open from 8 to 20)
A7: 4 | B7: ='Shelf life 4'!$D$102 -> 6379.02 | C7: ='Shelf life 4'!$D$103 -> 236.09367 | D7: ='Shelf life 4'!$E$102 -> 7253.52 | E7: ='Shelf life 4'!$E$103 -> 259.44535 | F7: ='Shelf life 4'!$F$102 -> 0.46020872 | G7: ='Shelf life 4'!$F$103 -> 0.014192468 | H7: ='Shelf life 4'!$G$102 -> -1.5468971 | I7: ='Shelf life 4'!$G$103 -> 0.073040873 | J7: ='Shelf life 4'!$H$102 -> -1.571093 | K7: ='Shelf life 4'!$H$103 -> 0.072171103 | L7: ='Shelf life 4'!$I$102 -> 2.3688277 | M7: ='Shelf life 4'!$I$103 -> 0.050171443 | N7: ='Shelf life 4'!$J$102 -> 0.0016194038 | O7: ='Shelf life 4'!$J$103 -> 0.007359702 | P7: ='Shelf life 4'!$K$102 -> 4.2544942 | Q7: ='Shelf life 4'!$K$103 -> 0.0074265911 | R7: ='Shelf life 4'!X2 -> 1:shelfLife(4),deliveryDay(1),timeWindow(240),discount(0),delay(0),deliveryFeeInCents(599) (open from 8 to 20)
A8: 5 | B8: ='Shelf life 5'!$D$102 -> 6273 | C8: ='Shelf life 5'!$D$103 -> 232.65104 | D8: ='Shelf life 5'!$E$102 -> 7359.49 | E8: ='Shelf life 5'!$E$103 -> 256.69234 | F8: ='Shelf life 5'!$F$102 -> 0.45569953 | G8: ='Shelf life 5'!$F$103 -> 0.013963464 | H8: ='Shelf life 5'!$G$102 -> -1.6274196 | I8: ='Shelf life 5'!$G$103 -> 0.074340094 | J8: ='Shelf life 5'!$H$102 -> -1.5995593 | K8: ='Shelf life 5'!$H$103 -> 0.073466136 | L8: ='Shelf life 5'!$I$102 -> 2.7303697 | M8: ='Shelf life 5'!$I$103 -> 0.048657324 | N8: ='Shelf life 5'!$J$102 -> 0.00055161182 | O8: ='Shelf life 5'!$J$103 -> 0.0037132538 | P8: ='Shelf life 5'!$K$102 -> 4.3380128 | Q8: ='Shelf life 5'!$K$103 -> 0.011068798 | R8: ='Shelf life 5'!X2 -> 1:shelfLife(5),deliveryDay(1),timeWindow(240),discount(0),delay(0),deliveryFeeInCents(599) (open from 8 to 20)
B9: Total Orders | D9: Lost Sales | F9: Remaining Customer Base | H9: Av.Utility (Expected) | J9: Av.Utility (Actual) | L9: Av.Distance | N9: Av.Delay | P9: Av.ShelfLife
A10: Delivery Fee | B10: mean | C10: sd | D10: mean | E10: sd | F10: mean | G10: sd | H10: mean | I10: sd | J10: mean | K10: sd | L10: mean | M10: sd | N10: mean | O10: sd | P10: mean | Q10: sd
A11: 0 | B11: ='Delivery fee 0'!$D$102 -> 9887.31 | C11: ='Delivery fee 0'!$D$103 -> 279.07002 | D11: ='Delivery fee 0'!$E$102 -> 3745.01 | E11: ='Delivery fee 0'!$E$103 -> 201.1165 | F11: ='Delivery fee 0'!$F$102 -> 0.7081246 | G11: ='Delivery fee 0'!$F$103 -> 0.013053113 | H11: ='Delivery fee 0'!$G$102 -> 1.8905296 | I11: ='Delivery fee 0'!$G$103 -> 0.061151759 | J11: ='Delivery fee 0'!$H$102 -> 1.7883754 | K11: ='Delivery fee 0'!$H$103 -> 0.060165355 | L11: ='Delivery fee 0'!$I$102 -> 2.5561309 | M11: ='Delivery fee 0'!$I$103 -> 0.087036933 | N11: ='Delivery fee 0'!$J$102 -> 1.4802855 | O11: ='Delivery fee 0'!$J$103 -> 0.58767693 | P11: ='Delivery fee 0'!$K$102 -> 3.8757044 | Q11: ='Delivery fee 0'!$K$103 -> 0.013663386 | R11: ='Delivery fee 0'!X2 -> 1:shelfLife(3),deliveryDay(1),timeWindow(240),discount(0),delay(0),deliveryFeeInCents(0) (open from 8 to 20)
A12: 1.99 | B12: ='Delivery fee 1.99'!$D$102 -> 9296.4 | C12: ='Delivery fee 1.99'!$D$103 -> 269.941 | D12: ='Delivery fee 1.99'!$E$102 -> 4335.91 | E12: ='Delivery fee 1.99'!$E$103 -> 211.66865 | F12: ='Delivery fee 1.99'!$F$102 -> 0.65998982 | G12: ='Delivery fee 1.99'!$F$103 -> 0.013459109 | H12: ='Delivery fee 1.99'!$G$102 -> 0.92123975 | I12: ='Delivery fee 1.99'!$G$103 -> 0.061520826 | J12: ='Delivery fee 1.99'!$H$102 -> 0.81683321 | K12: ='Delivery fee 1.99'!$H$103 -> 0.063196835 | L12: ='Delivery fee 1.99'!$I$102 -> 2.3709366 | M12: ='Delivery fee 1.99'!$I$103 -> 0.091155522 | N12: ='Delivery fee 1.99'!$J$102 -> 0.74120249 | O12: ='Delivery fee 1.99'!$J$103 -> 0.41665689 | P12: ='Delivery fee 1.99'!$K$102 -> 3.8488542 | Q12: ='Delivery fee 1.99'!$K$103 -> 0.01456604 | R12: ='Delivery fee 1.99'!X2 -> 1:shelfLife(3),deliveryDay(1),timeWindow(240),discount(0),delay(0),deliveryFeeInCents(199) (open from 8 to 20)
A13: 3.99 | B13: ='Delivery fee 3.99'!$D$102 -> 7992.84 | C13: ='Delivery fee 3.99'!$D$103 -> 267.64256 | D13: ='Delivery fee 3.99'!$E$102 -> 5639.54 | E13: ='Delivery fee 3.99'!$E$103 -> 251.24427 | F13: ='Delivery fee 3.99'!$F$102 -> 0.56066764 | G13: ='Delivery fee 3.99'!$F$103 -> 0.01464952 | H13: ='Delivery fee 3.99'!$G$102 -> 0.6740014 | I13: ='Delivery fee 3.99'!$G$103 -> 0.080184902 | J13: ='Delivery fee 3.99'!$H$102 -> 0.55782422 | K13: ='Delivery fee 3.99'!$H$103 -> 0.076633102 | L13: ='Delivery fee 3.99'!$I$102 -> 2.1672387 | M13: ='Delivery fee 3.99'!$I$103 -> 0.061788295 | N13: ='Delivery fee 3.99'!$J$102 -> 0.12501221 | O13: ='Delivery fee 3.99'!$J$103 -> 0.13941807 | P13: ='Delivery fee 3.99'!$K$102 -> 3.8046615 | Q13: ='Delivery fee 3.99'!$K$103 -> 0.012040094 | R13: ='Delivery fee 3.99'!X2 -> 1:shelfLife(3),deliveryDay(1),timeWindow(240),discount(0),delay(0),deliveryFeeInCents(399) (open from 8 to 20)
A14: 5.99 | B14: ='Delivery fee 5.99'!$D$102 -> 6281.12 | C14: ='Delivery fee 5.99'!$D$103 -> 231.96143 | D14: ='Delivery fee 5.99'!$E$102 -> 7351.61 | E14: ='Delivery fee 5.99'!$E$103 -> 268.98447 | F14: ='Delivery fee 5.99'!$F$102 -> 0.44974227 | G14: ='Delivery fee 5.99'!$F$103 -> 0.014325007 | H14: ='Delivery fee 5.99'!$G$102 -> -1.5613228 | I14: ='Delivery fee 5.99'!$G$103 -> 0.060769114 | J14: ='Delivery fee 5.99'!$H$102 -> -1.6267259 | K14: ='Delivery fee 5.99'!$H$103 -> 0.060659891 | L14: ='Delivery fee 5.99'!$I$102 -> 2.0991976 | M14: ='Delivery fee 5.99'!$I$103 -> 0.048086917 | N14: ='Delivery fee 5.99'!$J$102 -> 0.0014571397 | O14: ='Delivery fee 5.99'!$J$103 -> 0.0056915096 | P14: ='Delivery fee 5.99'!$K$102 -> 3.7594057 | Q14: ='Delivery fee 5.99'!$K$103 -> 0.013162683 | R14: ='Delivery fee 5.99'!X2 -> 1:shelfLife(3),deliveryDay(1),timeWindow(240),discount(0),delay(0),deliveryFeeInCents(599) (open from 8 to 20)
A15: 7.99 | B15: ='Delivery fee 7.99'!$D$102 -> 5370.85 | C15: ='Delivery fee 7.99'!$D$103 -> 231.01158 | D15: ='Delivery fee 7.99'!$E$102 -> 8261.98 | E15: ='Delivery fee 7.99'!$E$103 -> 284.32703 | F15: ='Delivery fee 7.99'!$F$102 -> 0.38091287 | G15: ='Delivery fee 7.99'!$F$103 -> 0.014790981 | H15: ='Delivery fee 7.99'!$G$102 -> -3.3821663 | I15: ='Delivery fee 7.99'!$G$103 -> 0.069151323 | J15: ='Delivery fee 7.99'!$H$102 -> -3.4707683 | K15: ='Delivery fee 7.99'!$H$103 -> 0.067067159 | L15: ='Delivery fee 7.99'!$I$102 -> 2.1313033 | M15: ='Delivery fee 7.99'!$I$103 -> 0.054077471 | N15: ='Delivery fee 7.99'!$J$102 -> 0 | O15: ='Delivery fee 7.99'!$J$103 -> 0 | P15: ='Delivery fee 7.99'!$K$102 -> 3.7469157 | Q15: ='Delivery fee 7.99'!$K$103 -> 0.012707368 | R15: ='Delivery fee 7.99'!X2 -> 1:shelfLife(3),deliveryDay(1),timeWindow(240),discount(0),delay(0),deliveryFeeInCents(799) (open from 8 to 20)
A16: 9.99 | B16: ='Delivery fee 9.99'!$D$102 -> 4614.98 | C16: ='Delivery fee 9.99'!$D$103 -> 208.18106 | D16: ='Delivery fee 9.99'!$E$102 -> 9018.05 | E16: ='Delivery fee 9.99'!$E$103 -> 292.15387 | F16: ='Delivery fee 9.99'!$F$102 -> 0.32104593 | G16: ='Delivery fee 9.99'!$F$103 -> 0.014431351 | H16: ='Delivery fee 9.99'!$G$102 -> -4.2456784 | I16: ='Delivery fee 9.99'!$G$103 -> 0.080225014 | J16: ='Delivery fee 9.99'!$H$102 -> -4.3415365 | K16: ='Delivery fee 9.99'!$H$103 -> 0.083626567 | L16: ='Delivery fee 9.99'!$I$102 -> 2.1877323 | M16: ='Delivery fee 9.99'!$I$103 -> 0.054230561 | N16: ='Delivery fee 9.99'!$J$102 -> 0 | O16: ='Delivery fee 9.99'!$J$103 -> 0 | P16: ='Delivery fee 9.99'!$K$102 -> 3.7328518 | Q16: ='Delivery fee 9.99'!$K$103 -> 0.013960114 | R16: ='Delivery fee 9.99'!X2 -> 1:shelfLife(3),deliveryDay(1),timeWindow(240),discount(0),delay(0),deliveryFeeInCents(999) (open from 8 to 20)
B17: Total Orders | D17: Lost Sales | F17: Remaining Customer Base | H17: Av.Utility (Expected) | J17: Av.Utility (Actual) | L17: Av.Distance | N17: Av.Delay | P17: Av.ShelfLife
A18: Delivery Day | B18: mean | C18: sd | D18: mean | E18: sd | F18: mean | G18: sd | H18: mean | I18: sd | J18: mean | K18: sd | L18: mean | M18: sd | N18: mean | O18: sd | P18: mean | Q18: sd
A19: 0 | B19: ='Delivery day 0'!$D$102 -> 6898.21 | C19: ='Delivery day 0'!$D$103 -> 252.11703 | D19: ='Delivery day 0'!$E$102 -> 6734.02 | E19: ='Delivery day 0'!$E$103 -> 243.80622 | F19: ='Delivery day 0'!$F$102 -> 0.48968453 | G19: ='Delivery day 0'!$F$103 -> 0.014262907 | H19: ='Delivery day 0'!$G$102 -> -1.4855289 | I19: ='Delivery day 0'!$G$103 -> 0.056500034 | J19: ='Delivery day 0'!$H$102 -> -1.5499764 | K19: ='Delivery day 0'!$H$103 -> 0.055557468 | L19: ='Delivery day 0'!$I$102 -> 2.2890806 | M19: ='Delivery day 0'!$I$103 -> 0.049731106 | N19: ='Delivery day 0'!$J$102 -> 0.016248507 | O19: ='Delivery day 0'!$J$103 -> 0.032702621 | P19: ='Delivery day 0'!$K$102 -> 3.8629547 | Q19: ='Delivery day 0'!$K$103 -> 0.01070448 | R19: ='Delivery day 0'!X2 -> 1:shelfLife(3),deliveryDay(0),timeWindow(240),discount(0),delay(0),deliveryFeeInCents(599) (open from 8 to 20)
A20: 1 | B20: ='Delivery day 1'!$D$102 -> 6281.12 | C20: ='Delivery day 1'!$D$103 -> 231.96143 | D20: ='Delivery day 1'!$E$102 -> 7351.61 | E20: ='Delivery day 1'!$E$103 -> 268.98447 | F20: ='Delivery day 1'!$F$102 -> 0.44974227 | G20: ='Delivery day 1'!$F$103 -> 0.014325007 | H20: ='Delivery day 1'!$G$102 -> -1.5613228 | I20: ='Delivery day 1'!$G$103 -> 0.060769114 | J20: ='Delivery day 1'!$H$102 -> -1.6267259 | K20: ='Delivery day 1'!$H$103 -> 0.060659891 | L20: ='Delivery day 1'!$I$102 -> 2.0991976 | M20: ='Delivery day 1'!$I$103 -> 0.048086917 | N20: ='Delivery day 1'!$J$102 -> 0.0014571397 | O20: ='Delivery day 1'!$J$103 -> 0.0056915096 | P20: ='Delivery day 1'!$K$102 -> 3.7594057 | Q20: ='Delivery day 1'!$K$103 -> 0.013162683 | R20: ='Delivery day 1'!X2 -> 1:shelfLife(3),deliveryDay(1),timeWindow(240),discount(0),delay(0),deliveryFeeInCents(599) (open from 8 to 20)
A21: 2 | B21: ='Delivery day 2'!$D$102 -> 6083.1 | C21: ='Delivery day 2'!$D$103 -> 230.05904 | D21: ='Delivery day 2'!$E$102 -> 7549.59 | E21: ='Delivery day 2'!$E$103 -> 254.74916 | F21: ='Delivery day 2'!$F$102 -> 0.44022571 | G21: ='Delivery day 2'!$F$103 -> 0.013606699 | H21: ='Delivery day 2'!$G$102 -> -2.2638448 | I21: ='Delivery day 2'!$G$103 -> 0.072343403 | J21: ='Delivery day 2'!$H$102 -> -2.3059655 | K21: ='Delivery day 2'!$H$103 -> 0.072511316 | L21: ='Delivery day 2'!$I$102 -> 2.0905756 | M21: ='Delivery day 2'!$I$103 -> 0.049459553 | N21: ='Delivery day 2'!$J$102 -> 6.478819e-05 | O21: ='Delivery day 2'!$J$103 -> 0.00064787607 | P21: ='Delivery day 2'!$K$102 -> 3.7619374 | Q21: ='Delivery day 2'!$K$103 -> 0.014182529 | R21: ='Delivery day 2'!X2 -> 1:shelfLife(3),deliveryDay(2),timeWindow(240),discount(0),delay(0),deliveryFeeInCents(599) (open from 8 to 20)
A22: 3 | B22: ='Delivery day 3'!$D$102 -> 5473.34 | C22: ='Delivery day 3'!$D$103 -> 216.34 | D22: ='Delivery day 3'!$E$102 -> 8159.39 | E22: ='Delivery day 3'!$E$103 -> 276.91219 | F22: ='Delivery day 3'!$F$102 -> 0.39037618 | G22: ='Delivery day 3'!$F$103 -> 0.013924789 | H22: ='Delivery day 3'!$G$102 -> -2.6543822 | I22: ='Delivery day 3'!$G$103 -> 0.070817698 | J22: ='Delivery day 3'!$H$102 -> -2.7289071 | K22: ='Delivery day 3'!$H$103 -> 0.072064259 | L22: ='Delivery day 3'!$I$102 -> 2.1125235 | M22: ='Delivery day 3'!$I$103 -> 0.051065514 | N22: ='Delivery day 3'!$J$102 -> 4.7465767e-10 | O22: ='Delivery day 3'!$J$103 -> 3.3630813e-09 | P22: ='Delivery day 3'!$K$102 -> 3.7506831 | Q22: ='Delivery day 3'!$K$103 -> 0.014883405 | R22: ='Delivery day 3'!X2 -> 1:shelfLife(3),deliveryDay(3),timeWindow(240),discount(0),delay(0),deliveryFeeInCents(599) (open from 8 to 20)
B23: Total Orders | D23: Lost Sales | F23: Remaining Customer Base | H23: Av.Utility (Expected) | J23: Av.Utility (Actual) | L23: Av.Distance | N23: Av.Delay | P23: Av.ShelfLife
A24: Time Window | B24: mean | C24: sd | D24: mean | E24: sd | F24: mean | G24: sd | H24: mean | I24: sd | J24: mean | K24: sd | L24: mean | M24: sd | N24: mean | O24: sd | P24: mean | Q24: sd
A25: 0 | B25: ='Time Window 0'!$D$102 -> 6471.29 | C25: ='Time Window 0'!$D$103 -> 215.15723 | D25: ='Time Window 0'!$E$102 -> 7162.08 | E25: ='Time Window 0'!$E$103 -> 250.26017 | F25: ='Time Window 0'!$F$102 -> 0.44346658 | G25: ='Time Window 0'!$F$103 -> 0.013072945 | H25: ='Time Window 0'!$G$102 -> -1.1751492 | I25: ='Time Window 0'!$G$103 -> 0.067117344 | J25: ='Time Window 0'!$H$102 -> -1.2868302 | K25: ='Time Window 0'!$H$103 -> 0.062200114 | L25: ='Time Window 0'!$I$102 -> 3.8866619 | M25: ='Time Window 0'!$I$103 -> 0.099291611 | N25: ='Time Window 0'!$J$102 -> 31.276333 | O25: ='Time Window 0'!$J$103 -> 2.1560845 | P25: ='Time Window 0'!$K$102 -> 3.9047849 | Q25: ='Time Window 0'!$K$103 -> 0.010510085 | R25: ='Time Window 0'!X2 -> 1:shelfLife(3),deliveryDay(1),timeWindow(0),discount(0),delay(0),deliveryFeeInCents(599) (open from 8 to 20)
A26: 120 | B26: ='Time Window 120'!$D$102 -> 7108.46 | C26: ='Time Window 120'!$D$103 -> 240.52864 | D26: ='Time Window 120'!$E$102 -> 6524.91 | E26: ='Time Window 120'!$E$103 -> 252.11838 | F26: ='Time Window 120'!$F$102 -> 0.49373496 | G26: ='Time Window 120'!$F$103 -> 0.013440286 | H26: ='Time Window 120'!$G$102 -> -1.1435606 | I26: ='Time Window 120'!$G$103 -> 0.047935962 | J26: ='Time Window 120'!$H$102 -> -1.2560362 | K26: ='Time Window 120'!$H$103 -> 0.044984377 | L26: ='Time Window 120'!$I$102 -> 2.7061568 | M26: ='Time Window 120'!$I$103 -> 0.074620587 | N26: ='Time Window 120'!$J$102 -> 1.17311 | O26: ='Time Window 120'!$J$103 -> 0.53324608 | P26: ='Time Window 120'!$K$102 -> 3.8537674 | Q26: ='Time Window 120'!$K$103 -> 0.012378408 | R26: ='Time Window 120'!X2 -> 1:shelfLife(3),deliveryDay(1),timeWindow(120),discount(0),delay(0),deliveryFeeInCents(599) (open from 8 to 20)
A27: 240 | B27: ='Time Window 240'!$D$102 -> 6281.12 | C27: ='Time Window 240'!$D$103 -> 231.96143 | D27: ='Time Window 240'!$E$102 -> 7351.61 | E27: ='Time Window 240'!$E$103 -> 268.98447 | F27: ='Time Window 240'!$F$102 -> 0.44974227 | G27: ='Time Window 240'!$F$103 -> 0.014325007 | H27: ='Time Window 240'!$G$102 -> -1.5613228 | I27: ='Time Window 240'!$G$103 -> 0.060769114 | J27: ='Time Window 240'!$H$102 -> -1.6267259 | K27: ='Time Window 240'!$H$103 -> 0.060659891 | L27: ='Time Window 240'!$I$102 -> 2.0991976 | M27: ='Time Window 240'!$I$103 -> 0.048086917 | N27: ='Time Window 240'!$J$102 -> 0.0014571397 | O27: ='Time Window 240'!$J$103 -> 0.0056915096 | P27: ='Time Window 240'!$K$102 -> 3.7594057 | Q27: ='Time Window 240'!$K$103 -> 0.013162683 | R27: ='Time Window 240'!X2 -> 1:shelfLife(3),deliveryDay(1),timeWindow(240),discount(0),delay(0),deliveryFeeInCents(599) (open from 8 to 20)
A28: 360 | B28: ='Time Window 360'!$D$102 -> 5406.09 | C28: ='Time Window 360'!$D$103 -> 218.66944 | D28: ='Time Window 360'!$E$102 -> 8221.59 | E28: ='Time Window 360'!$E$103 -> 271.90072 | F28: ='Time Window 360'!$F$102 -> 0.38459959 | G28: ='Time Window 360'!$F$103 -> 0.014453554 | H28: ='Time Window 360'!$G$102 -> -3.1599393 | I28: ='Time Window 360'!$G$103 -> 0.062392551 | J28: ='Time Window 360'!$H$102 -> -3.2501202 | K28: ='Time Window 360'!$H$103 -> 0.062473 | L28: ='Time Window 360'!$I$102 -> 1.8654594 | M28: ='Time Window 360'!$I$103 -> 0.049530957 | N28: ='Time Window 360'!$J$102 -> 0 | O28: ='Time Window 360'!$J$103 -> 0 | P28: ='Time Window 360'!$K$102 -> 3.7217867 | Q28: ='Time Window 360'!$K$103 -> 0.014537823 | R28: ='Time Window 360'!X2 -> 1:shelfLife(3),deliveryDay(1),timeWindow(360),discount(0),delay(0),deliveryFeeInCents(599) (open from 8 to 20)
A29: 480 | B29: ='Time Window 480'!$D$102 -> 5271.31 | C29: ='Time Window 480'!$D$103 -> 230.61038 | D29: ='Time Window 480'!$E$102 -> 8349.63 | E29: ='Time Window 480'!$E$103 -> 273.34585 | F29: ='Time Window 480'!$F$102 -> 0.3769174 | G29: ='Time Window 480'!$F$103 -> 0.014596117 | H29: ='Time Window 480'!$G$102 -> -2.8282486 | I29: ='Time Window 480'!$G$103 -> 0.096924302 | J29: ='Time Window 480'!$H$102 -> -2.8979369 | K29: ='Time Window 480'!$H$103 -> 0.09877088 | L29: ='Time Window 480'!$I$102 -> 1.7344665 | M29: ='Time Window 480'!$I$103 -> 0.047168729 | N29: ='Time Window 480'!$J$102 -> 0 | O29: ='Time Window 480'!$J$103 -> 0 | P29: ='Time Window 480'!$K$102 -> 3.7112046 | Q29: ='Time Window 480'!$K$103 -> 0.013883314 | R29: ='Time Window 480'!X2 -> 1:shelfLife(3),deliveryDay(1),timeWindow(480),discount(0),delay(0),deliveryFeeInCents(599) (open from 8 to 20)
B30: Total Orders | D30: Lost Sales | F30: Remaining Customer Base | H30: Av.Utility (Expected) | J30: Av.Utility (Actual) | L30: Av.Distance | N30: Av.Delay | P30: Av.ShelfLife
A31: Delivery Period | B31: mean | C31: sd | D31: mean | E31: sd | F31: mean | G31: sd | H31: mean | I31: sd | J31: mean | K31: sd | L31: mean | M31: sd | N31: mean | O31: sd | P31: mean | Q31: sd
A32: 12 hours | B32: ='12 hours'!$D$102 -> 6281.12 | C32: ='12 hours'!$D$103 -> 231.96143 | D32: ='12 hours'!$E$102 -> 7351.61 | E32: ='12 hours'!$E$103 -> 268.98447 | F32: ='12 hours'!$F$102 -> 0.44974227 | G32: ='12 hours'!$F$103 -> 0.014325007 | H32: ='12 hours'!$G$102 -> -1.5613228 | I32: ='12 hours'!$G$103 -> 0.060769114 | J32: ='12 hours'!$H$102 -> -1.6267259 | K32: ='12 hours'!$H$103 -> 0.060659891 | L32: ='12 hours'!$I$102 -> 2.0991976 | M32: ='12 hours'!$I$103 -> 0.048086917 | N32: ='12 hours'!$J$102 -> 0.0014571397 | O32: ='12 hours'!$J$103 -> 0.0056915096 | P32: ='12 hours'!$K$102 -> 3.7594057 | Q32: ='12 hours'!$K$103 -> 0.013162683 | R32: ='12 hours'!X2 -> 1:shelfLife(3),deliveryDay(1),timeWindow(240),discount(0),delay(0),deliveryFeeInCents(599) (open from 8 to 20)
A33: 24 hours | B33: ='24 hours'!$D$102 -> 6697.25 | C33: ='24 hours'!$D$103 -> 234.81815 | D33: ='24 hours'!$E$102 -> 6934.85 | E33: ='24 hours'!$E$103 -> 257.06849 | F33: ='24 hours'!$F$102 -> 0.47892293 | G33: ='24 hours'!$F$103 -> 0.014317447 | H33: ='24 hours'!$G$102 -> -1.521633 | I33: ='24 hours'!$G$103 -> 0.060829273 | J33: ='24 hours'!$H$102 -> -1.5929952 | K33: ='24 hours'!$H$103 -> 0.06203394 | L33: ='24 hours'!$I$102 -> 2.137626 | M33: ='24 hours'!$I$103 -> 0.046136869 | N33: ='24 hours'!$J$102 -> 0 | O33: ='24 hours'!$J$103 -> 0 | P33: ='24 hours'!$K$102 -> 3.848152 | Q33: ='24 hours'!$K$103 -> 0.013521627 | R33: ='24 hours'!X2 -> 1:shelfLife(3),deliveryDay(1),timeWindow(240),discount(0),delay(0),deliveryFeeInCents(599) (open from 0 to 24)
B34: Total Orders | D34: Lost Sales | F34: Remaining Customer Base | H34: Av.Utility (Expected) | J34: Av.Utility (Actual) | L34: Av.Distance | N34: Av.Delay | P34: Av.ShelfLife
A35: Offers | B35: mean | C35: sd | D35: mean | E35: sd | F35: mean | G35: sd | H35: mean | I35: sd | J35: mean | K35: sd | L35: mean | M35: sd | N35: mean | O35: sd | P35: mean | Q35: sd
A36: 1 offer | B36: =B6 -> 6281.12 | C36: =C6 -> 231.96143 | D36: =D6 -> 7351.61 | E36: =E6 -> 268.98447 | F36: =F6 -> 0.44974227 | G36: =G6 -> 0.014325007 | H36: =H6 -> -1.5613228 | I36: =I6 -> 0.060769114 | ... R36: =R6 -> 1:shelfLife(3),deliveryDay(1),timeWindow(240),discount(0),delay(0),deliveryFeeInCents(599) (open from 8 to 20)
A37: 3 offers | B37: =Combined!$D$102 -> 7870.82 | C37: =Combined!$D$103 -> 276.22511 | D37: =Combined!$E$102 -> 5759.19 | E37: =Combined!$E$103 -> 247.08362 | F37: =Combined!$F$102 -> 0.55342564 | G37: =Combined!$F$103 -> 0.015059096 | H37: =Combined!$G$102 -> -0.10528747 | I37: =Combined!$G$103 -> 0.065300194 | J37: =Combined!$H$102 -> -0.21232413 | K37: =Combined!$H$103 -> 0.065003172 | L37: =Combined!$I$102 -> 2.0816085 | M37: =Combined!$I$103 -> 0.062191111 | N37: =Combined!$J$102 -> 0.0016826569 | O37: =Combined!$J$103 -> 0.0065429088 | P37: =Combined!$K$102 -> 3.8142478 | Q37: =Combined!$K$103 -> 0.012004959 | R37: =Combined!X2 -> 1:shelfLife(3),deliveryDay(1),timeWindow(240),discount(0),delay(0),deliveryFeeInCents(599) (open from 8 to 20)/2:shelfLife(3),deliveryDay(1),timeWindow(360),discount(0),delay(0),deliveryFeeInCents(399) (open from 8 to 20)/3:shelfLife(3),deliveryDay(0),timeWindow(120),discount(0),delay(0),deliveryFeeInCents(799) (open from 8 to 20)/
B38: Total Orders | D38: Lost Sales | F38: Remaining Customer Base | H38: Av.Utility (Expected) | J38: Av.Utility (Actual) | L38: Av.Distance | N38: Av.Delay | P38: Av.ShelfLife
A39: Discount | B39: mean | C39: sd | D39: mean | E39: sd | F39: mean | G39: sd | H39: mean | I39: sd | J39: mean | K39: sd | L39: mean | M39: sd | N39: mean | O39: sd | P39: mean | Q39: sd
A40: 0 | B40: ='Discount 0'!$D$102 -> 6281.12 | C40: ='Discount 0'!$D$103 -> 231.96143 | D40: ='Discount 0'!$E$102 -> 7351.61 | E40: ='Discount 0'!$E$103 -> 268.98447 | F40: ='Discount 0'!$F$102 -> 0.44974227 | G40: ='Discount 0'!$F$103 -> 0.014325007 | H40: ='Discount 0'!$G$102 -> -1.5613228 | I40: ='Discount 0'!$G$103 -> 0.060769114 | J40: ='Discount 0'!$H$102 -> -1.6267259 | K40: ='Discount 0'!$H$103 -> 0.060659891 | L40: ='Discount 0'!$I$102 -> 2.0991976 | M40: ='Discount 0'!$I$103 -> 0.048086917 | N40: ='Discount 0'!$J$102 -> 0.0014571397 | O40: ='Discount 0'!$J$103 -> 0.0056915096 | P40: ='Discount 0'!$K$102 -> 3.7594057 | Q40: ='Discount 0'!$K$103 -> 0.013162683 | R40: ='Discount 0'!X2 -> 1:shelfLife(3),deliveryDay(1),timeWindow(240),discount(0),delay(0),deliveryFeeInCents(599) (open from 8 to 20)
A41: 5 | B41: ='Discount 5'!$D$102 -> 6254.72 | C41: ='Discount 5'!$D$103 -> 234.44502 | D41: ='Discount 5'!$E$102 -> 7377.95 | E41: ='Discount 5'!$E$103 -> 261.51514 | F41: ='Discount 5'!$F$102 -> 0.44308275 | G41: ='Discount 5'!$F$103 -> 0.014011323 | H41: ='Discount 5'!$G$102 -> -1.3095648 | I41: ='Discount 5'!$G$103 -> 0.076394139 | J41: ='Discount 5'!$H$102 -> -1.3957474 | K41: ='Discount 5'!$H$103 -> 0.07594866 | L41: ='Discount 5'!$I$102 -> 2.1043503 | M41: ='Discount 5'!$I$103 -> 0.045843693 | N41: ='Discount 5'!$J$102 -> 0.0014611444 | O41: ='Discount 5'!$J$103 -> 0.0087651151 | P41: ='Discount 5'!$K$102 -> 3.7634006 | Q41: ='Discount 5'!$K$103 -> 0.011809738 | R41: ='Discount 5'!X2 -> 1:shelfLife(3),deliveryDay(1),timeWindow(240),discount(5),delay(0),deliveryFeeInCents(599) (open from 8 to 20)
A42: 10 | B42: ='Discount 10'!$D$102 -> 6931.37 | C42: ='Discount 10'!$D$103 -> 254.55692 | D42: ='Discount 10'!$E$102 -> 6701.1 | E42: ='Discount 10'!$E$103 -> 245.73142 | F42: ='Discount 10'!$F$102 -> 0.49614344 | G42: ='Discount 10'!$F$103 -> 0.014586976 | H42: ='Discount 10'!$G$102 -> -0.78232625 | I42: ='Discount 10'!$G$103 -> 0.070618431 | J42: ='Discount 10'!$H$102 -> -0.84718511 | K42: ='Discount 10'!$H$103 -> 0.068527243 | L42: ='Discount 10'!$I$102 -> 2.0919709 | M42: ='Discount 10'!$I$103 -> 0.047567499 | N42: ='Discount 10'!$J$102 -> 0.017001296 | O42: ='Discount 10'!$J$103 -> 0.039720637 | P42: ='Discount 10'!$K$102 -> 3.771071 | Q42: ='Discount 10'!$K$103 -> 0.011916898 | R42: ='Discount 10'!X2 -> 1:shelfLife(3),deliveryDay(1),timeWindow(240),discount(10),delay(0),deliveryFeeInCents(599) (open from 8 to 20)
A43: 15 | B43: ='Discount 15'!$D$102 -> 6711.69 | C43: ='Discount 15'!$D$103 -> 236.39035 | D43: ='Discount 15'!$E$102 -> 6921.04 | E43: ='Discount 15'!$E$103 -> 256.80303 | F43: ='Discount 15'!$F$102 -> 0.47617977 | G43: ='Discount 15'!$F$103 -> 0.013545564 | H43: ='Discount 15'!$G$102 -> -0.70245997 | I43: ='Discount 15'!$G$103 -> 0.072434702 | J43: ='Discount 15'!$H$102 -> -0.78519907 | K43: ='Discount 15'!$H$103 -> 0.074263287 | L43: ='Discount 15'!$I$102 -> 2.0820328 | M43: ='Discount 15'!$I$103 -> 0.044778225 | N43: ='Discount 15'!$J$102 -> 0.0026900679 | O43: ='Discount 15'!$J$103 -> 0.0078282096 | P43: ='Discount 15'!$K$102 -> 3.7750943 | Q43: ='Discount 15'!$K$103 -> 0.011822451 | R43: ='Discount 15'!X2 -> 1:shelfLife(3),deliveryDay(1),timeWindow(240),discount(15),delay(0),deliveryFeeInCents(599) (open from 8 to 20)
A44: 20 | B44: ='Discount 20'!$D$102 -> 7659.16 | C44: ='Discount 20'!$D$103 -> 251.24272 | D44: ='Discount 20'!$E$102 -> 5973.24 | E44: ='Discount 20'!$E$103 -> 245.79309 | F44: ='Discount 20'!$F$102 -> 0.53652427 | G44: ='Discount 20'!$F$103 -> 0.013277161 | H44: ='Discount 20'!$G$102 -> 0.24276068 | I44: ='Discount 20'!$G$103 -> 0.072372182 | J44: ='Discount 20'!$H$102 -> 0.15342335 | K44: ='Discount 20'!$H$103 -> 0.071555169 | L44: ='Discount 20'!$I$102 -> 2.1299422 | M44: ='Discount 20'!$I$103 -> 0.05787735 | N44: ='Discount 20'!$J$102 -> 0.059951522 | O44: ='Discount 20'!$J$103 -> 0.083798439 | P44: ='Discount 20'!$K$102 -> 3.7968132 | Q44: ='Discount 20'!$K$103 -> 0.011306621 | R44: ='Discount 20'!X2 -> 1:shelfLife(3),deliveryDay(1),timeWindow(240),discount(20),delay(0),deliveryFeeInCents(599) (open from 8 to 20)

Sheet Shelf life 0
A1: Run | B1: Seed | C1: runTime | D1: OrdersFulfilled | E1: TotalLostSales | F1: RemainingCustomerBase | G1: AvExpUtil | H1: AvActUtil | I1: AvDistance | J1: AvDelay | K1: AvShelfLife | L1: avVehUtil | M1: foodWaste | N1: gapUtility | O1: lostSaleOffer | P1: lostSaleTW | Q1: totalInterest | R1: totalKm | S1: totalDelay | T1: totalExpUtil | U1: totalActUtil | V1: ordersPlaced | W1: stockouts | X1: service
A2: 1 | B2: 515711404 | C2: 1182.707 | D2: 4764 | E2: 9037 | F2: 0.34111363 | G2: -2.6798485 | H2: -2.4031194 | I2: 2.0679959 | J2: 0 | K2: 2.4333147 | L2: 0.30996034 | M2: 7254 | N2: 1318.3373 | O2: 8194 | P2: 843 | Q2: 13801 | R2: 9851.9327 | S2: 0 | T2: -12766.798 | U2: -11448.461 | V2: 4764 | W2: 0 | X2: 1:shelfLife(0),deliveryDay(1),timeWindow(240),discount(0),delay(0),deliveryFeeInCents(599) (open from 8 to 20)
A3: 21 | B3: -470406801 | C3: 1509.695 | D3: 4842 | E3: 8629 | F3: 0.36520076 | G3: -2.675619 | H3: -2.3550108 | I3: 2.0074351 | J3: 0 | K3: 2.5136626 | L3: 0.28397457 | M3: 7095 | N3: 1552.3851 | O3: 7753 | P3: 876 | Q3: 13471 | R3: 9720.0008 | S3: 0 | T3: -12955.347 | U3: -11402.962 | V3: 4842 | W3: 0 | X3: 1:shelfLife(0),deliveryDay(1),timeWindow(240),discount(0),delay(0),deliveryFeeInCents(599) (open from 8 to 20)
A4: 81 | B4: -1730322955 | C4: 1706.887 | D4: 5050 | E4: 8452 | F4: 0.36935413 | G4: -2.7272638 | H4: -2.4658288 | I4: 2.1011471 | J4: 0 | K4: 2.4127433 | L4: 0.31035741 | M4: 6903 | N4: 1320.2469 | O4: 7702 | P4: 750 | Q4: 13502 | R4: 10610.793 | S4: 0 | T4: -13772.682 | U4: -12452.435 | V4: 5050 | W4: 0 | X4: 1:shelfLife(0),deliveryDay(1),timeWindow(240),discount(0),delay(0),deliveryFeeInCents(599) (open from 8 to 20)
A5: 61 | B5: 702795945 | C5: 1935.941 | D5: 5187 | E5: 8533 | F5: 0.37515528 | G5: -2.5932352 | H5: -2.3460821 | I5: 1.9962693 | J5: 0 | K5: 2.4890142 | L5: 0.29640649 | M5: 6850 | N5: 1281.9829 | O5: 8079 | P5: 454 | Q5: 13721 | R5: 10354.649 | S5: 0 | T5: -13451.111 | U5: -12169.128 | V5: 5188 | W5: 0 | X5: 1:shelfLife(0),deliveryDay(1),timeWindow(240),discount(0),delay(0),deliveryFeeInCents(599) (open from 8 to 20)
A6: 41 | B6: 761480347 | C6: 2262.227 | D6: 5215 | E6: 8393 | F6: 0.38281993 | G6: -2.5381662 | H6: -2.2506212 | I6: 2.0332644 | J6: 0 | K6: 2.4838411 | L6: 0.31154042 | M6: 6858 | N6: 1499.5475 | O6: 7460 | P6: 933 | Q6: 13610 | R6: 10603.474 | S6: 0 | T6: -13236.537 | U6: -11736.989 | V6: 5217 | W6: 0 | X6: 1:shelfLife(0),deliveryDay(1),timeWindow(240),discount(0),delay(0),deliveryFeeInCents(599) (open from 8 to 20)
A7: 2 | B7: 382434788 | C7: 1165.938 | D7: 4847 | E7: 8533 | F7: 0.36476483 | G7: -2.6068558 | H7: -2.3334642 | I7: 2.0855842 | J7: 0 | K7: 2.4397449 | L7: 0.28737086 | M7: 6943 | N7: 1325.1292 | O7: 7658 | P7: 875 | Q7: 13381 | R7: 10108.827 | S7: 0 | T7: -12635.43 | U7: -11310.301 | V7: 4848 | W7: 0 | X7: 1:shelfLife(0),deliveryDay(1),timeWindow(240),discount(0),delay(0),deliveryFeeInCents(599) (open from 8 to 20)
A8: 22 | B8: -777409062 | C8: 1537.588 | D8: 4962 | E8: 8773 | F8: 0.36010249 | G8: -2.7044326 | H8: -2.4337419 | I8: 1.9973729 | J8: 0 | K8: 2.4858122 | L8: 0.29423234 | M8: 7038 | N8: 1343.1675 | O8: 7992 | P8: 781 | Q8: 13737 | R8: 9910.9642 | S8: 0 | T8: -13419.395 | U8: -12076.227 | V8: 4964 | W8: 0 | X8: 1:shelfLife(0),deliveryDay(1),timeWindow(240),discount(0),delay(0),deliveryFeeInCents(599) (open from 8 to 20)
A9: 82 | B9: -352012795 | C9: 1391.348 | D9: 5029 | E9: 8416 | F9: 0.37208103 | G9: -2.4740467 | H9: -2.2068041 | I9: 2.0614006 | J9: 0 | K9: 2.4889358 | L9: 0.29613131 | M9: 6910 | N9: 1343.9633 | O9: 7509 | P9: 907 | Q9: 13446 | R9: 10366.784 | S9: 0 | T9: -12441.981 | U9: -11098.018 | V9: 5030 | W9: 0 | X9: 1:shelfLife(0),deliveryDay(1),timeWindow(240),discount(0),delay(0),deliveryFeeInCents(599) (open from 8 to 20)
A10: 62 | B10: -557000124 | C10: 1494.143 | D10: 5181 | E10: 8462 | F10: 0.37912526 | G10: -2.6666312 | H10: -2.3582205 | I10: 2.0049117 | J10: 0 | K10: 2.5062509 | L10: 0.33354252 | M10: 6953 | N10: 1597.8755 | O10: 7741 | P10: 721 | Q10: 13644 | R10: 10387.448 | S10: 0 | T10: -13815.816 | U10: -12217.94 | V10: 5182 | W10: 0 | X10: 1:shelfLife(0),deliveryDay(1),timeWindow(240),discount(0),delay(0),deliveryFeeInCents(599) (open from 8 to 20)
A11: 3 | B11: 2141997007 | C11: 1209.419 | D11: 4740 | E11: 8768 | F11: 0.36149225 | G11: -2.6448497 | H11: -2.3924365 | I11: 2.027975 | J11: 0 | K11: 2.4897857 | L11: 0.29635451 | M11: 7109 | N11: 1196.4389 | O11: 7887 | P11: 881 | Q11: 13508 | R11: 9612.6017 | S11: 0 | T11: -12536.588 | U11: -11340.149 | V11: 4740 | W11: 0 | X11: 1:shelfLife(0),deliveryDay(1),timeWindow(240),discount(0),delay(0),deliveryFeeInCents(599) (open from 8 to 20)
A12: 42 | B12: 1585358012 | C12: 1753.705 | D12: 5116 | E12: 8581 | F12: 0.37232879 | G12: -2.7986 | H12: -2.5442777 | I12: 2.0391157 | J12: 0 | K12: 2.4356186 | L12: 0.30029478 | M12: 6924 | N12: 1301.1129 | O12: 7737 | P12: 844 | Q12: 13697 | R12: 10432.116 | S12: 0 | T12: -14317.638 | U12: -13016.525 | V12: 5116 | W12: 0 | X12: 1:shelfLife(0),deliveryDay(1),timeWindow(240),discount(0),delay(0),deliveryFeeInCents(599) (open from 8 to 20)
A13: 63 | B13: 624355429 | C13: 1173.968 | D13: 4897 | E13: 8952 | F13: 0.34944075 | G13: -2.6520551 | H13: -2.4097367 | I13: 1.9737722 | J13: 0 | K13: 2.4762353 | L13: 0.31571485 | M13: 7133 | N13: 1186.6332 | O13: 8034 | P13: 918 | Q13: 13850 | R13: 9665.5623 | S13: 0 | T13: -12987.114 | U13: -11800.48 | V13: 4898 | W13: 0 | X13: 1:shelfLife(0),deliveryDay(1),timeWindow(240),discount(0),delay(0),deliveryFeeInCents(599) (open from 8 to 20)
... A101: 100 | B101: -1988436389 | C101: 958.425 | D101: 4517 | E101: 8618 | F101: 0.34558824 | G101: -2.7602136 | H101: -2.4302078 | I101: 2.1207354 | J101: 0 | K101: 2.4101457 | L101: 0.29404559 | M101: 7182 | N101: 1490.636 | O101: 7841 | P101: 777 | Q101: 13135 | R101: 9579.3617 | S101: 0 | T101: -12467.885 | U101: -10977.249 | V101: 4517 | W101: 0 | X101: 1:shelfLife(0),deliveryDay(1),timeWindow(240),discount(0),delay(0),deliveryFeeInCents(599) (open from 8 to 20)
B102: Mean | C102: =AVERAGE(C2:C101) -> 1481.7886 | D102: =AVERAGE(D2:D101) -> 4950.21 | E102: =AVERAGE(E2:E101) -> 8682.51 | F102: =AVERAGE(F2:F101) -> 0.36272977 | G102: =AVERAGE(G2:G101) -> -2.6621519 | H102: =AVERAGE(H2:H101) -> -2.3927154 | I102: =AVERAGE(I2:I101) -> 2.0540643 | J102: =AVERAGE(J2:J101) -> 5.3507279e-10 | ... W102: =AVERAGE(W2:W101) -> 0
B103: SD | C103: =STDEVA(C2:C101) -> 249.44727 | D103: =STDEVA(D2:D101) -> 222.36989 | E103: =STDEVA(E2:E101) -> 279.15379 | F103: =STDEVA(F2:F101) -> 0.013980122 | G103: =STDEVA(G2:G101) -> 0.077878778 | H103: =STDEVA(H2:H101) -> 0.079671608 | I103: =STDEVA(I2:I101) -> 0.054480852 | J103: =STDEVA(J2:J101) -> 5.3507279e-09 | ... W103: =STDEVA(W2:W101) -> 0

Sheet Shelf life 1
A1: Run | B1: Seed | C1: runTime | D1: OrdersFulfilled | E1: TotalLostSales | F1: RemainingCustomerBase | G1: AvExpUtil | H1: AvActUtil | I1: AvDistance | J1: AvDelay | K1: AvShelfLife | L1: avVehUtil | M1: foodWaste | N1: gapUtility | O1: lostSaleOffer | P1: lostSaleTW | Q1: totalInterest | R1: totalKm | S1: totalDelay | T1: totalExpUtil | U1: totalActUtil | V1: ordersPlaced | W1: stockouts | X1: service
A2: 21 | B2: -470406801 | C2: 1497.147 | D2: 5100 | E2: 8370 | F2: 0.37902633 | G2: -2.3586213 | H2: -2.1696589 | I2: 2.0568273 | J2: 0 | K2: 2.8706664 | L2: 0.30778602 | M2: 6917 | N2: 963.70837 | O2: 7494 | P2: 876 | Q2: 13471 | R2: 10489.819 | S2: 0 | T2: -12028.969 | U2: -11065.26 | V2: 5101 | W2: 0 | X2: 1:shelfLife(1),deliveryDay(1),timeWindow(240),discount(0),delay(0),deliveryFeeInCents(599) (open from 8 to 20)
A3: 1 | B3: 515711404 | C3: 1573.794 | D3: 5022 | E3: 8779 | F3: 0.35552791 | G3: -2.3694497 | H3: -2.1876694 | I3: 2.0953349 | J3: 0 | K3: 2.8706935 | L3: 0.31237603 | M3: 7067 | N3: 912.90085 | O3: 7936 | P3: 843 | Q3: 13801 | R3: 10522.772 | S3: 0 | T3: -11899.376 | U3: -10986.476 | V3: 5022 | W3: 0 | X3: 1:shelfLife(1),deliveryDay(1),timeWindow(240),discount(0),delay(0),deliveryFeeInCents(599) (open from 8 to 20)
A4: 81 | B4: -1730322955 | C4: 1736.143 | D4: 5262 | E4: 8240 | F4: 0.38693541 | G4: -2.2984546 | H4: -2.1333258 | I4: 2.1268668 | J4: 0 | K4: 2.8645899 | L4: 0.30319189 | M4: 6760 | N4: 868.90738 | O4: 7490 | P4: 750 | Q4: 13502 | R4: 11191.573 | S4: 0 | T4: -12094.468 | U4: -11225.561 | V4: 5262 | W4: 0 | X4: 1:shelfLife(1),deliveryDay(1),timeWindow(240),discount(0),delay(0),deliveryFeeInCents(599) (open from 8 to 20)
A5: 41 | B5: 761480347 | C5: 1734.628 | D5: 5456 | E5: 8153 | F5: 0.39635619 | G5: -2.2594132 | H5: -2.0709275 | I5: 2.0390806 | J5: 0 | K5: 2.8044769 | L5: 0.35332663 | M5: 6687 | N5: 1028.3778 | O5: 7220 | P5: 933 | Q5: 13610 | R5: 11125.224 | S5: 0 | T5: -12327.358 | U5: -11298.98 | V5: 5457 | W5: 0 | X5: 1:shelfLife(1),deliveryDay(1),timeWindow(240),discount(0),delay(0),deliveryFeeInCents(599) (open from 8 to 20)
A6: 61 | B6: 702795945 | C6: 1885.682 | D6: 5362 | E6: 8359 | F6: 0.38377786 | G6: -2.1893569 | H6: -2.0146326 | I6: 2.0357804 | J6: 0 | K6: 2.9036125 | L6: 0.30890602 | M6: 6760 | N6: 936.87193 | O6: 7905 | P6: 454 | Q6: 13721 | R6: 10915.854 | S6: 0 | T6: -11739.332 | U6: -10802.46 | V6: 5362 | W6: 0 | X6: 1:shelfLife(1),deliveryDay(1),timeWindow(240),discount(0),delay(0),deliveryFeeInCents(599) (open from 8 to 20)
A7: 2 | B7: 382434788 | C7: 1474.286 | D7: 5076 | E7: 8303 | F7: 0.37837434 | G7: -2.2036556 | H7: -2.0221269 | I7: 2.1109838 | J7: 0 | K7: 2.8444979 | L7: 0.29960945 | M7: 6774 | N7: 921.43982 | O7: 7428 | P7: 875 | Q7: 13381 | R7: 10715.354 | S7: 0 | T7: -11185.756 | U7: -10264.316 | V7: 5078 | W7: 0 | X7: 1:shelfLife(1),deliveryDay(1),timeWindow(240),discount(0),delay(0),deliveryFeeInCents(599) (open from 8 to 20)
A8: 22 | B8: -777409062 | C8: 1707.321 | D8: 5128 | E8: 8608 | F8: 0.3681552 | G8: -2.3549875 | H8: -2.1820261 | I8: 2.02445 | J8: 0 | K8: 2.8445314 | L8: 0.30188809 | M8: 6952 | N8: 886.94632 | O8: 7827 | P8: 781 | Q8: 13737 | R8: 10381.38 | S8: 0 | T8: -12076.376 | U8: -11189.43 | V8: 5129 | W8: 0 | X8: 1:shelfLife(1),deliveryDay(1),timeWindow(240),discount(0),delay(0),deliveryFeeInCents(599) (open from 8 to 20)
A9: 82 | B9: -352012795 | C9: 1553.079 | D9: 5157 | E9: 8289 | F9: 0.37664825 | G9: -2.0723917 | H9: -1.9035617 | I9: 2.1217508 | J9: 0 | K9: 2.8670152 | L9: 0.30830802 | M9: 6873 | N9: 870.65642 | O9: 7382 | P9: 907 | Q9: 13446 | R9: 10941.869 | S9: 0 | T9: -10687.324 | U9: -9816.6678 | V9: 5157 | W9: 0 | X9: 1:shelfLife(1),deliveryDay(1),timeWindow(240),discount(0),delay(0),deliveryFeeInCents(599) (open from 8 to 20)
A10: 42 | B10: 1585358012 | C10: 1692.267 | D10: 5513 | E10: 8184 | F10: 0.39654292 | G10: -2.4789933 | H10: -2.2904666 | I10: 2.0438188 | J10: 0 | K10: 2.8397549 | L10: 0.32552913 | M10: 6650 | N10: 1039.3477 | O10: 7340 | P10: 844 | Q10: 13697 | R10: 11267.573 | S10: 0 | T10: -13666.69 | U10: -12627.343 | V10: 5513 | W10: 0 | X10: 1:shelfLife(1),deliveryDay(1),timeWindow(240),discount(0),delay(0),deliveryFeeInCents(599) (open from 8 to 20)
A11: 62 | B11: -557000124 | C11: 1742.003 | D11: 5361 | E11: 8282 | F11: 0.3884819 | G11: -2.2717621 | H11: -2.0937054 | I11: 2.0481482 | J11: 0 | K11: 2.8760015 | L11: 0.32321318 | M11: 6862 | N11: 954.56202 | O11: 7561 | P11: 721 | Q11: 13644 | R11: 10980.122 | S11: 0 | T11: -12178.917 | U11: -11224.355 | V11: 5362 | W11: 0 | X11: 1:shelfLife(1),deliveryDay(1),timeWindow(240),discount(0),delay(0),deliveryFeeInCents(599) (open from 8 to 20)
A12: 3 | B12: 2141997007 | C12: 1454.255 | D12: 5070 | E12: 8437 | F12: 0.37951494 | G12: -2.2955448 | H12: -2.1338456 | I12: 2.0320118 | J12: 0 | K12: 2.8930065 | L12: 0.31796585 | M12: 6881 | N12: 819.815 | O12: 7556 | P12: 881 | Q12: 13508 | R12: 10302.3 | S12: 0 | T12: -11638.412 | U12: -10818.597 | V12: 5071 | W12: 0 | X12: 1:shelfLife(1),deliveryDay(1),timeWindow(240),discount(0),delay(0),deliveryFeeInCents(599) (open from 8 to 20)
A13: 43 | B13: 1471829688 | C13: 1524.627 | D13: 5438 | E13: 8511 | F13: 0.38261311 | G13: -2.3189532 | H13: -2.1383352 | I13: 2.004163 | J13: 0 | K13: 2.842413 | L13: 0.34263697 | M13: 6790 | N13: 982.20083 | O13: 7768 | P13: 743 | Q13: 13951 | R13: 10898.638 | S13: 0 | T13: -12610.467 | U13: -11628.267 | V13: 5440 | W13: 0 | X13: 1:shelfLife(1),deliveryDay(1),timeWindow(240),discount(0),delay(0),deliveryFeeInCents(599) (open from 8 to 20)
... A101: 20 | B101: 1882698207 | C101: 1786.212 | D101: 5523 | E101: 8417 | F101: 0.39166608 | G101: -2.3319454 | H101: -2.1343522 | I101: 2.0106108 | J101: 0 | K101: 2.866478 | L101: 0.33628049 | M101: 7047 | N101: 1091.3074 | O101: 7457 | P101: 960 | Q101: 13942 | R101: 11104.604 | S101: 0 | T101: -12879.335 | U101: -11788.027 | V101: 5525 | W101: 0 | X101: 1:shelfLife(1),deliveryDay(1),timeWindow(240),discount(0),delay(0),deliveryFeeInCents(599) (open from 8 to 20)
B102: Mean | C102: =AVERAGE(C2:C101) -> 1570.7558 | D102: =AVERAGE(D2:D101) -> 5190.41 | E102: =AVERAGE(E2:E101) -> 8442.32 | F102: =AVERAGE(F2:F101) -> 0.37585288 | G102: =AVERAGE(G2:G101) -> -2.2913752 | H102: =AVERAGE(H2:H101) -> -2.1179952 | I102: =AVERAGE(I2:I101) -> 2.072324 | J102: =AVERAGE(J2:J101) -> 1.7318663e-09 | ... W102: =AVERAGE(W2:W101) -> 0
B103: SD | C103: =STDEVA(C2:C101) -> 220.11475 | D103: =STDEVA(D2:D101) -> 232.07231 | E103: =STDEVA(E2:E101) -> 273.04944 | F103: =STDEVA(F2:F101) -> 0.014242603 | G103: =STDEVA(G2:G101) -> 0.078721025 | H103: =STDEVA(H2:H101) -> 0.075555948 | I103: =STDEVA(I2:I101) -> 0.053333693 | J103: =STDEVA(J2:J101) -> 1.7318663e-08 | ... W103: =STDEVA(W2:W101) -> 0

Sheet Shelf life 2
A1: Run | B1: Seed | C1: runTime | D1: OrdersFulfilled | E1: TotalLostSales | F1: RemainingCustomerBase | G1: AvExpUtil | H1: AvActUtil | I1: AvDistance | J1: AvDelay | K1: AvShelfLife | L1: avVehUtil | M1: foodWaste | N1: gapUtility | O1: lostSaleOffer | P1: lostSaleTW | Q1: totalInterest | R1: totalKm | S1: totalDelay | T1: totalExpUtil | U1: totalActUtil | V1: ordersPlaced | W1: stockouts | X1: service
A2: 1 | B2: 515711404 | C2: 1889.222 | D2: 5811 | E2: 7990 | F2: 0.39481964 | G2: -1.8612654 | H2: -1.866797 | I2: 2.0283869 | J2: 0 | K2: 3.2875705 | L2: 0.36256547 | M2: 6441 | N2: -32.144035 | O2: 7147 | P2: 843 | Q2: 13801 | R2: 11786.956 | S2: 0 | T2: -10815.813 | U2: -10847.957 | V2: 5811 | W2: 0 | X2: 1:shelfLife(2),deliveryDay(1),timeWindow(240),discount(0),delay(0),deliveryFeeInCents(599) (open from 8 to 20)
A3: 21 | B3: -470406801 | C3: 1950.659 | D3: 5747 | E3: 7724 | F3: 0.42072364 | G3: -1.7970314 | H3: -1.8017766 | I3: 2.0423365 | J3: 0 | K3: 3.2965618 | L3: 0.33854581 | M3: 6428 | N3: -27.270963 | O3: 6848 | P3: 876 | Q3: 13471 | R3: 11737.308 | S3: 0 | T3: -10327.539 | U3: -10354.81 | V3: 5747 | W3: 0 | X3: 1:shelfLife(2),deliveryDay(1),timeWindow(240),discount(0),delay(0),deliveryFeeInCents(599) (open from 8 to 20)
A4: 41 | B4: 761480347 | C4: 2215.549 | D4: 6246 | E4: 7363 | F4: 0.44552572 | G4: -1.7517707 | H4: -1.740563 | I4: 2.0652026 | J4: 0 | K4: 3.3079187 | L4: 0.37540756 | M4: 6103 | N4: 70.003129 | O4: 6430 | P4: 933 | Q4: 13610 | R4: 12899.256 | S4: 0 | T4: -10941.56 | U4: -10871.556 | V4: 6247 | W4: 0 | X4: 1:shelfLife(2),deliveryDay(1),timeWindow(240),discount(0),delay(0),deliveryFeeInCents(599) (open from 8 to 20)
A5: 81 | B5: -1730322955 | C5: 2418.6 | D5: 5888 | E5: 7614 | F5: 0.41694865 | G5: -1.8294851 | H5: -1.8248338 | I5: 2.1094847 | J5: 0 | K5: 3.3019223 | L5: 0.33850917 | M5: 6289 | N5: 27.387221 | O5: 6864 | P5: 750 | Q5: 13502 | R5: 12420.646 | S5: 0 | T5: -10772.008 | U5: -10744.621 | V5: 5888 | W5: 0 | X5: 1:shelfLife(2),deliveryDay(1),timeWindow(240),discount(0),delay(0),deliveryFeeInCents(599) (open from 8 to 20)
A6: 61 | B6: 702795945 | C6: 2461.548 | D6: 6072 | E6: 7648 | F6: 0.42111801 | G6: -1.7733562 | H6: -1.7534087 | I6: 2.0502823 | J6: 0 | K6: 3.287298 | L6: 0.35658139 | M6: 6202 | N6: 121.12119 | O6: 7194 | P6: 454 | Q6: 13721 | R6: 12449.314 | S6: 0 | T6: -10767.819 | U6: -10646.698 | V6: 6073 | W6: 0 | X6: 1:shelfLife(2),deliveryDay(1),timeWindow(240),discount(0),delay(0),deliveryFeeInCents(599) (open from 8 to 20)
A7: 2 | B7: 382434788 | C7: 1820.09 | D7: 5842 | E7: 7538 | F7: 0.41800643 | G7: -1.7210332 | H7: -1.7211387 | I7: 2.0872553 | J7: 0 | K7: 3.2822279 | L7: 0.32967134 | M7: 6169 | N7: -0.6163586 | O7: 6663 | P7: 875 | Q7: 13381 | R7: 12193.746 | S7: 0 | T7: -10054.276 | U7: -10054.892 | V7: 5843 | W7: 0 | X7: 1:shelfLife(2),deliveryDay(1),timeWindow(240),discount(0),delay(0),deliveryFeeInCents(599) (open from 8 to 20)
A8: 22 | B8: -777409062 | C8: 2229.389 | D8: 5892 | E8: 7845 | F8: 0.4079063 | G8: -1.9268626 | H8: -1.9165366 | I8: 2.0677601 | J8: 0 | K8: 3.2440336 | L8: 0.34423766 | M8: 6326 | N8: 60.841176 | O8: 7064 | P8: 781 | Q8: 13737 | R8: 12183.242 | S8: 0 | T8: -11353.075 | U8: -11292.234 | V8: 5892 | W8: 0 | X8: 1:shelfLife(2),deliveryDay(1),timeWindow(240),discount(0),delay(0),deliveryFeeInCents(599) (open from 8 to 20)
A9: 82 | B9: -352012795 | C9: 1960.739 | D9: 5918 | E9: 7527 | F9: 0.41900552 | G9: -1.6938509 | H9: -1.684131 | I9: 2.1300688 | J9: 0 | K9: 3.2707263 | L9: 0.3593434 | M9: 6250 | N9: 57.522597 | O9: 6620 | P9: 907 | Q9: 13446 | R9: 12605.747 | S9: 0 | T9: -10024.21 | U9: -9966.6872 | V9: 5919 | W9: 0 | X9: 1:shelfLife(2),deliveryDay(1),timeWindow(240),discount(0),delay(0),deliveryFeeInCents(599) (open from 8 to 20)
A10: 42 | B10: 1585358012 | C10: 2459.63 | D10: 6206 | E10: 7490 | F10: 0.43060317 | G10: -1.9707354 | H10: -1.9530539 | I10: 2.048528 | J10: 0 | K10: 3.2720873 | L10: 0.36876064 | M10: 6114 | N10: 109.73172 | O10: 6646 | P10: 844 | Q10: 13697 | R10: 12713.165 | S10: 0 | T10: -12230.384 | U10: -12120.652 | V10: 6207 | W10: 0 | X10: 1:shelfLife(2),deliveryDay(1),timeWindow(240),discount(0),delay(0),deliveryFeeInCents(599) (open from 8 to 20)
A11: 62 | B11: -557000124 | C11: 2406.262 | D11: 6069 | E11: 7574 | F11: 0.42090375 | G11: -1.7525781 | H11: -1.760771 | I11: 2.0290258 | J11: 0 | K11: 3.3280765 | L11: 0.3697408 | M11: 6287 | N11: -49.722299 | O11: 6853 | P11: 721 | Q11: 13644 | R11: 12314.158 | S11: 0 | T11: -10636.397 | U11: -10686.119 | V11: 6070 | W11: 0 | X11: 1:shelfLife(2),deliveryDay(1),timeWindow(240),discount(0),delay(0),deliveryFeeInCents(599) (open from 8 to 20)
A12: 3 | B12: 2141997007 | C12: 1779.842 | D12: 5817 | E12: 7691 | F12: 0.41793369 | G12: -1.8718478 | H12: -1.8588432 | I12: 2.0207369 | J12: 0 | K12: 3.2957877 | L12: 0.35708596 | M12: 6279 | N12: 75.648102 | O12: 6810 | P12: 881 | Q12: 13508 | R12: 11754.626 | S12: 0 | T12: -10888.539 | U12: -10812.891 | V12: 5817 | W12: 0 | X12: 1:shelfLife(2),deliveryDay(1),timeWindow(240),discount(0),delay(0),deliveryFeeInCents(599) (open from 8 to 20)
A13: 23 | B13: -902824430 | C13: 2431.424 | D13: 6309 | E13: 7761 | F13: 0.44178377 | G13: -1.8965683 | H13: -1.873293 | I13: 2.0780081 | J13: 0 | K13: 3.2774325 | L13: 0.38142312 | M13: 6267 | N13: 146.84388 | O13: 6992 | P13: 769 | Q13: 14070 | R13: 13110.153 | S13: 0 | T13: -11965.449 | U13: -11818.605 | V13: 6309 | W13: 0 | X13: 1:shelfLife(2),deliveryDay(1),timeWindow(240),discount(0),delay(0),deliveryFeeInCents(599) (open from 8 to 20)
... A101: 100 | B101: -1988436389 | C101: 1517.666 | D101: 5399 | E101: 7736 | F101: 0.39923469 | G101: -1.8324334 | H101: -1.8228821 | I101: 2.131221 | J101: 0 | K101: 3.2819214 | L101: 0.3252665 | M101: 6524 | N101: 51.567532 | O101: 6959 | P101: 777 | Q101: 13135 | R101: 11506.462 | S101: 0 | T101: -9893.3078 | U101: -9841.7403 | V101: 5399 | W101: 0 | X101: 1:shelfLife(2),deliveryDay(1),timeWindow(240),discount(0),delay(0),deliveryFeeInCents(599) (open from 8 to 20)
B102: Mean | C102: =AVERAGE(C2:C101) -> 2155.0079 | D102: =AVERAGE(D2:D101) -> 5889.68 | E102: =AVERAGE(E2:E101) -> 7743.05 | F102: =AVERAGE(F2:F101) -> 0.41579103 | G102: =AVERAGE(G2:G101) -> -1.8062698 | H102: =AVERAGE(H2:H101) -> -1.8021519 | I102: =AVERAGE(I2:I101) -> 2.0694863 | J102: =AVERAGE(J2:J101) -> 6.0697141e-06 | ... W102: =AVERAGE(W2:W101) -> 0
B103: SD | C103: =STDEVA(C2:C101) -> 242.05703 | D103: =STDEVA(D2:D101) -> 232.08458 | E103: =STDEVA(E2:E101) -> 264.80667 | F103: =STDEVA(F2:F101) -> 0.014381019 | G103: =STDEVA(G2:G101) -> 0.074152615 | H103: =STDEVA(H2:H101) -> 0.070463175 | I103: =STDEVA(I2:I101) -> 0.049070756 | J103: =STDEVA(J2:J101) -> 6.0697141e-05 | ... W103: =STDEVA(W2:W101) -> 0

Sheet Shelf life 3
A1: Run | B1: Seed | C1: runTime | D1: OrdersFulfilled | E1: TotalLostSales | F1: RemainingCustomerBase | G1: AvExpUtil | H1: AvActUtil | I1: AvDistance | J1: AvDelay | K1: AvShelfLife | L1: avVehUtil | M1: foodWaste | N1: gapUtility | O1: lostSaleOffer | P1: lostSaleTW | Q1: totalInterest | R1: totalKm | S1: totalDelay | T1: totalExpUtil | U1: totalActUtil | V1: ordersPlaced | W1: stockouts | X1: service
A2: 1 | B2: 515711404 | C2: 1858.931 | D2: 6193 | E2: 7608 | F2: 0.4309651 | G2: -1.6222862 | H2: -1.6950354 | I2: 2.0581459 | J2: 0 | K2: 3.7520103 | L2: 0.37034654 | M2: 6268 | N2: -450.53629 | O2: 6765 | P2: 843 | Q2: 13801 | R2: 12746.098 | S2: 0 | T2: -10046.818 | U2: -10497.355 | V2: 6193 | W2: 0 | X2: 1:shelfLife(3),deliveryDay(1),timeWindow(240),discount(0),delay(0),deliveryFeeInCents(599) (open from 8 to 20)
A3: 21 | B3: -470406801 | C3: 1851.415 | D3: 6148 | E3: 7323 | F3: 0.4473452 | G3: -1.5986465 | H3: -1.6682263 | I3: 2.1079723 | J3: 0.0031620256 | K3: 3.7606335 | L3: 0.3674711 | M3: 6206 | N3: -427.77622 | O3: 6447 | P3: 876 | Q3: 13471 | R3: 12959.813 | S3: 19.440133 | T3: -9828.4788 | U3: -10256.255 | V3: 6148 | W3: 0 | X3: 1:shelfLife(3),deliveryDay(1),timeWindow(240),discount(0),delay(0),deliveryFeeInCents(599) (open from 8 to 20)
A4: 41 | B4: 761480347 | C4: 2024.539 | D4: 6570 | E4: 7038 | F4: 0.47413478 | G4: -1.4821412 | H4: -1.5479288 | I4: 2.0849299 | J4: 0 | K4: 3.7690208 | L4: 0.39869235 | M4: 5969 | N4: -432.22408 | O4: 6105 | P4: 933 | Q4: 13610 | R4: 13697.99 | S4: 0 | T4: -9737.668 | U4: -10169.892 | V4: 6572 | W4: 0 | X4: 1:shelfLife(3),deliveryDay(1),timeWindow(240),discount(0),delay(0),deliveryFeeInCents(599) (open from 8 to 20)
A5: 81 | B5: -1730322955 | C5: 2053.419 | D5: 6234 | E5: 7268 | F5: 0.44968368 | G5: -1.5518208 | H5: -1.620663 | I5: 2.1479978 | J5: 0 | K5: 3.7474556 | L5: 0.37318191 | M5: 6142 | N5: -429.16276 | O5: 6518 | P5: 750 | Q5: 13502 | R5: 13390.619 | S5: 0 | T5: -9674.0506 | U5: -10103.213 | V5: 6234 | W5: 0 | X5: 1:shelfLife(3),deliveryDay(1),timeWindow(240),discount(0),delay(0),deliveryFeeInCents(599) (open from 8 to 20)
A6: 61 | B6: 702795945 | C6: 2326.682 | D6: 6540 | E6: 7180 | F6: 0.46057727 | G6: -1.5412617 | H6: -1.5960119 | I6: 2.1100397 | J6: 0.0035781677 | K6: 3.7608456 | L6: 0.37389291 | M6: 5924 | N6: -358.06595 | O6: 6726 | P6: 454 | Q6: 13721 | R6: 13799.659 | S6: 23.401217 | T6: -10079.852 | U6: -10437.918 | V6: 6541 | W6: 0 | X6: 1:shelfLife(3),deliveryDay(1),timeWindow(240),discount(0),delay(0),deliveryFeeInCents(599) (open from 8 to 20)
A7: 2 | B7: 382434788 | C7: 1859.834 | D7: 6211 | E7: 7169 | F7: 0.45352576 | G7: -1.5055774 | H7: -1.5634354 | I7: 2.1174537 | J7: 0 | K7: 3.7718601 | L7: 0.36089787 | M7: 5996 | N7: -359.35651 | O7: 6294 | P7: 875 | Q7: 13381 | R7: 13151.505 | S7: 0 | T7: -9351.1409 | U7: -9710.4974 | V7: 6212 | W7: 0 | X7: 1:shelfLife(3),deliveryDay(1),timeWindow(240),discount(0),delay(0),deliveryFeeInCents(599) (open from 8 to 20)
A8: 22 | B8: -777409062 | C8: 1886.998 | D8: 6239 | E8: 7498 | F8: 0.44348463 | G8: -1.6532887 | H8: -1.7050139 | I8: 2.0634618 | J8: 0 | K8: 3.7443998 | L8: 0.36322799 | M8: 6174 | N8: -322.71327 | O8: 6717 | P8: 781 | Q8: 13737 | R8: 12873.938 | S8: 0 | T8: -10314.868 | U8: -10637.581 | V8: 6239 | W8: 0 | X8: 1:shelfLife(3),deliveryDay(1),timeWindow(240),discount(0),delay(0),deliveryFeeInCents(599) (open from 8 to 20)
A9: 82 | B9: -352012795 | C9: 1801.782 | D9: 6430 | E9: 7016 | F9: 0.46526703 | G9: -1.4465543 | H9: -1.5303452 | I9: 2.153578 | J9: 0 | K9: 3.7555687 | L9: 0.39625046 | M9: 5954 | N9: -538.77589 | O9: 6109 | P9: 907 | Q9: 13446 | R9: 13847.506 | S9: 0 | T9: -9301.3439 | U9: -9840.1198 | V9: 6430 | W9: 0 | X9: 1:shelfLife(3),deliveryDay(1),timeWindow(240),discount(0),delay(0),deliveryFeeInCents(599) (open from 8 to 20)
A10: 42 | B10: 1585358012 | C10: 2136.853 | D10: 6691 | E10: 7005 | F10: 0.47378018 | G10: -1.684738 | H10: -1.7386668 | I10: 2.0898727 | J10: 0.0095657948 | K10: 3.7711864 | L10: 0.3954087 | M10: 5835 | N10: -360.83765 | O10: 6161 | P10: 844 | Q10: 13697 | R10: 13983.338 | S10: 64.004733 | T10: -11272.582 | U10: -11633.419 | V10: 6692 | W10: 0 | X10: 1:shelfLife(3),deliveryDay(1),timeWindow(240),discount(0),delay(0),deliveryFeeInCents(599) (open from 8 to 20)
A11: 62 | B11: -557000124 | C11: 2078.509 | D11: 6444 | E11: 7199 | F11: 0.45934576 | G11: -1.5364223 | H11: -1.6192279 | I11: 2.0705475 | J11: 0.0047938366 | K11: 3.7634286 | L11: 0.39874141 | M11: 6091 | N11: -533.5994 | O11: 6478 | P11: 721 | Q11: 13644 | R11: 13342.608 | S11: 30.891483 | T11: -9900.7053 | U11: -10434.305 | V11: 6445 | W11: 0 | X11: 1:shelfLife(3),deliveryDay(1),timeWindow(240),discount(0),delay(0),deliveryFeeInCents(599) (open from 8 to 20)
A12: 3 | B12: 2141997007 | C12: 1987.273 | D12: 6157 | E12: 7350 | F12: 0.45138322 | G12: -1.5569694 | H12: -1.6044802 | I12: 2.0772612 | J12: 0 | K12: 3.7582396 | L12: 0.37133938 | M12: 6122 | N12: -292.52351 | O12: 6469 | P12: 881 | Q12: 13508 | R12: 12789.697 | S12: 0 | T12: -9586.2608 | U12: -9878.7843 | V12: 6158 | W12: 0 | X12: 1:shelfLife(3),deliveryDay(1),timeWindow(240),discount(0),delay(0),deliveryFeeInCents(599) (open from 8 to 20)
A13: 23 | B13: -902824430 | C13: 2002.189 | D13: 6654 | E13: 7415 | F13: 0.46852595 | G13: -1.6369797 | H13: -1.6887664 | I13: 2.0939948 | J13: 0 | K13: 3.7531708 | L13: 0.4255213 | M13: 6113 | N13: -344.58896 | O13: 6646 | P13: 769 | Q13: 14070 | R13: 13933.441 | S13: 0 | T13: -10892.463 | U13: -11237.052 | V13: 6655 | W13: 0 | X13: 1:shelfLife(3),deliveryDay(1),timeWindow(240),discount(0),delay(0),deliveryFeeInCents(599) (open from 8 to 20)
... A101: 20 | B101: 1882698207 | C101: 2197.989 | D101: 6626 | E101: 7315 | F101: 0.461891 | G101: -1.575382 | H101: -1.6512988 | I101: 2.0493974 | J101: 0 | K101: 3.7612292 | L101: 0.38838934 | M101: 6309 | N101: -503.02482 | O101: 6355 | P101: 960 | Q101: 13942 | R101: 13579.307 | S101: 0 | T101: -10438.481 | U101: -10941.506 | V101: 6627 | W101: 0 | X101: 1:shelfLife(3),deliveryDay(1),timeWindow(240),discount(0),delay(0),deliveryFeeInCents(599) (open from 8 to 20)
B102: Mean | C102: =AVERAGE(C2:C101) -> 1947.4885 | D102: =AVERAGE(D2:D101) -> 6281.12 | E102: =AVERAGE(E2:E101) -> 7351.61 | F102: =AVERAGE(F2:F101) -> 0.44974227 | G102: =AVERAGE(G2:G101) -> -1.5613228 | H102: =AVERAGE(H2:H101) -> -1.6267259 | I102: =AVERAGE(I2:I101) -> 2.0991976 | J102: =AVERAGE(J2:J101) -> 0.0014571397 | ... W102: =AVERAGE(W2:W101) -> 0
B103: SD | C103: =STDEVA(C2:C101) -> 187.31603 | D103: =STDEVA(D2:D101) -> 231.96143 | E103: =STDEVA(E2:E101) -> 268.98447 | F103: =STDEVA(F2:F101) -> 0.014325007 | G103: =STDEVA(G2:G101) -> 0.060769114 | H103: =STDEVA(H2:H101) -> 0.060659891 | I103: =STDEVA(I2:I101) -> 0.048086917 | J103: =STDEVA(J2:J101) -> 0.0056915096 | ... W103: =STDEVA(W2:W101) -> 0

Sheet Shelf life 4
A1: Run | B1: Seed | C1: runTime | D1: OrdersFulfilled | E1: TotalLostSales | F1: RemainingCustomerBase | G1: AvExpUtil | H1: AvActUtil | I1: AvDistance | J1: AvDelay | K1: AvShelfLife | L1: avVehUtil | M1: foodWaste | N1: gapUtility | O1: lostSaleOffer | P1: lostSaleTW | Q1: totalInterest | R1: totalKm | S1: totalDelay | T1: totalExpUtil | U1: totalActUtil | V1: ordersPlaced | W1: stockouts | X1: service
A2: 1 | B2: 515711404 | C2: 1381.354 | D2: 6373 | E2: 7428 | F2: 0.44618424 | G2: -1.5992347 | H2: -1.6319855 | I2: 2.3465911 | J2: 0 | K2: 4.2475035 | L2: 0.42766051 | M2: 6250 | N2: -208.72091 | O2: 6585 | P2: 843 | Q2: 13801 | R2: 14954.825 | S2: 0 | T2: -10191.923 | U2: -10400.644 | V2: 6373 | W2: 0 | X2: 1:shelfLife(4),deliveryDay(1),timeWindow(240),discount(0),delay(0),deliveryFeeInCents(599) (open from 8 to 20)
A3: 81 | B3: -1730322955 | C3: 1475.396 | D3: 6286 | E3: 7215 | F3: 0.45924673 | G3: -1.5400635 | H3: -1.564987 | I3: 2.4109175 | J3: 0 | K3: 4.2562468 | L3: 0.39654878 | M3: 6248 | N3: -156.66915 | O3: 6465 | P3: 750 | Q3: 13502 | R3: 15155.027 | S3: 0 | T3: -9680.8393 | U3: -9837.5084 | V3: 6287 | W3: 0 | X3: 1:shelfLife(4),deliveryDay(1),timeWindow(240),discount(0),delay(0),deliveryFeeInCents(599) (open from 8 to 20)
A4: 21 | B4: -470406801 | C4: 1475.577 | D4: 6345 | E4: 7124 | F4: 0.46793646 | G4: -1.5655392 | H4: -1.6070812 | I4: 2.3396645 | J4: 0 | K4: 4.2574906 | L4: 0.38637645 | M4: 6157 | N4: -263.58379 | O4: 6248 | P4: 876 | Q4: 13471 | R4: 14845.171 | S4: 0 | T4: -9933.3462 | U4: -10196.93 | V4: 6347 | W4: 0 | X4: 1:shelfLife(4),deliveryDay(1),timeWindow(240),discount(0),delay(0),deliveryFeeInCents(599) (open from 8 to 20)
A5: 61 | B5: 702795945 | C5: 1702.261 | D5: 6686 | E5: 7034 | F5: 0.47146511 | G5: -1.4761745 | H5: -1.4966308 | I5: 2.328208 | J5: 0.00055740852 | K5: 4.2561396 | L5: 0.41491561 | M5: 5906 | N5: -136.77091 | O5: 6580 | P5: 454 | Q5: 13721 | R5: 15566.399 | S5: 3.7268333 | T5: -9869.7026 | U5: -10006.473 | V5: 6687 | W5: 0 | X5: 1:shelfLife(4),deliveryDay(1),timeWindow(240),discount(0),delay(0),deliveryFeeInCents(599) (open from 8 to 20)
A6: 41 | B6: 761480347 | C6: 1789.743 | D6: 6639 | E6: 6969 | F6: 0.48086632 | G6: -1.4821637 | H6: -1.5048955 | I6: 2.355805 | J6: 0 | K6: 4.2568539 | L6: 0.44057203 | M6: 6022 | N6: -150.91641 | O6: 6036 | P6: 933 | Q6: 13610 | R6: 15640.189 | S6: 0 | T6: -9840.0849 | U6: -9991.0013 | V6: 6641 | W6: 0 | X6: 1:shelfLife(4),deliveryDay(1),timeWindow(240),discount(0),delay(0),deliveryFeeInCents(599) (open from 8 to 20)
A7: 2 | B7: 382434788 | C7: 1246.291 | D7: 6279 | E7: 7101 | F7: 0.46743438 | G7: -1.4500937 | H7: -1.4946882 | I7: 2.3692544 | J7: 0 | K7: 4.2400225 | L7: 0.38556247 | M7: 6098 | N7: -280.00851 | O7: 6226 | P7: 875 | Q7: 13381 | R7: 14876.549 | S7: 0 | T7: -9105.1387 | U7: -9385.1472 | V7: 6280 | W7: 0 | X7: 1:shelfLife(4),deliveryDay(1),timeWindow(240),discount(0),delay(0),deliveryFeeInCents(599) (open from 8 to 20)
A8: 82 | B8: -352012795 | C8: 1426.657 | D8: 6402 | E8: 7042 | F8: 0.46777164 | G8: -1.4052877 | H8: -1.4407469 | I8: 2.4560904 | J8: 0 | K8: 4.2626031 | L8: 0.39761873 | M8: 6101 | N8: -227.01032 | O8: 6135 | P8: 907 | Q8: 13446 | R8: 15723.891 | S8: 0 | T8: -8996.6515 | U8: -9223.6619 | V8: 6404 | W8: 0 | X8: 1:shelfLife(4),deliveryDay(1),timeWindow(240),discount(0),delay(0),deliveryFeeInCents(599) (open from 8 to 20)
A9: 22 | B9: -777409062 | C9: 1441.727 | D9: 6342 | E9: 7395 | F9: 0.4545388 | G9: -1.6121293 | H9: -1.6265549 | I9: 2.3707659 | J9: 0.035711511 | K9: 4.2491533 | L9: 0.41038741 | M9: 6203 | N9: -91.486852 | O9: 6614 | P9: 781 | Q9: 13737 | R9: 15035.398 | S9: 226.4824 | T9: -10224.124 | U9: -10315.611 | V9: 6342 | W9: 0 | X9: 1:shelfLife(4),deliveryDay(1),timeWindow(240),discount(0),delay(0),deliveryFeeInCents(599) (open from 8 to 20)
A10: 62 | B10: -557000124 | C10: 1575.014 | D10: 6543 | E10: 7101 | F10: 0.47109596 | G10: -1.5377812 | H10: -1.5585439 | I10: 2.4079464 | J10: 0.025001205 | K10: 4.2513395 | L10: 0.41811383 | M10: 6148 | N10: -135.85011 | O10: 6380 | P10: 721 | Q10: 13644 | R10: 15755.193 | S10: 163.58288 | T10: -10061.703 | U10: -10197.553 | V10: 6543 | W10: 0 | X10: 1:shelfLife(4),deliveryDay(1),timeWindow(240),discount(0),delay(0),deliveryFeeInCents(599) (open from 8 to 20)
A11: 42 | B11: 1585358012 | C11: 1932.925 | D11: 6768 | E11: 6928 | F11: 0.48399096 | G11: -1.6985172 | H11: -1.714596 | I11: 2.4248126 | J11: 0 | K11: 4.2519132 | L11: 0.43541897 | M11: 5907 | N11: -108.82077 | O11: 6084 | P11: 844 | Q11: 13697 | R11: 16411.132 | S11: 0 | T11: -11495.565 | U11: -11604.385 | V11: 6769 | W11: 0 | X11: 1:shelfLife(4),deliveryDay(1),timeWindow(240),discount(0),delay(0),deliveryFeeInCents(599) (open from 8 to 20)
A12: 3 | B12: 2141997007 | C12: 1634.263 | D12: 6348 | E12: 7159 | F12: 0.46198917 | G12: -1.5413929 | H12: -1.5604717 | I12: 2.337409 | J12: 0 | K12: 4.2497694 | L12: 0.38477752 | M12: 6073 | N12: -121.11185 | O12: 6278 | P12: 881 | Q12: 13508 | R12: 14837.872 | S12: 0 | T12: -9784.7623 | U12: -9905.8741 | V12: 6349 | W12: 0 | X12: 1:shelfLife(4),deliveryDay(1),timeWindow(240),discount(0),delay(0),deliveryFeeInCents(599) (open from 8 to 20)
A13: 23 | B13: -902824430 | C13: 1661.983 | D13: 6858 | E13: 7209 | F13: 0.48594781 | G13: -1.5908413 | H13: -1.6145314 | I13: 2.3924362 | J13: 0 | K13: 4.2375051 | L13: 0.45353159 | M13: 6061 | N13: -162.46654 | O13: 6440 | P13: 769 | Q13: 14070 | R13: 16407.328 | S13: 0 | T13: -10909.99 | U13: -11072.456 | V13: 6861 | W13: 0 | X13: 1:shelfLife(4),deliveryDay(1),timeWindow(240),discount(0),delay(0),deliveryFeeInCents(599) (open from 8 to 20)
... A101: 60 | B101: 1125753208 | C101: 1120.66 | D101: 5914 | E101: 7416 | F101: 0.43417825 | G101: -1.5205161 | H101: -1.5274313 | I101: 2.3446408 | J101: 0 | K101: 4.2555402 | L101: 0.36197455 | M101: 6444 | N101: -40.896675 | O101: 6463 | P101: 953 | Q101: 13330 | R101: 13866.206 | S101: 0 | T101: -8992.3322 | U101: -9033.2289 | V101: 5914 | W101: 0 | X101: 1:shelfLife(4),deliveryDay(1),timeWindow(240),discount(0),delay(0),deliveryFeeInCents(599) (open from 8 to 20)
B102: Mean | C102: =AVERAGE(C2:C101) -> 1529.9723 | D102: =AVERAGE(D2:D101) -> 6379.02 | E102: =AVERAGE(E2:E101) -> 7253.52 | F102: =AVERAGE(F2:F101) -> 0.46020872 | G102: =AVERAGE(G2:G101) -> -1.5468971 | H102: =AVERAGE(H2:H101) -> -1.571093 | I102: =AVERAGE(I2:I101) -> 2.3688277 | J102: =AVERAGE(J2:J101) -> 0.0016194038 | ... W102: =AVERAGE(W2:W101) -> 0
B103: SD | C103: =STDEVA(C2:C101) -> 214.38137 | D103: =STDEVA(D2:D101) -> 236.09367 | E103: =STDEVA(E2:E101) -> 259.44535 | F103: =STDEVA(F2:F101) -> 0.014192468 | G103: =STDEVA(G2:G101) -> 0.073040873 | H103: =STDEVA(H2:H101) -> 0.072171103 | I103: =STDEVA(I2:I101) -> 0.050171443 | J103: =STDEVA(J2:J101) -> 0.007359702 | ... W103: =STDEVA(W2:W101) -> 0

Sheet Shelf life 5
A1: Run | B1: Seed | C1: runTime | D1: OrdersFulfilled | E1: TotalLostSales | F1: RemainingCustomerBase | G1: AvExpUtil | H1: AvActUtil | I1: AvDistance | J1: AvDelay | K1: AvShelfLife | L1: avVehUtil | M1: foodWaste | N1: gapUtility | O1: lostSaleOffer | P1: lostSaleTW | Q1: totalInterest | R1: totalKm | S1: totalDelay | T1: totalExpUtil | U1: totalActUtil | V1: ordersPlaced | W1: stockouts | X1: service
A2: 1 | B2: 515711404 | C2: 1715.354 | D2: 6213 | E2: 7587 | F2: 0.4375503 | G2: -1.6817667 | H2: -1.6831376 | I2: 2.7120848 | J2: 0 | K2: 4.3412939 | L2: 0.39974305 | M2: 6394 | N2: -8.5176487 | O2: 6744 | P2: 843 | Q2: 13801 | R2: 16850.183 | S2: 0 | T2: -10448.817 | U2: -10457.334 | V2: 6214 | W2: 0 | X2: 1:shelfLife(5),deliveryDay(1),timeWindow(240),discount(0),delay(0),deliveryFeeInCents(599) (open from 8 to 20)
A3: 21 | B3: -470406801 | C3: 1711.076 | D3: 6136 | E3: 7335 | F3: 0.45778791 | G3: -1.6923661 | H3: -1.6582734 | I3: 2.7164407 | J3: 0 | K3: 4.3442828 | L3: 0.38273737 | M3: 6351 | N3: 209.19311 | O3: 6459 | P3: 876 | Q3: 13471 | R3: 16668.08 | S3: 0 | T3: -10384.359 | U3: -10175.166 | V3: 6136 | W3: 0 | X3: 1:shelfLife(5),deliveryDay(1),timeWindow(240),discount(0),delay(0),deliveryFeeInCents(599) (open from 8 to 20)
A4: 81 | B4: -1730322955 | C4: 1770.124 | D4: 6202 | E4: 7300 | F4: 0.45233191 | G4: -1.6158451 | H4: -1.586995 | I4: 2.765605 | J4: 0 | K4: 4.3369817 | L4: 0.38579655 | M4: 6322 | N4: 178.92849 | O4: 6550 | P4: 750 | Q4: 13502 | R4: 17152.282 | S4: 0 | T4: -10021.471 | U4: -9842.5429 | V4: 6202 | W4: 0 | X4: 1:shelfLife(5),deliveryDay(1),timeWindow(240),discount(0),delay(0),deliveryFeeInCents(599) (open from 8 to 20)
A5: 61 | B5: 702795945 | C5: 1905.93 | D5: 6498 | E5: 7221 | F5: 0.46671538 | G5: -1.5449897 | H5: -1.5177951 | I5: 2.6974015 | J5: 0 | K5: 4.3299559 | L5: 0.39916811 | M5: 6108 | N5: 176.71078 | O5: 6767 | P5: 454 | Q5: 13721 | R5: 17527.715 | S5: 0 | T5: -10039.343 | U5: -9862.6323 | V5: 6500 | W5: 0 | X5: 1:shelfLife(5),deliveryDay(1),timeWindow(240),discount(0),delay(0),deliveryFeeInCents(599) (open from 8 to 20)
A6: 41 | B6: 761480347 | C6: 2103.981 | D6: 6491 | E6: 7119 | F6: 0.47457379 | G6: -1.6357331 | H6: -1.5687473 | I6: 2.7158673 | J6: 0 | K6: 4.3407574 | L6: 0.38940514 | M6: 6197 | N6: 434.80457 | O6: 6186 | P6: 933 | Q6: 13610 | R6: 17628.695 | S6: 0 | T6: -10617.543 | U6: -10182.739 | V6: 6491 | W6: 0 | X6: 1:shelfLife(5),deliveryDay(1),timeWindow(240),discount(0),delay(0),deliveryFeeInCents(599) (open from 8 to 20)
A7: 2 | B7: 382434788 | C7: 1724.732 | D7: 6185 | E7: 7195 | F7: 0.46406939 | G7: -1.5380516 | H7: -1.4855821 | I7: 2.6864203 | J7: 0 | K7: 4.3208427 | L7: 0.38755912 | M7: 6153 | N7: 324.52389 | O7: 6320 | P7: 875 | Q7: 13381 | R7: 16615.509 | S7: 0 | T7: -9512.8494 | U7: -9188.3255 | V7: 6186 | W7: 0 | X7: 1:shelfLife(5),deliveryDay(1),timeWindow(240),discount(0),delay(0),deliveryFeeInCents(599) (open from 8 to 20)
A8: 82 | B8: -352012795 | C8: 1818.262 | D8: 6271 | E8: 7174 | F8: 0.46217311 | G8: -1.4827322 | H8: -1.4557684 | I8: 2.8228395 | J8: 0 | K8: 4.3437323 | L8: 0.37246884 | M8: 6237 | N8: 169.09038 | O8: 6267 | P8: 907 | Q8: 13446 | R8: 17702.027 | S8: 0 | T8: -9298.2138 | U8: -9129.1234 | V8: 6272 | W8: 0 | X8: 1:shelfLife(5),deliveryDay(1),timeWindow(240),discount(0),delay(0),deliveryFeeInCents(599) (open from 8 to 20)
A9: 22 | B9: -777409062 | C9: 1995.098 | D9: 6299 | E9: 7438 | F9: 0.45146413 | G9: -1.6620617 | H9: -1.6501314 | I9: 2.7220577 | J9: 0.035993615 | K9: 4.3219937 | L9: 0.40411139 | M9: 6259 | N9: 75.14889 | O9: 6657 | P9: 781 | Q9: 13737 | R9: 17146.242 | S9: 226.72378 | T9: -10469.327 | U9: -10394.178 | V9: 6299 | W9: 0 | X9: 1:shelfLife(5),deliveryDay(1),timeWindow(240),discount(0),delay(0),deliveryFeeInCents(599) (open from 8 to 20)
A10: 62 | B10: -557000124 | C10: 2109.431 | D10: 6523 | E10: 7121 | F10: 0.46899253 | G10: -1.6394999 | H10: -1.6007307 | I10: 2.7676198 | J10: 0.0013467551 | K10: 4.3244814 | L10: 0.40610822 | M10: 6184 | N10: 252.8914 | O10: 6400 | P10: 721 | Q10: 13644 | R10: 18053.184 | S10: 8.7848833 | T10: -10694.458 | U10: -10441.566 | V10: 6523 | W10: 0 | X10: 1:shelfLife(5),deliveryDay(1),timeWindow(240),discount(0),delay(0),deliveryFeeInCents(599) (open from 8 to 20)
A11: 42 | B11: 1585358012 | C11: 1958.61 | D11: 6610 | E11: 7086 | F11: 0.47749982 | G11: -1.751009 | H11: -1.7315305 | I11: 2.7444901 | J11: 0 | K11: 4.323493 | L11: 0.41170912 | M11: 6090 | N11: 128.75296 | O11: 6242 | P11: 844 | Q11: 13697 | R11: 18141.079 | S11: 0 | T11: -11574.17 | U11: -11445.417 | V11: 6611 | W11: 0 | X11: 1:shelfLife(5),deliveryDay(1),timeWindow(240),discount(0),delay(0),deliveryFeeInCents(599) (open from 8 to 20)
A12: 83 | B12: -563020019 | C12: 1536.961 | D12: 6343 | E12: 7454 | F12: 0.45404385 | G12: -1.5580098 | H12: -1.5304653 | I12: 2.7251006 | J12: 0 | K12: 4.3249715 | L12: 0.42010121 | M12: 6359 | N12: 174.71463 | O12: 6722 | P12: 732 | Q12: 13797 | R12: 17285.313 | S12: 0 | T12: -9882.4562 | U12: -9707.7416 | V12: 6343 | W12: 0 | X12: 1:shelfLife(5),deliveryDay(1),timeWindow(240),discount(0),delay(0),deliveryFeeInCents(599) (open from 8 to 20)
A13: 3 | B13: 2141997007 | C13: 1872.452 | D13: 6206 | E13: 7302 | F13: 0.45783579 | G13: -1.6352966 | H13: -1.5986157 | I13: 2.7020502 | J13: 0 | K13: 4.3342478 | L13: 0.37853835 | M13: 6213 | N13: 227.6421 | O13: 6421 | P13: 881 | Q13: 13508 | R13: 16768.924 | S13: 0 | T13: -10148.651 | U13: -9921.0088 | V13: 6206 | W13: 0 | X13: 1:shelfLife(5),deliveryDay(1),timeWindow(240),discount(0),delay(0),deliveryFeeInCents(599) (open from 8 to 20)
... A101: 60 | B101: 1125753208 | C101: 1502.969 | D101: 5803 | E101: 7525 | F101: 0.42778562 | G101: -1.587733 | H101: -1.5844443 | I101: 2.7938385 | J101: 0 | K101: 4.346559 | L101: 0.36691738 | M101: 6572 | N101: 19.084552 | O101: 6572 | P101: 953 | Q101: 13330 | R101: 16212.645 | S101: 0 | T101: -9213.6148 | U101: -9194.5303 | V101: 5805 | W101: 0 | X101: 1:shelfLife(5),deliveryDay(1),timeWindow(240),discount(0),delay(0),deliveryFeeInCents(599) (open from 8 to 20)
B102: Mean | C102: =AVERAGE(C2:C101) -> 1782.43 | D102: =AVERAGE(D2:D101) -> 6273 | E102: =AVERAGE(E2:E101) -> 7359.49 | F102: =AVERAGE(F2:F101) -> 0.45569953 | G102: =AVERAGE(G2:G101) -> -1.6274196 | H102: =AVERAGE(H2:H101) -> -1.5995593 | I102: =AVERAGE(I2:I101) -> 2.7303697 | J102: =AVERAGE(J2:J101) -> 0.00055161182 | ... W102: =AVERAGE(W2:W101) -> 0
B103: SD | C103: =STDEVA(C2:C101) -> 210.70435 | D103: =STDEVA(D2:D101) -> 232.65104 | E103: =STDEVA(E2:E101) -> 256.69234 | F103: =STDEVA(F2:F101) -> 0.013963464 | G103: =STDEVA(G2:G101) -> 0.074340094 | H103: =STDEVA(H2:H101) -> 0.073466136 | I103: =STDEVA(I2:I101) -> 0.048657324 | J103: =STDEVA(J2:J101) -> 0.0037132538 | ... W103: =STDEVA(W2:W101) -> 0

Sheet Delivery fee 0
A1: Run | B1: Seed | C1: runTime | D1: OrdersFulfilled | E1: TotalLostSales | F1: RemainingCustomerBase | G1: AvExpUtil | H1: AvActUtil | I1: AvDistance | J1: AvDelay | K1: AvShelfLife | L1: avVehUtil | M1: foodWaste | N1: gapUtility | O1: lostSaleOffer | P1: lostSaleTW | Q1: totalInterest | R1: totalKm | S1: totalDelay | T1: totalExpUtil | U1: totalActUtil | V1: ordersPlaced | W1: stockouts | X1: service
A2: 21 | B2: -470406801 | C2: 4214.956 | D2: 9871 | E2: 3598 | F2: 0.72356229 | G2: 1.8849321 | H2: 1.7757995 | I2: 2.5455335 | J2: 1.9549824 | K2: 3.8879405 | L2: 0.7642185 | M2: 2978 | N2: -1077.2484 | O2: 2722 | P2: 876 | Q2: 13471 | R2: 25126.961 | S2: 19297.631 | T2: 18606.165 | U2: 17528.916 | V2: 9873 | W2: 14 | X2: 1:shelfLife(3),deliveryDay(1),timeWindow(240),discount(0),delay(0),deliveryFeeInCents(0) (open from 8 to 20)
A3: 1 | B3: 515711404 | C3: 4281.803 | D3: 9954 | E3: 3847 | F3: 0.70000732 | G3: 1.8125368 | H3: 1.7195114 | I3: 2.573747 | J3: 1.5858407 | K3: 3.8830014 | L3: 0.79509194 | M3: 2946 | N3: -925.97473 | O3: 3004 | P3: 843 | Q3: 13801 | R3: 25619.077 | S3: 15785.459 | T3: 18041.992 | U3: 17116.017 | V3: 9954 | W3: 8 | X3: 1:shelfLife(3),deliveryDay(1),timeWindow(240),discount(0),delay(0),deliveryFeeInCents(0) (open from 8 to 20)
A4: 41 | B4: 761480347 | C4: 4479.066 | D4: 9912 | E4: 3697 | F4: 0.71025097 | G4: 2.0015139 | H4: 1.8940879 | I4: 2.5278679 | J4: 1.1767199 | K4: 3.8841695 | L4: 0.7667176 | M4: 3056 | N4: -1064.8064 | O4: 2764 | P4: 933 | Q4: 13610 | R4: 25056.226 | S4: 11663.647 | T4: 19839.006 | U4: 18774.2 | V4: 9913 | W4: 0 | X4: 1:shelfLife(3),deliveryDay(1),timeWindow(240),discount(0),delay(0),deliveryFeeInCents(0) (open from 8 to 20)
A5: 61 | B5: 702795945 | C5: 4508.271 | D5: 10304 | E5: 3415 | F5: 0.73299233 | G5: 1.81745 | H5: 1.7066101 | I5: 2.6447874 | J5: 1.8132068 | K5: 3.8810272 | L5: 0.80284583 | M5: 2706 | N5: -1142.0943 | O5: 2961 | P5: 454 | Q5: 13721 | R5: 27251.89 | S5: 18683.283 | T5: 18727.005 | U5: 17584.911 | V5: 10306 | W5: 32 | X5: 1:shelfLife(3),deliveryDay(1),timeWindow(240),discount(0),delay(0),deliveryFeeInCents(0) (open from 8 to 20)
A6: 81 | B6: -1730322955 | C6: 4629.078 | D6: 10074 | E6: 3427 | F6: 0.7309107 | G6: 1.9124537 | H6: 1.7819067 | I6: 2.6755678 | J6: 2.2102975 | K6: 3.8774818 | L6: 0.80828533 | M6: 2829 | N6: -1315.1311 | O6: 2677 | P6: 750 | Q6: 13502 | R6: 26953.67 | S6: 22266.537 | T6: 19266.059 | U6: 17950.928 | V6: 10075 | W6: 3 | X6: 1:shelfLife(3),deliveryDay(1),timeWindow(240),discount(0),delay(0),deliveryFeeInCents(0) (open from 8 to 20)
A7: 2 | B7: 382434788 | C7: 3991.941 | D7: 9511 | E7: 3869 | F7: 0.7014133 | G7: 2.0322949 | H7: 1.9266614 | I7: 2.5333172 | J7: 0.99025109 | K7: 3.8715149 | L7: 0.76098365 | M7: 3186 | N7: -1004.6804 | O7: 2994 | P7: 875 | Q7: 13381 | R7: 24094.38 | S7: 9418.2782 | T7: 19329.157 | U7: 18324.477 | V7: 9512 | W7: 1 | X7: 1:shelfLife(3),deliveryDay(1),timeWindow(240),discount(0),delay(0),deliveryFeeInCents(0) (open from 8 to 20)
A8: 22 | B8: -777409062 | C8: 4254.632 | D8: 10091 | E8: 3645 | F8: 0.71339678 | G8: 1.7441373 | H8: 1.6495627 | I8: 2.4855065 | J8: 1.9996227 | K8: 3.864589 | L8: 0.77559292 | M8: 2807 | N8: -954.35194 | O8: 2864 | P8: 781 | Q8: 13737 | R8: 25081.246 | S8: 20178.193 | T8: 17600.089 | U8: 16645.737 | V8: 10092 | W8: 21 | X8: 1:shelfLife(3),deliveryDay(1),timeWindow(240),discount(0),delay(0),deliveryFeeInCents(0) (open from 8 to 20)
A9: 62 | B9: -557000124 | C9: 4312.085 | D9: 9814 | E9: 3829 | F9: 0.69841155 | G9: 1.8670225 | H9: 1.7525451 | I9: 2.4136802 | J9: 2.5072809 | K9: 3.8375933 | L9: 0.73759209 | M9: 3235 | N9: -1123.4817 | O9: 3108 | P9: 721 | Q9: 13644 | R9: 23687.858 | S9: 24606.454 | T9: 18322.959 | U9: 17199.477 | V9: 9815 | W9: 76 | X9: 1:shelfLife(3),deliveryDay(1),timeWindow(240),discount(0),delay(0),deliveryFeeInCents(0) (open from 8 to 20)
A10: 82 | B10: -352012795 | C10: 4494.558 | D10: 10044 | E10: 3399 | F10: 0.73745856 | G10: 1.9888129 | H10: 1.8787654 | I10: 2.5940085 | J10: 1.4356366 | K10: 3.8892676 | L10: 0.77291368 | M10: 2852 | N10: -1105.3169 | O10: 2492 | P10: 907 | Q10: 13446 | R10: 26054.221 | S10: 14419.534 | T10: 19975.637 | U10: 18870.32 | V10: 10047 | W10: 0 | X10: 1:shelfLife(3),deliveryDay(1),timeWindow(240),discount(0),delay(0),deliveryFeeInCents(0) (open from 8 to 20)
A11: 42 | B11: 1585358012 | C11: 4875.404 | D11: 10340 | E11: 3355 | F11: 0.74013566 | G11: 1.9063527 | H11: 1.8118515 | I11: 2.6492102 | J11: 2.4344447 | K11: 3.8952882 | L11: 0.80711262 | M11: 2703 | N11: -977.14245 | O11: 2511 | P11: 844 | Q11: 13697 | R11: 27392.833 | S11: 25172.158 | T11: 19711.687 | U11: 18734.544 | V11: 10342 | W11: 30 | X11: 1:shelfLife(3),deliveryDay(1),timeWindow(240),discount(0),delay(0),deliveryFeeInCents(0) (open from 8 to 20)
A12: 3 | B12: 2141997007 | C12: 3981.084 | D12: 9705 | E12: 3802 | F12: 0.6988059 | G12: 1.8731461 | H12: 1.7809869 | I12: 2.4956304 | J12: 2.3515065 | K12: 3.8784226 | L12: 0.71910173 | M12: 3055 | N12: -894.40479 | O12: 2921 | P12: 881 | Q12: 13508 | R12: 24220.093 | S12: 22821.37 | T12: 18178.882 | U12: 17284.478 | V12: 9706 | W12: 0 | X12: 1:shelfLife(3),deliveryDay(1),timeWindow(240),discount(0),delay(0),deliveryFeeInCents(0) (open from 8 to 20)
A13: 23 | B13: -902824430 | C13: 4593.323 | D13: 10228 | E13: 3840 | F13: 0.71429596 | G13: 1.8418048 | H13: 1.7366991 | I13: 2.6727342 | J13: 2.4158651 | K13: 3.8757759 | L13: 0.81496687 | M13: 3010 | N13: -1075.021 | O13: 3071 | P13: 769 | Q13: 14070 | R13: 27336.726 | S13: 24709.468 | T13: 18837.979 | U13: 17762.958 | V13: 10230 | W13: 29 | X13: 1:shelfLife(3),deliveryDay(1),timeWindow(240),discount(0),delay(0),deliveryFeeInCents(0) (open from 8 to 20)
... A101: 100 | B101: -1988436389 | C101: 3960.71 | D101: 9661 | E101: 3473 | F101: 0.71203481 | G101: 1.8987245 | H101: 1.8026773 | I101: 2.4440459 | J101: 0.70887873 | K101: 3.871681 | L101: 0.7334409 | M101: 2958 | N101: -927.91184 | O101: 2696 | P101: 777 | Q101: 13135 | R101: 23611.927 | S101: 6848.4775 | T101: 18343.577 | U101: 17415.665 | V101: 9662 | W101: 0 | X101: 1:shelfLife(3),deliveryDay(1),timeWindow(240),discount(0),delay(0),deliveryFeeInCents(0) (open from 8 to 20)
B102: Mean | C102: =AVERAGE(C2:C101) -> 4363.8059 | D102: =AVERAGE(D2:D101) -> 9887.31 | E102: =AVERAGE(E2:E101) -> 3745.01 | F102: =AVERAGE(F2:F101) -> 0.7081246 | G102: =AVERAGE(G2:G101) -> 1.8905296 | H102: =AVERAGE(H2:H101) -> 1.7883754 | I102: =AVERAGE(I2:I101) -> 2.5561309 | J102: =AVERAGE(J2:J101) -> 1.4802855 | ... W102: =AVERAGE(W2:W101) -> 10.21
B103: SD | C103: =STDEVA(C2:C101) -> 238.34518 | D103: =STDEVA(D2:D101) -> 279.07002 | E103: =STDEVA(E2:E101) -> 201.1165 | F103: =STDEVA(F2:F101) -> 0.013053113 | G103: =STDEVA(G2:G101) -> 0.061151759 | H103: =STDEVA(H2:H101) -> 0.060165355 | I103: =STDEVA(I2:I101) -> 0.087036933 | J103: =STDEVA(J2:J101) -> 0.58767693 | ... W103: =STDEVA(W2:W101) -> 15.528595

Sheet Delivery fee 1.99
A1: Run | B1: Seed | C1: runTime | D1: OrdersFulfilled | E1: TotalLostSales | F1: RemainingCustomerBase | G1: AvExpUtil | H1: AvActUtil | I1: AvDistance | J1: AvDelay | K1: AvShelfLife | L1: avVehUtil | M1: foodWaste | N1: gapUtility | O1: lostSaleOffer | P1: lostSaleTW | Q1: totalInterest | R1: totalKm | S1: totalDelay | T1: totalExpUtil | U1: totalActUtil | V1: ordersPlaced | W1: stockouts | X1: service
A2: 21 | B2: -470406801 | C2: 3662.129 | D2: 9107 | E2: 4362 | F2: 0.66097956 | G2: 0.92234013 | H2: 0.79889734 | I2: 2.3143592 | J2: 1.0195753 | K2: 3.8435479 | L2: 0.67098064 | M2: 3598 | N2: -1124.1935 | O2: 3486 | P2: 876 | Q2: 13471 | R2: 21076.869 | S2: 9285.2723 | T2: 8399.7515 | U2: 7275.5581 | V2: 9109 | W2: 6 | X2: 1:shelfLife(3),deliveryDay(1),timeWindow(240),discount(0),delay(0),deliveryFeeInCents(199) (open from 8 to 20)
A3: 1 | B3: 515711404 | C3: 3799.596 | D3: 9331 | E3: 4467 | F3: 0.65303285 | G3: 0.93507637 | H3: 0.81105876 | I3: 2.4488988 | J3: 0.96943385 | K3: 3.8486786 | L3: 0.70250245 | M3: 3489 | N3: -1157.2083 | O3: 3624 | P3: 843 | Q3: 13801 | R3: 22850.674 | S3: 9045.7872 | T3: 8725.1976 | U3: 7567.9893 | V3: 9334 | W3: 0 | X3: 1:shelfLife(3),deliveryDay(1),timeWindow(240),discount(0),delay(0),deliveryFeeInCents(199) (open from 8 to 20)
A4: 81 | B4: -1730322955 | C4: 3975.138 | D4: 9398 | E4: 4103 | F4: 0.67529793 | G4: 0.89460411 | H4: 0.80013022 | I4: 2.4947422 | J4: 1.0619555 | K4: 3.8458568 | L4: 0.71588248 | M4: 3353 | N4: -887.86568 | O4: 3353 | P4: 750 | Q4: 13502 | R4: 23445.587 | S4: 9980.2582 | T4: 8407.4894 | U4: 7519.6238 | V4: 9399 | W4: 0 | X4: 1:shelfLife(3),deliveryDay(1),timeWindow(240),discount(0),delay(0),deliveryFeeInCents(199) (open from 8 to 20)
A5: 41 | B5: 761480347 | C5: 3972.083 | D5: 9387 | E5: 4223 | F5: 0.66700812 | G5: 1.0241117 | H5: 0.92863987 | I5: 2.3518784 | J5: 0.46255255 | K5: 3.8601055 | L5: 0.71269349 | M5: 3523 | N5: -896.19414 | O5: 3290 | P5: 933 | Q5: 13610 | R5: 22077.082 | S5: 4341.9808 | T5: 9613.3366 | U5: 8717.1425 | V5: 9387 | W5: 0 | X5: 1:shelfLife(3),deliveryDay(1),timeWindow(240),discount(0),delay(0),deliveryFeeInCents(199) (open from 8 to 20)
A6: 61 | B6: 702795945 | C6: 4930.74 | D6: 9656 | E6: 4065 | F6: 0.68198758 | G6: 0.93391335 | H6: 0.84062583 | I6: 2.4460762 | J6: 0.95560435 | K6: 3.8532934 | L6: 0.72053581 | M6: 3217 | N6: -900.78432 | O6: 3611 | P6: 454 | Q6: 13721 | R6: 23619.312 | S6: 9227.3156 | T6: 9017.8673 | U6: 8117.083 | V6: 9656 | W6: 14 | X6: 1:shelfLife(3),deliveryDay(1),timeWindow(240),discount(0),delay(0),deliveryFeeInCents(199) (open from 8 to 20)
A7: 2 | B7: 382434788 | C7: 3676.102 | D7: 8930 | E7: 4450 | F7: 0.65071413 | G7: 0.95459804 | H7: 0.85591918 | I7: 2.3370637 | J7: 0.27768848 | K7: 3.8297732 | L7: 0.67466102 | M7: 3663 | N7: -881.20216 | O7: 3575 | P7: 875 | Q7: 13381 | R7: 20869.979 | S7: 2479.7582 | T7: 8524.5605 | U7: 7643.3583 | V7: 8931 | W7: 0 | X7: 1:shelfLife(3),deliveryDay(1),timeWindow(240),discount(0),delay(0),deliveryFeeInCents(199) (open from 8 to 20)
A8: 22 | B8: -777409062 | C8: 3881.697 | D8: 9348 | E8: 4388 | F8: 0.65746706 | G8: 0.77907186 | H8: 0.66699954 | I8: 2.3528403 | J8: 0.87429287 | K8: 3.8455267 | L8: 0.65160223 | M8: 3466 | N8: -1047.6521 | O8: 3607 | P8: 781 | Q8: 13737 | R8: 21994.351 | S8: 8172.8897 | T8: 7282.7637 | U8: 6235.1117 | V8: 9349 | W8: 13 | X8: 1:shelfLife(3),deliveryDay(1),timeWindow(240),discount(0),delay(0),deliveryFeeInCents(199) (open from 8 to 20)
A9: 82 | B9: -352012795 | C9: 3858.468 | D9: 9255 | E9: 4190 | F9: 0.66755065 | G9: 0.99528642 | H9: 0.88887112 | I9: 2.3541987 | J9: 0.61424717 | K9: 3.8518075 | L9: 0.64256291 | M9: 3484 | N9: -984.87362 | O9: 3283 | P9: 907 | Q9: 13446 | R9: 21788.109 | S9: 5684.8576 | T9: 9211.3758 | U9: 8226.5022 | V9: 9256 | W9: 0 | X9: 1:shelfLife(3),deliveryDay(1),timeWindow(240),discount(0),delay(0),deliveryFeeInCents(199) (open from 8 to 20)
A10: 42 | B10: 1585358012 | C10: 4033.406 | D10: 9724 | E10: 3973 | F10: 0.68579972 | G10: 0.88736672 | H10: 0.78404576 | I10: 2.4438054 | J10: 1.2743641 | K10: 3.8509312 | L10: 0.71560133 | M10: 3196 | N10: -1004.6931 | O10: 3129 | P10: 844 | Q10: 13697 | R10: 23763.563 | S10: 12391.917 | T10: 8628.754 | U10: 7624.061 | V10: 9724 | W10: 20 | X10: 1:shelfLife(3),deliveryDay(1),timeWindow(240),discount(0),delay(0),deliveryFeeInCents(199) (open from 8 to 20)
A11: 62 | B11: -557000124 | C11: 4713.443 | D11: 9346 | E11: 4297 | F11: 0.66316095 | G11: 0.94684436 | H11: 0.81621656 | I11: 2.3462247 | J11: 2.0134705 | K11: 3.8230912 | L11: 0.69628748 | M11: 3613 | N11: -1220.8474 | O11: 3576 | P11: 721 | Q11: 13644 | R11: 21927.816 | S11: 18817.895 | T11: 8849.2074 | U11: 7628.36 | V11: 9347 | W11: 68 | X11: 1:shelfLife(3),deliveryDay(1),timeWindow(240),discount(0),delay(0),deliveryFeeInCents(199) (open from 8 to 20)
A12: 3 | B12: 2141997007 | C12: 3770.983 | D12: 9116 | E12: 4391 | F12: 0.6550471 | G12: 0.84733365 | H12: 0.74124203 | I12: 2.3483559 | J12: 0.83163568 | K12: 3.8590811 | L12: 0.67746728 | M12: 3531 | N12: -967.13125 | O12: 3510 | P12: 881 | Q12: 13508 | R12: 21407.613 | S12: 7581.1909 | T12: 7724.2936 | U12: 6757.1623 | V12: 9117 | W12: 0 | X12: 1:shelfLife(3),deliveryDay(1),timeWindow(240),discount(0),delay(0),deliveryFeeInCents(199) (open from 8 to 20)
A13: 23 | B13: -902824430 | C13: 4076.229 | D13: 9730 | E13: 4338 | F13: 0.67550903 | G13: 0.81599431 | H13: 0.71137835 | I13: 2.4966483 | J13: 1.3111015 | K13: 3.8565656 | L13: 0.74465219 | M13: 3434 | N13: -1017.9133 | O13: 3569 | P13: 769 | Q13: 14070 | R13: 24292.388 | S13: 12757.017 | T13: 7939.6247 | U13: 6921.7113 | V13: 9732 | W13: 12 | X13: 1:shelfLife(3),deliveryDay(1),timeWindow(240),discount(0),delay(0),deliveryFeeInCents(199) (open from 8 to 20)
... A101: 80 | B101: 953410059 | C101: 3662.793 | D101: 9702 | E101: 4396 | F101: 0.6618244 | G101: 0.8918886 | H101: 0.80269401 | I101: 2.3746542 | J101: 1.1540217 | K101: 3.8520975 | L101: 0.73716125 | M101: 3549 | N101: -865.36587 | O101: 3628 | P101: 768 | Q101: 14100 | R101: 23038.895 | S101: 11196.318 | T101: 8653.1032 | U101: 7787.7373 | V101: 9704 | W101: 22 | X101: 1:shelfLife(3),deliveryDay(1),timeWindow(240),discount(0),delay(0),deliveryFeeInCents(199) (open from 8 to 20)
B102: Mean | C102: =AVERAGE(C2:C101) -> 3937.2979 | D102: =AVERAGE(D2:D101) -> 9296.4 | E102: =AVERAGE(E2:E101) -> 4335.91 | F102: =AVERAGE(F2:F101) -> 0.65998982 | G102: =AVERAGE(G2:G101) -> 0.92123975 | H102: =AVERAGE(H2:H101) -> 0.81683321 | I102: =AVERAGE(I2:I101) -> 2.3709366 | J102: =AVERAGE(J2:J101) -> 0.74120249 | ... W102: =AVERAGE(W2:W101) -> 5.09
B103: SD | C103: =STDEVA(C2:C101) -> 373.08317 | D103: =STDEVA(D2:D101) -> 269.941 | E103: =STDEVA(E2:E101) -> 211.66865 | F103: =STDEVA(F2:F101) -> 0.013459109 | G103: =STDEVA(G2:G101) -> 0.061520826 | H103: =STDEVA(H2:H101) -> 0.063196835 | I103: =STDEVA(I2:I101) -> 0.091155522 | J103: =STDEVA(J2:J101) -> 0.41665689 | ... W103: =STDEVA(W2:W101) -> 11.645518

Sheet Delivery fee 3.99
A1: Run | B1: Seed | C1: runTime | D1: OrdersFulfilled | E1: TotalLostSales | F1: RemainingCustomerBase | G1: AvExpUtil | H1: AvActUtil | I1: AvDistance | J1: AvDelay | K1: AvShelfLife | L1: avVehUtil | M1: foodWaste | N1: gapUtility | O1: lostSaleOffer | P1: lostSaleTW | Q1: totalInterest | R1: totalKm | S1: totalDelay | T1: totalExpUtil | U1: totalActUtil | V1: ordersPlaced | W1: stockouts | X1: service
A2: 81 | B2: -1730322955 | C2: 2676.435 | D2: 8032 | E2: 5469 | F2: 0.56561718 | G2: 0.73444579 | H2: 0.61460111 | I2: 2.25447 | J2: 0.1195666 | K2: 3.7802122 | L2: 0.55805355 | M2: 4555 | N2: -962.59247 | O2: 4719 | P2: 750 | Q2: 13502 | R2: 18107.903 | S2: 960.35895 | T2: 5899.0686 | U2: 4936.4761 | V2: 8033 | W2: 0 | X2: 1:shelfLife(3),deliveryDay(1),timeWindow(240),discount(0),delay(0),deliveryFeeInCents(399) (open from 8 to 20)
A3: 21 | B3: -470406801 | C3: 2745.122 | D3: 7984 | E3: 5485 | F3: 0.57339315 | G3: 0.60441071 | H3: 0.48568016 | I3: 2.201397 | J3: 0.40304127 | K3: 3.8111427 | L3: 0.5500011 | M3: 4574 | N3: -947.94474 | O3: 4609 | P3: 876 | Q3: 13471 | R3: 17575.954 | S3: 3217.8815 | T3: 4825.6151 | U3: 3877.6704 | V3: 7986 | W3: 0 | X3: 1:shelfLife(3),deliveryDay(1),timeWindow(240),discount(0),delay(0),deliveryFeeInCents(399) (open from 8 to 20)
A4: 1 | B4: 515711404 | C4: 2797.128 | D4: 8107 | E4: 5693 | F4: 0.56047413 | G4: 0.60179225 | H4: 0.49782432 | I4: 2.1515099 | J4: 0.053271155 | K4: 3.8165738 | L4: 0.51635813 | M4: 4594 | N4: -842.86798 | O4: 4850 | P4: 843 | Q4: 13801 | R4: 17442.291 | S4: 431.86925 | T4: 4878.7298 | U4: 4035.8618 | V4: 8108 | W4: 0 | X4: 1:shelfLife(3),deliveryDay(1),timeWindow(240),discount(0),delay(0),deliveryFeeInCents(399) (open from 8 to 20)
A5: 61 | B5: 702795945 | C5: 2801.066 | D5: 8253 | E5: 5468 | F5: 0.57544757 | G5: 0.54079243 | H5: 0.44484518 | I5: 2.1221021 | J5: 0.0058485904 | K5: 3.8057839 | L5: 0.51252888 | M5: 4369 | N5: -791.85264 | O5: 5014 | P5: 454 | Q5: 13721 | R5: 17513.709 | S5: 48.268417 | T5: 4463.1599 | U5: 3671.3073 | V5: 8253 | W5: 0 | X5: 1:shelfLife(3),deliveryDay(1),timeWindow(240),discount(0),delay(0),deliveryFeeInCents(399) (open from 8 to 20)
A6: 41 | B6: 761480347 | C6: 2855.511 | D6: 8173 | E6: 5437 | F6: 0.57803468 | G6: 0.75184637 | H6: 0.62679276 | I6: 2.1195654 | J6: 0.023661503 | K6: 3.8196211 | L6: 0.50803311 | M6: 4543 | N6: -1022.0631 | O6: 4504 | P6: 933 | Q6: 13610 | R6: 17323.208 | S6: 193.38547 | T6: 6144.8404 | U6: 5122.7773 | V6: 8173 | W6: 0 | X6: 1:shelfLife(3),deliveryDay(1),timeWindow(240),discount(0),delay(0),deliveryFeeInCents(399) (open from 8 to 20)
A7: 22 | B7: -777409062 | C7: 2368.758 | D7: 7901 | E7: 5835 | F7: 0.54421669 | G7: 0.48000516 | H7: 0.38596714 | I7: 2.1261216 | J7: 0.03901323 | K7: 3.7816237 | L7: 0.53039345 | M7: 4680 | N7: -742.99437 | O7: 5054 | P7: 781 | Q7: 13737 | R7: 16798.487 | S7: 308.24353 | T7: 3792.5208 | U7: 3049.5264 | V7: 7902 | W7: 0 | X7: 1:shelfLife(3),deliveryDay(1),timeWindow(240),discount(0),delay(0),deliveryFeeInCents(399) (open from 8 to 20)
A8: 2 | B8: 382434788 | C8: 2592.868 | D8: 7773 | E8: 5606 | F8: 0.56449563 | G8: 0.80908121 | H8: 0.73035914 | I8: 2.1223626 | J8: 0.010363285 | K8: 3.7922958 | L8: 0.5039166 | M8: 4659 | N8: -611.90663 | O8: 4731 | P8: 875 | Q8: 13381 | R8: 16497.125 | S8: 80.553817 | T8: 6288.9883 | U8: 5677.0816 | V8: 7775 | W8: 0 | X8: 1:shelfLife(3),deliveryDay(1),timeWindow(240),discount(0),delay(0),deliveryFeeInCents(399) (open from 8 to 20)
A9: 82 | B9: -352012795 | C9: 2750.76 | D9: 8134 | E9: 5310 | F9: 0.57163904 | G9: 0.75701122 | H9: 0.64856371 | I9: 2.2980087 | J9: 0.3824701 | K9: 3.8030259 | L9: 0.53827189 | M9: 4429 | N9: -882.112 | O9: 4403 | P9: 907 | Q9: 13446 | R9: 18692.003 | S9: 3111.0118 | T9: 6157.5292 | U9: 5275.4173 | V9: 8136 | W9: 0 | X9: 1:shelfLife(3),deliveryDay(1),timeWindow(240),discount(0),delay(0),deliveryFeeInCents(399) (open from 8 to 20)
A10: 62 | B10: -557000124 | C10: 2703.037 | D10: 8084 | E10: 5559 | F10: 0.56487996 | G10: 0.63858336 | H10: 0.5206899 | I10: 2.2449741 | J10: 0.47491929 | K10: 3.7843546 | L10: 0.56578286 | M10: 4663 | N10: -953.05079 | O10: 4838 | P10: 721 | Q10: 13644 | R10: 18148.37 | S10: 3839.2476 | T10: 5162.3079 | U10: 4209.2571 | V10: 8085 | W10: 0 | X10: 1:shelfLife(3),deliveryDay(1),timeWindow(240),discount(0),delay(0),deliveryFeeInCents(399) (open from 8 to 20)
A11: 42 | B11: 1585358012 | C11: 3167.528 | D11: 8582 | E11: 5114 | F11: 0.59229816 | G11: 0.69865132 | H11: 0.59318922 | I11: 2.2517933 | J11: 0.33808783 | K11: 3.8261505 | L11: 0.59520051 | M11: 4170 | N11: -905.07571 | O11: 4270 | P11: 844 | Q11: 13697 | R11: 19324.89 | S11: 2901.4698 | T11: 5995.8256 | U11: 5090.7499 | V11: 8583 | W11: 0 | X11: 1:shelfLife(3),deliveryDay(1),timeWindow(240),discount(0),delay(0),deliveryFeeInCents(399) (open from 8 to 20)
A12: 63 | B12: 624355429 | C12: 2534.475 | D12: 7830 | E12: 6019 | F12: 0.54813948 | G12: 0.6621204 | H12: 0.53356062 | I12: 2.1413971 | J12: 0.038736946 | K12: 3.815611 | L12: 0.48705265 | M12: 4776 | N12: -1006.6231 | O12: 5101 | P12: 918 | Q12: 13850 | R12: 16767.139 | S12: 303.31028 | T12: 5184.4028 | U12: 4177.7796 | V12: 7831 | W12: 0 | X12: 1:shelfLife(3),deliveryDay(1),timeWindow(240),discount(0),delay(0),deliveryFeeInCents(399) (open from 8 to 20)
A13: 3 | B13: 2141997007 | C13: 2788.384 | D13: 7978 | E13: 5529 | F13: 0.56775198 | G13: 0.73757476 | H13: 0.59023071 | I13: 2.2254052 | J13: 0.30646562 | K13: 3.806958 | L13: 0.56887781 | M13: 4511 | N13: -1175.5109 | O13: 4648 | P13: 881 | Q13: 13508 | R13: 17754.283 | S13: 2444.9827 | T13: 5884.3714 | U13: 4708.8606 | V13: 7979 | W13: 0 | X13: 1:shelfLife(3),deliveryDay(1),timeWindow(240),discount(0),delay(0),deliveryFeeInCents(399) (open from 8 to 20)
... A101: 20 | B101: 1882698207 | C101: 2917.397 | D101: 8232 | E101: 5709 | F101: 0.56320948 | G101: 0.60438975 | H101: 0.49568126 | I101: 2.1684068 | J101: 0.10670819 | K101: 3.8036805 | L101: 0.55241024 | M101: 4899 | N101: -894.88828 | O101: 4749 | P101: 960 | Q101: 13942 | R101: 17850.325 | S101: 878.4218 | T101: 4975.3364 | U101: 4080.4481 | V101: 8233 | W101: 0 | X101: 1:shelfLife(3),deliveryDay(1),timeWindow(240),discount(0),delay(0),deliveryFeeInCents(399) (open from 8 to 20)
B102: Mean | C102: =AVERAGE(C2:C101) -> 2692.362 | D102: =AVERAGE(D2:D101) -> 7992.84 | E102: =AVERAGE(E2:E101) -> 5639.54 | F102: =AVERAGE(F2:F101) -> 0.56066764 | G102: =AVERAGE(G2:G101) -> 0.6740014 | H102: =AVERAGE(H2:H101) -> 0.55782422 | I102: =AVERAGE(I2:I101) -> 2.1672387 | J102: =AVERAGE(J2:J101) -> 0.12501221 | ... W102: =AVERAGE(W2:W101) -> 0.01
B103: SD | C103: =STDEVA(C2:C101) -> 230.47559 | D103: =STDEVA(D2:D101) -> 267.64256 | E103: =STDEVA(E2:E101) -> 251.24427 | F103: =STDEVA(F2:F101) -> 0.01464952 | G103: =STDEVA(G2:G101) -> 0.080184902 | H103: =STDEVA(H2:H101) -> 0.076633102 | I103: =STDEVA(I2:I101) -> 0.061788295 | J103: =STDEVA(J2:J101) -> 0.13941807 | ... W103: =STDEVA(W2:W101) -> 0.1

Sheet Delivery fee 5.99
A1: Run | B1: Seed | C1: runTime | D1: OrdersFulfilled | E1: TotalLostSales | F1: RemainingCustomerBase | G1: AvExpUtil | H1: AvActUtil | I1: AvDistance | J1: AvDelay | K1: AvShelfLife | L1: avVehUtil | M1: foodWaste | N1: gapUtility | O1: lostSaleOffer | P1: lostSaleTW | Q1: totalInterest | R1: totalKm | S1: totalDelay | T1: totalExpUtil | U1: totalActUtil | V1: ordersPlaced | W1: stockouts | X1: service
A2: 1 | B2: 515711404 | C2: 1858.931 | D2: 6193 | E2: 7608 | F2: 0.4309651 | G2: -1.6222862 | H2: -1.6950354 | I2: 2.0581459 | J2: 0 | K2: 3.7520103 | L2: 0.37034654 | M2: 6268 | N2: -450.53629 | O2: 6765 | P2: 843 | Q2: 13801 | R2: 12746.098 | S2: 0 | T2: -10046.818 | U2: -10497.355 | V2: 6193 | W2: 0 | X2: 1:shelfLife(3),deliveryDay(1),timeWindow(240),discount(0),delay(0),deliveryFeeInCents(599) (open from 8 to 20)
A3: 21 | B3: -470406801 | C3: 1851.415 | D3: 6148 | E3: 7323 | F3: 0.4473452 | G3: -1.5986465 | H3: -1.6682263 | I3: 2.1079723 | J3: 0.0031620256 | K3: 3.7606335 | L3: 0.3674711 | M3: 6206 | N3: -427.77622 | O3: 6447 | P3: 876 | Q3: 13471 | R3: 12959.813 | S3: 19.440133 | T3: -9828.4788 | U3: -10256.255 | V3: 6148 | W3: 0 | X3: 1:shelfLife(3),deliveryDay(1),timeWindow(240),discount(0),delay(0),deliveryFeeInCents(599) (open from 8 to 20)
A4: 41 | B4: 761480347 | C4: 2024.539 | D4: 6570 | E4: 7038 | F4: 0.47413478 | G4: -1.4821412 | H4: -1.5479288 | I4: 2.0849299 | J4: 0 | K4: 3.7690208 | L4: 0.39869235 | M4: 5969 | N4: -432.22408 | O4: 6105 | P4: 933 | Q4: 13610 | R4: 13697.99 | S4: 0 | T4: -9737.668 | U4: -10169.892 | V4: 6572 | W4: 0 | X4: 1:shelfLife(3),deliveryDay(1),timeWindow(240),discount(0),delay(0),deliveryFeeInCents(599) (open from 8 to 20)
A5: 81 | B5: -1730322955 | C5: 2053.419 | D5: 6234 | E5: 7268 | F5: 0.44968368 | G5: -1.5518208 | H5: -1.620663 | I5: 2.1479978 | J5: 0 | K5: 3.7474556 | L5: 0.37318191 | M5: 6142 | N5: -429.16276 | O5: 6518 | P5: 750 | Q5: 13502 | R5: 13390.619 | S5: 0 | T5: -9674.0506 | U5: -10103.213 | V5: 6234 | W5: 0 | X5: 1:shelfLife(3),deliveryDay(1),timeWindow(240),discount(0),delay(0),deliveryFeeInCents(599) (open from 8 to 20)
A6: 61 | B6: 702795945 | C6: 2326.682 | D6: 6540 | E6: 7180 | F6: 0.46057727 | G6: -1.5412617 | H6: -1.5960119 | I6: 2.1100397 | J6: 0.0035781677 | K6: 3.7608456 | L6: 0.37389291 | M6: 5924 | N6: -358.06595 | O6: 6726 | P6: 454 | Q6: 13721 | R6: 13799.659 | S6: 23.401217 | T6: -10079.852 | U6: -10437.918 | V6: 6541 | W6: 0 | X6: 1:shelfLife(3),deliveryDay(1),timeWindow(240),discount(0),delay(0),deliveryFeeInCents(599) (open from 8 to 20)
A7: 2 | B7: 382434788 | C7: 1859.834 | D7: 6211 | E7: 7169 | F7: 0.45352576 | G7: -1.5055774 | H7: -1.5634354 | I7: 2.1174537 | J7: 0 | K7: 3.7718601 | L7: 0.36089787 | M7: 5996 | N7: -359.35651 | O7: 6294 | P7: 875 | Q7: 13381 | R7: 13151.505 | S7: 0 | T7: -9351.1409 | U7: -9710.4974 | V7: 6212 | W7: 0 | X7: 1:shelfLife(3),deliveryDay(1),timeWindow(240),discount(0),delay(0),deliveryFeeInCents(599) (open from 8 to 20)
A8: 22 | B8: -777409062 | C8: 1886.998 | D8: 6239 | E8: 7498 | F8: 0.44348463 | G8: -1.6532887 | H8: -1.7050139 | I8: 2.0634618 | J8: 0 | K8: 3.7443998 | L8: 0.36322799 | M8: 6174 | N8: -322.71327 | O8: 6717 | P8: 781 | Q8: 13737 | R8: 12873.938 | S8: 0 | T8: -10314.868 | U8: -10637.581 | V8: 6239 | W8: 0 | X8: 1:shelfLife(3),deliveryDay(1),timeWindow(240),discount(0),delay(0),deliveryFeeInCents(599) (open from 8 to 20)
A9: 82 | B9: -352012795 | C9: 1801.782 | D9: 6430 | E9: 7016 | F9: 0.46526703 | G9: -1.4465543 | H9: -1.5303452 | I9: 2.153578 | J9: 0 | K9: 3.7555687 | L9: 0.39625046 | M9: 5954 | N9: -538.77589 | O9: 6109 | P9: 907 | Q9: 13446 | R9: 13847.506 | S9: 0 | T9: -9301.3439 | U9: -9840.1198 | V9: 6430 | W9: 0 | X9: 1:shelfLife(3),deliveryDay(1),timeWindow(240),discount(0),delay(0),deliveryFeeInCents(599) (open from 8 to 20)
A10: 42 | B10: 1585358012 | C10: 2136.853 | D10: 6691 | E10: 7005 | F10: 0.47378018 | G10: -1.684738 | H10: -1.7386668 | I10: 2.0898727 | J10: 0.0095657948 | K10: 3.7711864 | L10: 0.3954087 | M10: 5835 | N10: -360.83765 | O10: 6161 | P10: 844 | Q10: 13697 | R10: 13983.338 | S10: 64.004733 | T10: -11272.582 | U10: -11633.419 | V10: 6692 | W10: 0 | X10: 1:shelfLife(3),deliveryDay(1),timeWindow(240),discount(0),delay(0),deliveryFeeInCents(599) (open from 8 to 20)
A11: 62 | B11: -557000124 | C11: 2078.509 | D11: 6444 | E11: 7199 | F11: 0.45934576 | G11: -1.5364223 | H11: -1.6192279 | I11: 2.0705475 | J11: 0.0047938366 | K11: 3.7634286 | L11: 0.39874141 | M11: 6091 | N11: -533.5994 | O11: 6478 | P11: 721 | Q11: 13644 | R11: 13342.608 | S11: 30.891483 | T11: -9900.7053 | U11: -10434.305 | V11: 6445 | W11: 0 | X11: 1:shelfLife(3),deliveryDay(1),timeWindow(240),discount(0),delay(0),deliveryFeeInCents(599) (open from 8 to 20)
A12: 3 | B12: 2141997007 | C12: 1987.273 | D12: 6157 | E12: 7350 | F12: 0.45138322 | G12: -1.5569694 | H12: -1.6044802 | I12: 2.0772612 | J12: 0 | K12: 3.7582396 | L12: 0.37133938 | M12: 6122 | N12: -292.52351 | O12: 6469 | P12: 881 | Q12: 13508 | R12: 12789.697 | S12: 0 | T12: -9586.2608 | U12: -9878.7843 | V12: 6158 | W12: 0 | X12: 1:shelfLife(3),deliveryDay(1),timeWindow(240),discount(0),delay(0),deliveryFeeInCents(599) (open from 8 to 20)
A13: 23 | B13: -902824430 | C13: 2002.189 | D13: 6654 | E13: 7415 | F13: 0.46852595 | G13: -1.6369797 | H13: -1.6887664 | I13: 2.0939948 | J13: 0 | K13: 3.7531708 | L13: 0.4255213 | M13: 6113 | N13: -344.58896 | O13: 6646 | P13: 769 | Q13: 14070 | R13: 13933.441 | S13: 0 | T13: -10892.463 | U13: -11237.052 | V13: 6655 | W13: 0 | X13: 1:shelfLife(3),deliveryDay(1),timeWindow(240),discount(0),delay(0),deliveryFeeInCents(599) (open from 8 to 20)
... A101: 20 | B101: 1882698207 | C101: 2197.989 | D101: 6626 | E101: 7315 | F101: 0.461891 | G101: -1.575382 | H101: -1.6512988 | I101: 2.0493974 | J101: 0 | K101: 3.7612292 | L101: 0.38838934 | M101: 6309 | N101: -503.02482 | O101: 6355 | P101: 960 | Q101: 13942 | R101: 13579.307 | S101: 0 | T101: -10438.481 | U101: -10941.506 | V101: 6627 | W101: 0 | X101: 1:shelfLife(3),deliveryDay(1),timeWindow(240),discount(0),delay(0),deliveryFeeInCents(599) (open from 8 to 20)
B102: Mean | C102: =AVERAGE(C2:C101) -> 1947.4885 | D102: =AVERAGE(D2:D101) -> 6281.12 | E102: =AVERAGE(E2:E101) -> 7351.61 | F102: =AVERAGE(F2:F101) -> 0.44974227 | G102: =AVERAGE(G2:G101) -> -1.5613228 | H102: =AVERAGE(H2:H101) -> -1.6267259 | I102: =AVERAGE(I2:I101) -> 2.0991976 | J102: =AVERAGE(J2:J101) -> 0.0014571397 | ... W102: =AVERAGE(W2:W101) -> 0
B103: SD | C103: =STDEVA(C2:C101) -> 187.31603 | D103: =STDEVA(D2:D101) -> 231.96143 | E103: =STDEVA(E2:E101) -> 268.98447 | F103: =STDEVA(F2:F101) -> 0.014325007 | G103: =STDEVA(G2:G101) -> 0.060769114 | H103: =STDEVA(H2:H101) -> 0.060659891 | I103: =STDEVA(I2:I101) -> 0.048086917 | J103: =STDEVA(J2:J101) -> 0.0056915096 | ... W103: =STDEVA(W2:W101) -> 0

Sheet Delivery fee 7.99
A1: Run | B1: Seed | C1: runTime | D1: OrdersFulfilled | E1: TotalLostSales | F1: RemainingCustomerBase | G1: AvExpUtil | H1: AvActUtil | I1: AvDistance | J1: AvDelay | K1: AvShelfLife | L1: avVehUtil | M1: foodWaste | N1: gapUtility | O1: lostSaleOffer | P1: lostSaleTW | Q1: totalInterest | R1: totalKm | S1: totalDelay | T1: totalExpUtil | U1: totalActUtil | V1: ordersPlaced | W1: stockouts | X1: service
A2: 1 | B2: 515711404 | C2: 1117.614 | D2: 5069 | E2: 8732 | F2: 0.35121095 | G2: -3.3792286 | H2: -3.4762918 | I2: 2.129793 | J2: 0 | K2: 3.7380322 | L2: 0.31086367 | M2: 7210 | N2: -492.01332 | O2: 7889 | P2: 843 | Q2: 13801 | R2: 10795.921 | S2: 0 | T2: -17129.31 | U2: -17621.323 | V2: 5069 | W2: 0 | X2: 1:shelfLife(3),deliveryDay(1),timeWindow(240),discount(0),delay(0),deliveryFeeInCents(799) (open from 8 to 20)
A3: 81 | B3: -1730322955 | C3: 1324.328 | D3: 5369 | E3: 8132 | F3: 0.38031485 | G3: -3.355311 | H3: -3.4477081 | I3: 2.1523175 | J3: 0 | K3: 3.7333539 | L3: 0.33781924 | M3: 6871 | N3: -496.08005 | O3: 7382 | P3: 750 | Q3: 13502 | R3: 11555.793 | S3: 0 | T3: -18014.665 | U3: -18510.745 | V3: 5370 | W3: 0 | X3: 1:shelfLife(3),deliveryDay(1),timeWindow(240),discount(0),delay(0),deliveryFeeInCents(799) (open from 8 to 20)
A4: 21 | B4: -470406801 | C4: 1542.408 | D4: 5363 | E4: 8108 | F4: 0.3893955 | G4: -3.3242316 | H4: -3.4219645 | I4: 2.1388369 | J4: 0 | K4: 3.7504538 | L4: 0.30412076 | M4: 6860 | N4: -524.14149 | O4: 7232 | P4: 876 | Q4: 13471 | R4: 11470.582 | S4: 0 | T4: -17827.854 | U4: -18351.996 | V4: 5363 | W4: 0 | X4: 1:shelfLife(3),deliveryDay(1),timeWindow(240),discount(0),delay(0),deliveryFeeInCents(799) (open from 8 to 20)
A5: 41 | B5: 761480347 | C5: 1638.209 | D5: 5707 | E5: 7902 | F5: 0.40491695 | G5: -3.2630386 | H5: -3.354893 | I5: 2.0567671 | J5: 0 | K5: 3.7513339 | L5: 0.3662436 | M5: 6675 | N5: -524.21305 | O5: 6969 | P5: 933 | Q5: 13610 | R5: 11737.97 | S5: 0 | T5: -18622.162 | U5: -19146.375 | V5: 5708 | W5: 0 | X5: 1:shelfLife(3),deliveryDay(1),timeWindow(240),discount(0),delay(0),deliveryFeeInCents(799) (open from 8 to 20)
A6: 61 | B6: 702795945 | C6: 1677.268 | D6: 5598 | E6: 8122 | F6: 0.38735842 | G6: -3.4348023 | H6: -3.4999971 | I6: 2.0985772 | J6: 0 | K6: 3.7461554 | L6: 0.33173889 | M6: 6734 | N6: -364.96053 | O6: 7668 | P6: 454 | Q6: 13721 | R6: 11747.835 | S6: 0 | T6: -19228.023 | U6: -19592.984 | V6: 5599 | W6: 0 | X6: 1:shelfLife(3),deliveryDay(1),timeWindow(240),discount(0),delay(0),deliveryFeeInCents(799) (open from 8 to 20)
A7: 2 | B7: 382434788 | C7: 1129.056 | D7: 5268 | E7: 8113 | F7: 0.39011441 | G7: -3.2682448 | H7: -3.3188125 | I7: 2.1468748 | J7: 0 | K7: 3.7259099 | L7: 0.30849025 | M7: 6804 | N7: -266.39055 | O7: 7238 | P7: 875 | Q7: 13381 | R7: 11309.737 | S7: 0 | T7: -17217.113 | U7: -17483.504 | V7: 5268 | W7: 0 | X7: 1:shelfLife(3),deliveryDay(1),timeWindow(240),discount(0),delay(0),deliveryFeeInCents(799) (open from 8 to 20)
A8: 82 | B8: -352012795 | C8: 1491.943 | D8: 5363 | E8: 8082 | F8: 0.38423573 | G8: -3.3116881 | H8: -3.411749 | I8: 2.1823706 | J8: 0 | K8: 3.7498962 | L8: 0.3289701 | M8: 6869 | N8: -536.62663 | O8: 7175 | P8: 907 | Q8: 13446 | R8: 11704.054 | S8: 0 | T8: -17760.583 | U8: -18297.21 | V8: 5364 | W8: 0 | X8: 1:shelfLife(3),deliveryDay(1),timeWindow(240),discount(0),delay(0),deliveryFeeInCents(799) (open from 8 to 20)
A9: 22 | B9: -777409062 | C9: 1323.573 | D9: 5277 | E9: 8460 | F9: 0.3715959 | G9: -3.5133742 | H9: -3.584736 | I9: 2.0761581 | J9: 0 | K9: 3.7369521 | L9: 0.32170478 | M9: 7018 | N9: -376.57607 | O9: 7679 | P9: 781 | Q9: 13737 | R9: 10955.887 | S9: 0 | T9: -18540.076 | U9: -18916.652 | V9: 5277 | W9: 0 | X9: 1:shelfLife(3),deliveryDay(1),timeWindow(240),discount(0),delay(0),deliveryFeeInCents(799) (open from 8 to 20)
A10: 62 | B10: -557000124 | C10: 1730.935 | D10: 5475 | E10: 8169 | F10: 0.3884819 | G10: -3.3958273 | H10: -3.4946403 | I10: 2.1006085 | J10: 0 | K10: 3.7575149 | L10: 0.34716258 | M10: 6933 | N10: -541.00123 | O10: 7448 | P10: 721 | Q10: 13644 | R10: 11500.831 | S10: 0 | T10: -18592.155 | U10: -19133.156 | V10: 5475 | W10: 0 | X10: 1:shelfLife(3),deliveryDay(1),timeWindow(240),discount(0),delay(0),deliveryFeeInCents(799) (open from 8 to 20)
A11: 42 | B11: 1585358012 | C11: 1885.159 | D11: 5730 | E11: 7967 | F11: 0.39902268 | G11: -3.3822643 | H11: -3.4543323 | I11: 2.1382771 | J11: 0 | K11: 3.731435 | L11: 0.32914789 | M11: 6654 | N11: -412.94963 | O11: 7123 | P11: 844 | Q11: 13697 | R11: 12252.328 | S11: 0 | T11: -19380.375 | U11: -19793.324 | V11: 5730 | W11: 0 | X11: 1:shelfLife(3),deliveryDay(1),timeWindow(240),discount(0),delay(0),deliveryFeeInCents(799) (open from 8 to 20)
A12: 3 | B12: 2141997007 | C12: 1395.738 | D12: 5275 | E12: 8233 | F12: 0.38604168 | G12: -3.431206 | H12: -3.5238377 | I12: 2.1079556 | J12: 0 | K12: 3.7550623 | L12: 0.33060172 | M12: 6888 | N12: -488.63191 | O12: 7352 | P12: 881 | Q12: 13508 | R12: 11119.466 | S12: 0 | T12: -18099.612 | U12: -18588.244 | V12: 5275 | W12: 0 | X12: 1:shelfLife(3),deliveryDay(1),timeWindow(240),discount(0),delay(0),deliveryFeeInCents(799) (open from 8 to 20)
A13: 23 | B13: -902824430 | C13: 1682.888 | D13: 5839 | E13: 8231 | F13: 0.40708345 | G13: -3.4590218 | H13: -3.5510984 | I13: 2.1559177 | J13: 0 | K13: 3.7200496 | L13: 0.37103879 | M13: 6800 | N13: -537.63508 | O13: 7462 | P13: 769 | Q13: 14070 | R13: 12588.403 | S13: 0 | T13: -20197.228 | U13: -20734.864 | V13: 5839 | W13: 0 | X13: 1:shelfLife(3),deliveryDay(1),timeWindow(240),discount(0),delay(0),deliveryFeeInCents(799) (open from 8 to 20)
... A101: 60 | B101: 1125753208 | C101: 1138.303 | D101: 5073 | E101: 8257 | F101: 0.36564335 | G101: -3.4049888 | H101: -3.4757319 | I101: 2.1580121 | J101: 0 | K101: 3.7548237 | L101: 0.30254552 | M101: 7078 | N101: -358.87956 | O101: 7304 | P101: 953 | Q101: 13330 | R101: 10947.595 | S101: 0 | T101: -17273.508 | U101: -17632.388 | V101: 5073 | W101: 0 | X101: 1:shelfLife(3),deliveryDay(1),timeWindow(240),discount(0),delay(0),deliveryFeeInCents(799) (open from 8 to 20)
B102: Mean | C102: =AVERAGE(C2:C101) -> 1492.8422 | D102: =AVERAGE(D2:D101) -> 5370.85 | E102: =AVERAGE(E2:E101) -> 8261.98 | F102: =AVERAGE(F2:F101) -> 0.38091287 | G102: =AVERAGE(G2:G101) -> -3.3821663 | H102: =AVERAGE(H2:H101) -> -3.4707683 | I102: =AVERAGE(I2:I101) -> 2.1313033 | J102: =AVERAGE(J2:J101) -> 0 | ... W102: =AVERAGE(W2:W101) -> 0
B103: SD | C103: =STDEVA(C2:C101) -> 186.21204 | D103: =STDEVA(D2:D101) -> 231.01158 | E103: =STDEVA(E2:E101) -> 284.32703 | F103: =STDEVA(F2:F101) -> 0.014790981 | G103: =STDEVA(G2:G101) -> 0.069151323 | H103: =STDEVA(H2:H101) -> 0.067067159 | I103: =STDEVA(I2:I101) -> 0.054077471 | J103: =STDEVA(J2:J101) -> 0 | ... W103: =STDEVA(W2:W101) -> 0

Sheet Delivery fee 9.99
A1: Run | B1: Seed | C1: runTime | D1: OrdersFulfilled | E1: TotalLostSales | F1: RemainingCustomerBase | G1: AvExpUtil | H1: AvActUtil | I1: AvDistance | J1: AvDelay | K1: AvShelfLife | L1: avVehUtil | M1: foodWaste | N1: gapUtility | O1: lostSaleOffer | P1: lostSaleTW | Q1: totalInterest | R1: totalKm | S1: totalDelay | T1: totalExpUtil | U1: totalActUtil | V1: ordersPlaced | W1: stockouts | X1: service
A2: 1 | B2: 515711404 | C2: 591.422 | D2: 4449 | E2: 9351 | F2: 0.30321212 | G2: -4.2112207 | H2: -4.2969582 | I2: 2.183953 | J2: 0 | K2: 3.7335881 | L2: 0.27309403 | M2: 7759 | N2: -381.44603 | O2: 8508 | P2: 843 | Q2: 13801 | R2: 9716.4067 | S2: 0 | T2: -18735.721 | U2: -19117.167 | V2: 4450 | W2: 0 | X2: 1:shelfLife(3),deliveryDay(1),timeWindow(240),discount(0),delay(0),deliveryFeeInCents(999) (open from 8 to 20)
A3: 81 | B3: -1730322955 | C3: 848.612 | D3: 4530 | E3: 8972 | F3: 0.31234368 | G3: -4.2359334 | H3: -4.3343565 | I3: 2.2931984 | J3: 0 | K3: 3.7318959 | L3: 0.2691202 | M3: 7595 | N3: -445.85678 | O3: 8222 | P3: 750 | Q3: 13502 | R3: 10388.189 | S3: 0 | T3: -19188.778 | U3: -19634.635 | V3: 4530 | W3: 0 | X3: 1:shelfLife(3),deliveryDay(1),timeWindow(240),discount(0),delay(0),deliveryFeeInCents(999) (open from 8 to 20)
A4: 41 | B4: 761480347 | C4: 972.336 | D4: 4929 | E4: 8680 | F4: 0.34228433 | G4: -4.1229179 | H4: -4.2122006 | I4: 2.1483052 | J4: 0 | K4: 3.7363419 | L4: 0.30923506 | M4: 7371 | N4: -440.07458 | O4: 7747 | P4: 933 | Q4: 13610 | R4: 10588.996 | S4: 0 | T4: -20321.862 | U4: -20761.937 | V4: 4930 | W4: 0 | X4: 1:shelfLife(3),deliveryDay(1),timeWindow(240),discount(0),delay(0),deliveryFeeInCents(999) (open from 8 to 20)
A5: 21 | B5: -470406801 | C5: 1029.714 | D5: 4596 | E5: 8874 | F5: 0.3303427 | G5: -4.1911373 | H5: -4.27082 | I5: 2.1447726 | J5: 0 | K5: 3.7290728 | L5: 0.26542519 | M5: 7544 | N5: -366.22164 | O5: 7998 | P5: 876 | Q5: 13471 | R5: 9857.3747 | S5: 0 | T5: -19262.467 | U5: -19628.689 | V5: 4597 | W5: 0 | X5: 1:shelfLife(3),deliveryDay(1),timeWindow(240),discount(0),delay(0),deliveryFeeInCents(999) (open from 8 to 20)
A6: 61 | B6: 702795945 | C6: 1156.949 | D6: 4819 | E6: 8902 | F6: 0.32992327 | G6: -4.1586934 | H6: -4.2354153 | I6: 2.1150034 | J6: 0 | K6: 3.7374297 | L6: 0.27787133 | M6: 7429 | N6: -369.72299 | O6: 8448 | P6: 454 | Q6: 13721 | R6: 10192.201 | S6: 0 | T6: -20040.743 | U6: -20410.466 | V6: 4819 | W6: 0 | X6: 1:shelfLife(3),deliveryDay(1),timeWindow(240),discount(0),delay(0),deliveryFeeInCents(999) (open from 8 to 20)
A7: 2 | B7: 382434788 | C7: 672.084 | D7: 4587 | E7: 8793 | F7: 0.33238615 | G7: -4.0780961 | H7: -4.1496974 | I7: 2.1876038 | J7: 0 | K7: 3.7396669 | L7: 0.28745356 | M7: 7409 | N7: -328.43478 | O7: 7918 | P7: 875 | Q7: 13381 | R7: 10034.539 | S7: 0 | T7: -18706.227 | U7: -19034.662 | V7: 4588 | W7: 0 | X7: 1:shelfLife(3),deliveryDay(1),timeWindow(240),discount(0),delay(0),deliveryFeeInCents(999) (open from 8 to 20)
A8: 82 | B8: -352012795 | C8: 732.924 | D8: 4690 | E8: 8755 | F8: 0.32957643 | G8: -4.2627841 | H8: -4.3482348 | I8: 2.2433084 | J8: 0 | K8: 3.7152004 | L8: 0.27559901 | M8: 7470 | N8: -400.76371 | O8: 7848 | P8: 907 | Q8: 13446 | R8: 10521.116 | S8: 0 | T8: -19992.458 | U8: -20393.221 | V8: 4691 | W8: 0 | X8: 1:shelfLife(3),deliveryDay(1),timeWindow(240),discount(0),delay(0),deliveryFeeInCents(999) (open from 8 to 20)
A9: 42 | B9: 1585358012 | C9: 895.633 | D9: 4977 | E9: 8720 | F9: 0.33608052 | G9: -4.2542233 | H9: -4.3565584 | I9: 2.1724781 | J9: 0 | K9: 3.7280814 | L9: 0.30149969 | M9: 7331 | N9: -509.32184 | O9: 7876 | P9: 844 | Q9: 13697 | R9: 10812.424 | S9: 0 | T9: -21173.269 | U9: -21682.591 | V9: 4977 | W9: 0 | X9: 1:shelfLife(3),deliveryDay(1),timeWindow(240),discount(0),delay(0),deliveryFeeInCents(999) (open from 8 to 20)
A10: 22 | B10: -777409062 | C10: 863.356 | D10: 4578 | E10: 9159 | F10: 0.31456808 | G10: -4.3515921 | H10: -4.4969203 | I10: 2.1315156 | J10: 0 | K10: 3.7247402 | L10: 0.26805744 | M10: 7603 | N10: -665.31241 | O10: 8378 | P10: 781 | Q10: 13737 | R10: 9758.0786 | S10: 0 | T10: -19921.589 | U10: -20586.901 | V10: 4578 | W10: 0 | X10: 1:shelfLife(3),deliveryDay(1),timeWindow(240),discount(0),delay(0),deliveryFeeInCents(999) (open from 8 to 20)
A11: 62 | B11: -557000124 | C11: 847.803 | D11: 4559 | E11: 9084 | F11: 0.31341118 | G11: -4.2611343 | H11: -4.3944704 | I11: 2.1810974 | J11: 0 | K11: 3.7408229 | L11: 0.27461549 | M11: 7745 | N11: -607.87922 | O11: 8363 | P11: 721 | Q11: 13644 | R11: 9943.6231 | S11: 0 | T11: -19426.511 | U11: -20034.391 | V11: 4560 | W11: 0 | X11: 1:shelfLife(3),deliveryDay(1),timeWindow(240),discount(0),delay(0),deliveryFeeInCents(999) (open from 8 to 20)
A12: 3 | B12: 2141997007 | C12: 888.519 | D12: 4631 | E12: 8876 | F12: 0.33590447 | G12: -4.3271314 | H12: -4.4132404 | I12: 2.1460479 | J12: 0 | K12: 3.7457126 | L12: 0.28147562 | M12: 7436 | N12: -398.77098 | O12: 7995 | P12: 881 | Q12: 13508 | R12: 9938.3477 | S12: 0 | T12: -20038.945 | U12: -20437.716 | V12: 4632 | W12: 0 | X12: 1:shelfLife(3),deliveryDay(1),timeWindow(240),discount(0),delay(0),deliveryFeeInCents(999) (open from 8 to 20)
A13: 83 | B13: -563020019 | C13: 1071.774 | D13: 4985 | E13: 8812 | F13: 0.33911718 | G13: -4.3354235 | H13: -4.389088 | I13: 2.2105522 | J13: 0 | K13: 3.7354747 | L13: 0.30201473 | M13: 7428 | N13: -267.51738 | O13: 8080 | P13: 732 | Q13: 13797 | R13: 11019.603 | S13: 0 | T13: -21612.086 | U13: -21879.604 | V13: 4985 | W13: 0 | X13: 1:shelfLife(3),deliveryDay(1),timeWindow(240),discount(0),delay(0),deliveryFeeInCents(999) (open from 8 to 20)
... A101: 40 | B101: -477307801 | C101: 666.358 | D101: 4455 | E101: 8948 | F101: 0.32107971 | G101: -4.2612582 | H101: -4.3246474 | I101: 2.180298 | J101: 0 | K101: 3.7239683 | L101: 0.27265584 | M101: 7533 | N101: -282.39877 | O101: 8098 | P101: 850 | Q101: 13403 | R101: 9713.2276 | S101: 0 | T101: -18983.905 | U101: -19266.304 | V101: 4455 | W101: 0 | X101: 1:shelfLife(3),deliveryDay(1),timeWindow(240),discount(0),delay(0),deliveryFeeInCents(999) (open from 8 to 20)
B102: Mean | C102: =AVERAGE(C2:C101) -> 836.40237 | D102: =AVERAGE(D2:D101) -> 4614.98 | E102: =AVERAGE(E2:E101) -> 9018.05 | F102: =AVERAGE(F2:F101) -> 0.32104593 | G102: =AVERAGE(G2:G101) -> -4.2456784 | H102: =AVERAGE(H2:H101) -> -4.3415365 | I102: =AVERAGE(I2:I101) -> 2.1877323 | J102: =AVERAGE(J2:J101) -> 0 | ... W102: =AVERAGE(W2:W101) -> 0
B103: SD | C103: =STDEVA(C2:C101) -> 142.37954 | D103: =STDEVA(D2:D101) -> 208.18106 | E103: =STDEVA(E2:E101) -> 292.15387 | F103: =STDEVA(F2:F101) -> 0.014431351 | G103: =STDEVA(G2:G101) -> 0.080225014 | H103: =STDEVA(H2:H101) -> 0.083626567 | I103: =STDEVA(I2:I101) -> 0.054230561 | J103: =STDEVA(J2:J101) -> 0 | ... W103: =STDEVA(W2:W101) -> 0

Sheet Delivery day 0
A1: Run | B1: Seed | C1: runTime | D1: OrdersFulfilled | E1: TotalLostSales | F1: RemainingCustomerBase | G1: AvExpUtil | H1: AvActUtil | I1: AvDistance | J1: AvDelay | K1: AvShelfLife | L1: avVehUtil | M1: foodWaste | N1: gapUtility | O1: lostSaleOffer | P1: lostSaleTW | Q1: totalInterest | R1: totalKm | S1: totalDelay | T1: totalExpUtil | U1: totalActUtil | V1: ordersPlaced | W1: stockouts | X1: service
A2: 81 | B2: -1730322955 | C2: 507.242 | D2: 6797 | E2: 6704 | F2: 0.48234515 | G2: -1.4320718 | H2: -1.5139305 | I2: 2.4001197 | J2: 0.0049222132 | K2: 3.8546984 | L2: 0.3056534 | M2: 5702 | N2: -556.39386 | O2: 5954 | P2: 750 | Q2: 13502 | R2: 16313.614 | S2: 33.456283 | T2: -9733.7921 | U2: -10290.186 | V2: 6798 | W2: 0 | X2: 1:shelfLife(3),deliveryDay(0),timeWindow(240),discount(0),delay(0),deliveryFeeInCents(599) (open from 8 to 20)
A3: 1 | B3: 515711404 | C3: 569.919 | D3: 6877 | E3: 6923 | F3: 0.47837858 | G3: -1.5037035 | H3: -1.578018 | I3: 2.2574457 | J3: 0.018759621 | K3: 3.8715469 | L3: 0.31026377 | M3: 5732 | N3: -511.06039 | O3: 6080 | P3: 843 | Q3: 13801 | R3: 15524.454 | S3: 129.00992 | T3: -10340.969 | U3: -10852.03 | V3: 6878 | W3: 0 | X3: 1:shelfLife(3),deliveryDay(0),timeWindow(240),discount(0),delay(0),deliveryFeeInCents(599) (open from 8 to 20)
A4: 41 | B4: 761480347 | C4: 568.324 | D4: 7152 | E4: 6456 | F4: 0.51196312 | G4: -1.4730352 | H4: -1.5232739 | I4: 2.2978786 | J4: 0 | K4: 3.8800647 | L4: 0.32113709 | M4: 5485 | N4: -359.30774 | O4: 5523 | P4: 933 | Q4: 13610 | R4: 16434.428 | S4: 0 | T4: -10535.147 | U4: -10894.455 | V4: 7154 | W4: 0 | X4: 1:shelfLife(3),deliveryDay(0),timeWindow(240),discount(0),delay(0),deliveryFeeInCents(599) (open from 8 to 20)
A5: 61 | B5: 702795945 | C5: 588.069 | D5: 7124 | E5: 6596 | F5: 0.49535988 | G5: -1.5038153 | H5: -1.5544701 | I5: 2.2564237 | J5: 0 | K5: 3.874301 | L5: 0.320533 | M5: 5445 | N5: -360.86483 | O5: 6142 | P5: 454 | Q5: 13721 | R5: 16074.762 | S5: 0 | T5: -10713.18 | U5: -11074.045 | V5: 7125 | W5: 0 | X5: 1:shelfLife(3),deliveryDay(0),timeWindow(240),discount(0),delay(0),deliveryFeeInCents(599) (open from 8 to 20)
A6: 21 | B6: -470406801 | C6: 626.41 | D6: 6889 | E6: 6580 | F6: 0.49779379 | G6: -1.5572269 | H6: -1.5995618 | I6: 2.2709478 | J6: 0.053666084 | K6: 3.8681164 | L6: 0.31011721 | M6: 5595 | N6: -291.64496 | O6: 5704 | P6: 876 | Q6: 13471 | R6: 15644.559 | S6: 369.70565 | T6: -10727.736 | U6: -11019.381 | V6: 6891 | W6: 0 | X6: 1:shelfLife(3),deliveryDay(0),timeWindow(240),discount(0),delay(0),deliveryFeeInCents(599) (open from 8 to 20)
A7: 2 | B7: 382434788 | C7: 514.992 | D7: 6838 | E7: 6541 | F7: 0.49884095 | G7: -1.452331 | H7: -1.4922994 | I7: 2.2729722 | J7: 0.0015333382 | K7: 3.86031 | L7: 0.31645696 | M7: 5518 | N7: -273.30388 | O7: 5666 | P7: 875 | Q7: 13381 | R7: 15542.584 | S7: 10.484967 | T7: -9931.0393 | U7: -10204.343 | V7: 6840 | W7: 0 | X7: 1:shelfLife(3),deliveryDay(0),timeWindow(240),discount(0),delay(0),deliveryFeeInCents(599) (open from 8 to 20)
A8: 82 | B8: -352012795 | C8: 628.243 | D8: 7046 | E8: 6398 | F8: 0.49871087 | G8: -1.4362943 | H8: -1.5194372 | I8: 2.3395293 | J8: 0.0042618602 | K8: 3.8794151 | L8: 0.31667273 | M8: 5430 | N8: -585.82521 | O8: 5491 | P8: 907 | Q8: 13446 | R8: 16484.323 | S8: 30.029067 | T8: -10120.13 | U8: -10705.955 | V8: 7048 | W8: 0 | X8: 1:shelfLife(3),deliveryDay(0),timeWindow(240),discount(0),delay(0),deliveryFeeInCents(599) (open from 8 to 20)
A9: 22 | B9: -777409062 | C9: 590.059 | D9: 6952 | E9: 6784 | F9: 0.48704246 | G9: -1.443043 | H9: -1.5086882 | I9: 2.2351176 | J9: 0.024036807 | K9: 3.857975 | L9: 0.31503726 | M9: 5574 | N9: -456.36563 | O9: 6003 | P9: 781 | Q9: 13737 | R9: 15538.538 | S9: 167.10388 | T9: -10032.035 | U9: -10488.401 | V9: 6953 | W9: 0 | X9: 1:shelfLife(3),deliveryDay(0),timeWindow(240),discount(0),delay(0),deliveryFeeInCents(599) (open from 8 to 20)
A10: 62 | B10: -557000124 | C10: 675.674 | D10: 7189 | E10: 6454 | F10: 0.50895771 | G10: -1.4517367 | H10: -1.511356 | I10: 2.2884375 | J10: 0.18453269 | K10: 3.8792078 | L10: 0.32048453 | M10: 5498 | N10: -428.60335 | O10: 5733 | P10: 721 | Q10: 13644 | R10: 16451.577 | S10: 1326.6055 | T10: -10436.535 | U10: -10865.138 | V10: 7190 | W10: 0 | X10: 1:shelfLife(3),deliveryDay(0),timeWindow(240),discount(0),delay(0),deliveryFeeInCents(599) (open from 8 to 20)
A11: 42 | B11: 1585358012 | C11: 878.499 | D11: 7326 | E11: 6371 | F11: 0.51513383 | G11: -1.6087488 | H11: -1.6674768 | I11: 2.3233022 | J11: 0.0099671467 | K11: 3.8746703 | L11: 0.32248286 | M11: 5317 | N11: -430.2411 | O11: 5527 | P11: 844 | Q11: 13697 | R11: 17020.512 | S11: 73.019317 | T11: -11785.694 | U11: -12215.935 | V11: 7326 | W11: 0 | X11: 1:shelfLife(3),deliveryDay(0),timeWindow(240),discount(0),delay(0),deliveryFeeInCents(599) (open from 8 to 20)
A12: 83 | B12: -563020019 | C12: 673.781 | D12: 6857 | E12: 6937 | F12: 0.47589662 | G12: -1.3851989 | H12: -1.4407554 | I12: 2.2901674 | J12: 0.1082183 | K12: 3.8641424 | L12: 0.30989758 | M12: 5802 | N12: -380.95087 | O12: 6205 | P12: 732 | Q12: 13797 | R12: 15703.678 | S12: 742.05287 | T12: -9498.3092 | U12: -9879.2601 | V12: 6860 | W12: 0 | X12: 1:shelfLife(3),deliveryDay(0),timeWindow(240),discount(0),delay(0),deliveryFeeInCents(599) (open from 8 to 20)
A13: 63 | B13: 624355429 | C13: 616.854 | D13: 6815 | E13: 7034 | F13: 0.47839754 | G13: -1.49864 | H13: -1.5950724 | I13: 2.2808979 | J13: 0 | K13: 3.8718858 | L13: 0.30877421 | M13: 5709 | N13: -657.18654 | O13: 6116 | P13: 918 | Q13: 13850 | R13: 15544.319 | S13: 0 | T13: -10213.232 | U13: -10870.418 | V13: 6816 | W13: 0 | X13: 1:shelfLife(3),deliveryDay(0),timeWindow(240),discount(0),delay(0),deliveryFeeInCents(599) (open from 8 to 20)
... A101: 80 | B101: 953410059 | C101: 516.717 | D101: 7145 | E101: 6954 | F101: 0.48792993 | G101: -1.5966703 | H101: -1.6491898 | I101: 2.1602258 | J101: 0 | K101: 3.8635833 | L101: 0.31971794 | M101: 5774 | N101: -375.25135 | O101: 6186 | P101: 768 | Q101: 14100 | R101: 15434.813 | S101: 0 | T101: -11408.21 | U101: -11783.461 | V101: 7146 | W101: 0 | X101: 1:shelfLife(3),deliveryDay(0),timeWindow(240),discount(0),delay(0),deliveryFeeInCents(599) (open from 8 to 20)
B102: Mean | C102: =AVERAGE(C2:C101) -> 582.40721 | D102: =AVERAGE(D2:D101) -> 6898.21 | E102: =AVERAGE(E2:E101) -> 6734.02 | F102: =AVERAGE(F2:F101) -> 0.48968453 | G102: =AVERAGE(G2:G101) -> -1.4855289 | H102: =AVERAGE(H2:H101) -> -1.5499764 | I102: =AVERAGE(I2:I101) -> 2.2890806 | J102: =AVERAGE(J2:J101) -> 0.016248507 | ... W102: =AVERAGE(W2:W101) -> 0
B103: SD | C103: =STDEVA(C2:C101) -> 97.1313 | D103: =STDEVA(D2:D101) -> 252.11703 | E103: =STDEVA(E2:E101) -> 243.80622 | F103: =STDEVA(F2:F101) -> 0.014262907 | G103: =STDEVA(G2:G101) -> 0.056500034 | H103: =STDEVA(H2:H101) -> 0.055557468 | I103: =STDEVA(I2:I101) -> 0.049731106 | J103: =STDEVA(J2:J101) -> 0.032702621 | ... W103: =STDEVA(W2:W101) -> 0

Sheet Delivery day 1
A1: Run | B1: Seed | C1: runTime | D1: OrdersFulfilled | E1: TotalLostSales | F1: RemainingCustomerBase | G1: AvExpUtil | H1: AvActUtil | I1: AvDistance | J1: AvDelay | K1: AvShelfLife | L1: avVehUtil | M1: foodWaste | N1: gapUtility | O1: lostSaleOffer | P1: lostSaleTW | Q1: totalInterest | R1: totalKm | S1: totalDelay | T1: totalExpUtil | U1: totalActUtil | V1: ordersPlaced | W1: stockouts | X1: service
A2: 1 | B2: 515711404 | C2: 1858.931 | D2: 6193 | E2: 7608 | F2: 0.4309651 | G2: -1.6222862 | H2: -1.6950354 | I2: 2.0581459 | J2: 0 | K2: 3.7520103 | L2: 0.37034654 | M2: 6268 | N2: -450.53629 | O2: 6765 | P2: 843 | Q2: 13801 | R2: 12746.098 | S2: 0 | T2: -10046.818 | U2: -10497.355 | V2: 6193 | W2: 0 | X2: 1:shelfLife(3),deliveryDay(1),timeWindow(240),discount(0),delay(0),deliveryFeeInCents(599) (open from 8 to 20)
A3: 21 | B3: -470406801 | C3: 1851.415 | D3: 6148 | E3: 7323 | F3: 0.4473452 | G3: -1.5986465 | H3: -1.6682263 | I3: 2.1079723 | J3: 0.0031620256 | K3: 3.7606335 | L3: 0.3674711 | M3: 6206 | N3: -427.77622 | O3: 6447 | P3: 876 | Q3: 13471 | R3: 12959.813 | S3: 19.440133 | T3: -9828.4788 | U3: -10256.255 | V3: 6148 | W3: 0 | X3: 1:shelfLife(3),deliveryDay(1),timeWindow(240),discount(0),delay(0),deliveryFeeInCents(599) (open from 8 to 20)
A4: 41 | B4: 761480347 | C4: 2024.539 | D4: 6570 | E4: 7038 | F4: 0.47413478 | G4: -1.4821412 | H4: -1.5479288 | I4: 2.0849299 | J4: 0 | K4: 3.7690208 | L4: 0.39869235 | M4: 5969 | N4: -432.22408 | O4: 6105 | P4: 933 | Q4: 13610 | R4: 13697.99 | S4: 0 | T4: -9737.668 | U4: -10169.892 | V4: 6572 | W4: 0 | X4: 1:shelfLife(3),deliveryDay(1),timeWindow(240),discount(0),delay(0),deliveryFeeInCents(599) (open from 8 to 20)
A5: 81 | B5: -1730322955 | C5: 2053.419 | D5: 6234 | E5: 7268 | F5: 0.44968368 | G5: -1.5518208 | H5: -1.620663 | I5: 2.1479978 | J5: 0 | K5: 3.7474556 | L5: 0.37318191 | M5: 6142 | N5: -429.16276 | O5: 6518 | P5: 750 | Q5: 13502 | R5: 13390.619 | S5: 0 | T5: -9674.0506 | U5: -10103.213 | V5: 6234 | W5: 0 | X5: 1:shelfLife(3),deliveryDay(1),timeWindow(240),discount(0),delay(0),deliveryFeeInCents(599) (open from 8 to 20)
A6: 61 | B6: 702795945 | C6: 2326.682 | D6: 6540 | E6: 7180 | F6: 0.46057727 | G6: -1.5412617 | H6: -1.5960119 | I6: 2.1100397 | J6: 0.0035781677 | K6: 3.7608456 | L6: 0.37389291 | M6: 5924 | N6: -358.06595 | O6: 6726 | P6: 454 | Q6: 13721 | R6: 13799.659 | S6: 23.401217 | T6: -10079.852 | U6: -10437.918 | V6: 6541 | W6: 0 | X6: 1:shelfLife(3),deliveryDay(1),timeWindow(240),discount(0),delay(0),deliveryFeeInCents(599) (open from 8 to 20)
A7: 2 | B7: 382434788 | C7: 1859.834 | D7: 6211 | E7: 7169 | F7: 0.45352576 | G7: -1.5055774 | H7: -1.5634354 | I7: 2.1174537 | J7: 0 | K7: 3.7718601 | L7: 0.36089787 | M7: 5996 | N7: -359.35651 | O7: 6294 | P7: 875 | Q7: 13381 | R7: 13151.505 | S7: 0 | T7: -9351.1409 | U7: -9710.4974 | V7: 6212 | W7: 0 | X7: 1:shelfLife(3),deliveryDay(1),timeWindow(240),discount(0),delay(0),deliveryFeeInCents(599) (open from 8 to 20)
A8: 22 | B8: -777409062 | C8: 1886.998 | D8: 6239 | E8: 7498 | F8: 0.44348463 | G8: -1.6532887 | H8: -1.7050139 | I8: 2.0634618 | J8: 0 | K8: 3.7443998 | L8: 0.36322799 | M8: 6174 | N8: -322.71327 | O8: 6717 | P8: 781 | Q8: 13737 | R8: 12873.938 | S8: 0 | T8: -10314.868 | U8: -10637.581 | V8: 6239 | W8: 0 | X8: 1:shelfLife(3),deliveryDay(1),timeWindow(240),discount(0),delay(0),deliveryFeeInCents(599) (open from 8 to 20)
A9: 82 | B9: -352012795 | C9: 1801.782 | D9: 6430 | E9: 7016 | F9: 0.46526703 | G9: -1.4465543 | H9: -1.5303452 | I9: 2.153578 | J9: 0 | K9: 3.7555687 | L9: 0.39625046 | M9: 5954 | N9: -538.77589 | O9: 6109 | P9: 907 | Q9: 13446 | R9: 13847.506 | S9: 0 | T9: -9301.3439 | U9: -9840.1198 | V9: 6430 | W9: 0 | X9: 1:shelfLife(3),deliveryDay(1),timeWindow(240),discount(0),delay(0),deliveryFeeInCents(599) (open from 8 to 20)
A10: 42 | B10: 1585358012 | C10: 2136.853 | D10: 6691 | E10: 7005 | F10: 0.47378018 | G10: -1.684738 | H10: -1.7386668 | I10: 2.0898727 | J10: 0.0095657948 | K10: 3.7711864 | L10: 0.3954087 | M10: 5835 | N10: -360.83765 | O10: 6161 | P10: 844 | Q10: 13697 | R10: 13983.338 | S10: 64.004733 | T10: -11272.582 | U10: -11633.419 | V10: 6692 | W10: 0 | X10: 1:shelfLife(3),deliveryDay(1),timeWindow(240),discount(0),delay(0),deliveryFeeInCents(599) (open from 8 to 20)
A11: 62 | B11: -557000124 | C11: 2078.509 | D11: 6444 | E11: 7199 | F11: 0.45934576 | G11: -1.5364223 | H11: -1.6192279 | I11: 2.0705475 | J11: 0.0047938366 | K11: 3.7634286 | L11: 0.39874141 | M11: 6091 | N11: -533.5994 | O11: 6478 | P11: 721 | Q11: 13644 | R11: 13342.608 | S11: 30.891483 | T11: -9900.7053 | U11: -10434.305 | V11: 6445 | W11: 0 | X11: 1:shelfLife(3),deliveryDay(1),timeWindow(240),discount(0),delay(0),deliveryFeeInCents(599) (open from 8 to 20)
A12: 3 | B12: 2141997007 | C12: 1987.273 | D12: 6157 | E12: 7350 | F12: 0.45138322 | G12: -1.5569694 | H12: -1.6044802 | I12: 2.0772612 | J12: 0 | K12: 3.7582396 | L12: 0.37133938 | M12: 6122 | N12: -292.52351 | O12: 6469 | P12: 881 | Q12: 13508 | R12: 12789.697 | S12: 0 | T12: -9586.2608 | U12: -9878.7843 | V12: 6158 | W12: 0 | X12: 1:shelfLife(3),deliveryDay(1),timeWindow(240),discount(0),delay(0),deliveryFeeInCents(599) (open from 8 to 20)
A13: 23 | B13: -902824430 | C13: 2002.189 | D13: 6654 | E13: 7415 | F13: 0.46852595 | G13: -1.6369797 | H13: -1.6887664 | I13: 2.0939948 | J13: 0 | K13: 3.7531708 | L13: 0.4255213 | M13: 6113 | N13: -344.58896 | O13: 6646 | P13: 769 | Q13: 14070 | R13: 13933.441 | S13: 0 | T13: -10892.463 | U13: -11237.052 | V13: 6655 | W13: 0 | X13: 1:shelfLife(3),deliveryDay(1),timeWindow(240),discount(0),delay(0),deliveryFeeInCents(599) (open from 8 to 20)
... A101: 20 | B101: 1882698207 | C101: 2197.989 | D101: 6626 | E101: 7315 | F101: 0.461891 | G101: -1.575382 | H101: -1.6512988 | I101: 2.0493974 | J101: 0 | K101: 3.7612292 | L101: 0.38838934 | M101: 6309 | N101: -503.02482 | O101: 6355 | P101: 960 | Q101: 13942 | R101: 13579.307 | S101: 0 | T101: -10438.481 | U101: -10941.506 | V101: 6627 | W101: 0 | X101: 1:shelfLife(3),deliveryDay(1),timeWindow(240),discount(0),delay(0),deliveryFeeInCents(599) (open from 8 to 20)
B102: Mean | C102: =AVERAGE(C2:C101) -> 1947.4885 | D102: =AVERAGE(D2:D101) -> 6281.12 | E102: =AVERAGE(E2:E101) -> 7351.61 | F102: =AVERAGE(F2:F101) -> 0.44974227 | G102: =AVERAGE(G2:G101) -> -1.5613228 | H102: =AVERAGE(H2:H101) -> -1.6267259 | I102: =AVERAGE(I2:I101) -> 2.0991976 | J102: =AVERAGE(J2:J101) -> 0.0014571397 | ... W102: =AVERAGE(W2:W101) -> 0
B103: SD | C103: =STDEVA(C2:C101) -> 187.31603 | D103: =STDEVA(D2:D101) -> 231.96143 | E103: =STDEVA(E2:E101) -> 268.98447 | F103: =STDEVA(F2:F101) -> 0.014325007 | G103: =STDEVA(G2:G101) -> 0.060769114 | H103: =STDEVA(H2:H101) -> 0.060659891 | I103: =STDEVA(I2:I101) -> 0.048086917 | J103: =STDEVA(J2:J101) -> 0.0056915096 | ... W103: =STDEVA(W2:W101) -> 0

Sheet Delivery day 2
A1: Run | B1: Seed | C1: runTime | D1: OrdersFulfilled | E1: TotalLostSales | F1: RemainingCustomerBase | G1: AvExpUtil | H1: AvActUtil | I1: AvDistance | J1: AvDelay | K1: AvShelfLife | L1: avVehUtil | M1: foodWaste | N1: gapUtility | O1: lostSaleOffer | P1: lostSaleTW | Q1: totalInterest | R1: totalKm | S1: totalDelay | T1: totalExpUtil | U1: totalActUtil | V1: ordersPlaced | W1: stockouts | X1: service
A2: 1 | B2: 515711404 | C2: 1680.711 | D2: 6049 | E2: 7752 | F2: 0.42694081 | G2: -2.2446076 | H2: -2.2755357 | I2: 2.0199642 | J2: 0 | K2: 3.7595674 | L2: 0.36218642 | M2: 6411 | N2: -187.0837 | O2: 6909 | P2: 843 | Q2: 13801 | R2: 12218.764 | S2: 0 | T2: -13577.631 | U2: -13764.715 | V2: 6049 | W2: 0 | X2: 1:shelfLife(3),deliveryDay(2),timeWindow(240),discount(0),delay(0),deliveryFeeInCents(599) (open from 8 to 20)
A3: 41 | B3: 761480347 | C3: 1949.048 | D3: 6328 | E3: 7281 | F3: 0.4556962 | G3: -2.2585491 | H3: -2.3002684 | I3: 2.0496656 | J3: 0 | K3: 3.7715247 | L3: 0.39880509 | M3: 6195 | N3: -263.99992 | O3: 6348 | P3: 933 | Q3: 13610 | R3: 12970.284 | S3: 0 | T3: -14292.099 | U3: -14556.099 | V3: 6329 | W3: 0 | X3: 1:shelfLife(3),deliveryDay(2),timeWindow(240),discount(0),delay(0),deliveryFeeInCents(599) (open from 8 to 20)
A4: 81 | B4: -1730322955 | C4: 2014.088 | D4: 6137 | E4: 7365 | F4: 0.44850669 | G4: -2.2298635 | H4: -2.2809832 | I4: 2.0888009 | J4: 0 | K4: 3.7716009 | L4: 0.35491841 | M4: 6246 | N4: -313.72169 | O4: 6615 | P4: 750 | Q4: 13502 | R4: 12818.971 | S4: 0 | T4: -13684.672 | U4: -13998.394 | V4: 6137 | W4: 0 | X4: 1:shelfLife(3),deliveryDay(2),timeWindow(240),discount(0),delay(0),deliveryFeeInCents(599) (open from 8 to 20)
A5: 21 | B5: -470406801 | C5: 2031.329 | D5: 5939 | E5: 7531 | F5: 0.43572584 | G5: -2.2329232 | H5: -2.2611669 | I5: 2.0700939 | J5: 0 | K5: 3.7466431 | L5: 0.3358476 | M5: 6367 | N5: -167.7396 | O5: 6655 | P5: 876 | Q5: 13471 | R5: 12294.287 | S5: 0 | T5: -13261.331 | U5: -13429.07 | V5: 5940 | W5: 0 | X5: 1:shelfLife(3),deliveryDay(2),timeWindow(240),discount(0),delay(0),deliveryFeeInCents(599) (open from 8 to 20)
A6: 61 | B6: 702795945 | C6: 2292.044 | D6: 6306 | E6: 7414 | F6: 0.44515893 | G6: -2.2249671 | H6: -2.2561974 | I6: 2.0536836 | J6: 0 | K6: 3.762002 | L6: 0.3657705 | M6: 6137 | N6: -196.93833 | O6: 6960 | P6: 454 | Q6: 13721 | R6: 12950.529 | S6: 0 | T6: -14030.642 | U6: -14227.581 | V6: 6307 | W6: 0 | X6: 1:shelfLife(3),deliveryDay(2),timeWindow(240),discount(0),delay(0),deliveryFeeInCents(599) (open from 8 to 20)
A7: 2 | B7: 382434788 | C7: 1751.821 | D7: 6015 | E7: 7366 | F7: 0.44694534 | G7: -2.1490468 | H7: -2.1795172 | I7: 2.1016905 | J7: 0 | K7: 3.7674855 | L7: 0.33923862 | M7: 6190 | N7: -183.27931 | O7: 6491 | P7: 875 | Q7: 13381 | R7: 12641.668 | S7: 0 | T7: -12926.517 | U7: -13109.796 | V7: 6015 | W7: 0 | X7: 1:shelfLife(3),deliveryDay(2),timeWindow(240),discount(0),delay(0),deliveryFeeInCents(599) (open from 8 to 20)
A8: 82 | B8: -352012795 | C8: 1870.702 | D8: 6119 | E8: 7326 | F8: 0.45001842 | G8: -2.1903159 | H8: -2.2443276 | I8: 2.1340202 | J8: 0 | K8: 3.7590327 | L8: 0.36322392 | M8: 6248 | N8: -330.4974 | O8: 6419 | P8: 907 | Q8: 13446 | R8: 13058.069 | S8: 0 | T8: -13402.543 | U8: -13733.04 | V8: 6120 | W8: 0 | X8: 1:shelfLife(3),deliveryDay(2),timeWindow(240),discount(0),delay(0),deliveryFeeInCents(599) (open from 8 to 20)
A9: 42 | B9: 1585358012 | C9: 2255.308 | D9: 6385 | E9: 7312 | F9: 0.45853694 | G9: -2.468484 | H9: -2.5023774 | I9: 2.0867496 | J9: 0 | K9: 3.7527592 | L9: 0.364248 | M9: 6111 | N9: -216.40941 | O9: 6468 | P9: 844 | Q9: 13697 | R9: 13323.896 | S9: 0 | T9: -15761.27 | U9: -15977.68 | V9: 6385 | W9: 0 | X9: 1:shelfLife(3),deliveryDay(2),timeWindow(240),discount(0),delay(0),deliveryFeeInCents(599) (open from 8 to 20)
A10: 22 | B10: -777409062 | C10: 2337.246 | D10: 6096 | E10: 7641 | F10: 0.43711567 | G10: -2.2670454 | H10: -2.3050462 | I10: 2.0204817 | J10: 0 | K10: 3.7340838 | L10: 0.36575359 | M10: 6318 | N10: -231.65267 | O10: 6860 | P10: 781 | Q10: 13737 | R10: 12316.857 | S10: 0 | T10: -13819.909 | U10: -14051.562 | V10: 6096 | W10: 0 | X10: 1:shelfLife(3),deliveryDay(2),timeWindow(240),discount(0),delay(0),deliveryFeeInCents(599) (open from 8 to 20)
A11: 62 | B11: -557000124 | C11: 2128.82 | D11: 6414 | E11: 7229 | F11: 0.46377022 | G11: -2.2551248 | H11: -2.3012983 | I11: 2.0570346 | J11: 0 | K11: 3.7753368 | L11: 0.38993748 | M11: 6151 | N11: -296.15649 | O11: 6508 | P11: 721 | Q11: 13644 | R11: 13193.82 | S11: 0 | T11: -14464.371 | U11: -14760.527 | V11: 6415 | W11: 0 | X11: 1:shelfLife(3),deliveryDay(2),timeWindow(240),discount(0),delay(0),deliveryFeeInCents(599) (open from 8 to 20)
A12: 3 | B12: 2141997007 | C12: 1838.177 | D12: 6059 | E12: 7447 | F12: 0.45345991 | G12: -2.2309156 | H12: -2.2597388 | I12: 2.0176666 | J12: 0 | K12: 3.7769181 | L12: 0.36924365 | M12: 6231 | N12: -174.63951 | O12: 6566 | P12: 881 | Q12: 13508 | R12: 12225.042 | S12: 0 | T12: -13517.118 | U12: -13691.757 | V12: 6061 | W12: 0 | X12: 1:shelfLife(3),deliveryDay(2),timeWindow(240),discount(0),delay(0),deliveryFeeInCents(599) (open from 8 to 20)
A13: 83 | B13: -563020019 | C13: 2088.263 | D13: 6159 | E13: 7637 | F13: 0.43945114 | G13: -2.1939351 | H13: -2.2375136 | I13: 2.1144331 | J13: 0 | K13: 3.7560277 | L13: 0.36264402 | M13: 6396 | N13: -268.39985 | O13: 6905 | P13: 732 | Q13: 13797 | R13: 13022.793 | S13: 0 | T13: -13512.446 | U13: -13780.846 | V13: 6160 | W13: 0 | X13: 1:shelfLife(3),deliveryDay(2),timeWindow(240),discount(0),delay(0),deliveryFeeInCents(599) (open from 8 to 20)
... A101: 80 | B101: 953410059 | C101: 2182.788 | D101: 6339 | E101: 7760 | F101: 0.43737093 | G101: -2.4402815 | H101: -2.4486367 | I101: 2.0699792 | J101: 0 | K101: 3.7658186 | L101: 0.35983761 | M101: 6439 | N101: -52.963581 | O101: 6992 | P101: 768 | Q101: 14100 | R101: 13121.598 | S101: 0 | T101: -15468.944 | U101: -15521.908 | V101: 6340 | W101: 0 | X101: 1:shelfLife(3),deliveryDay(2),timeWindow(240),discount(0),delay(0),deliveryFeeInCents(599) (open from 8 to 20)
B102: Mean | C102: =AVERAGE(C2:C101) -> 1918.9513 | D102: =AVERAGE(D2:D101) -> 6083.1 | E102: =AVERAGE(E2:E101) -> 7549.59 | F102: =AVERAGE(F2:F101) -> 0.44022571 | G102: =AVERAGE(G2:G101) -> -2.2638448 | H102: =AVERAGE(H2:H101) -> -2.3059655 | I102: =AVERAGE(I2:I101) -> 2.0905756 | J102: =AVERAGE(J2:J101) -> 6.478819e-05 | ... W102: =AVERAGE(W2:W101) -> 0
B103: SD | C103: =STDEVA(C2:C101) -> 204.1619 | D103: =STDEVA(D2:D101) -> 230.05904 | E103: =STDEVA(E2:E101) -> 254.74916 | F103: =STDEVA(F2:F101) -> 0.013606699 | G103: =STDEVA(G2:G101) -> 0.072343403 | H103: =STDEVA(H2:H101) -> 0.072511316 | I103: =STDEVA(I2:I101) -> 0.049459553 | J103: =STDEVA(J2:J101) -> 0.00064787607 | ... W103: =STDEVA(W2:W101) -> 0

Sheet Delivery day 3
A1: Run | B1: Seed | C1: runTime | D1: OrdersFulfilled | E1: TotalLostSales | F1: RemainingCustomerBase | G1: AvExpUtil | H1: AvActUtil | I1: AvDistance | J1: AvDelay | K1: AvShelfLife | L1: avVehUtil | M1: foodWaste | N1: gapUtility | O1: lostSaleOffer | P1: lostSaleTW | Q1: totalInterest | R1: totalKm | S1: totalDelay | T1: totalExpUtil | U1: totalActUtil | V1: ordersPlaced | W1: stockouts | X1: service
A2: 1 | B2: 515711404 | C2: 982.397 | D2: 5381 | E2: 8420 | F2: 0.37674691 | G2: -2.5915114 | H2: -2.6777 | I2: 2.0931531 | J2: 0 | K2: 3.7536387 | L2: 0.33254669 | M2: 6966 | N2: -463.78084 | O2: 7577 | P2: 843 | Q2: 13801 | R2: 11263.257 | S2: 0 | T2: -13944.923 | U2: -14408.704 | V2: 5381 | W2: 0 | X2: 1:shelfLife(3),deliveryDay(3),timeWindow(240),discount(0),delay(0),deliveryFeeInCents(599) (open from 8 to 20)
A3: 41 | B3: 761480347 | C3: 1237.41 | D3: 5672 | E3: 7937 | F3: 0.40652667 | G3: -2.5732111 | H3: -2.6531213 | I3: 2.0430235 | J3: 0 | K3: 3.760445 | L3: 0.36791945 | M3: 6708 | N3: -453.251 | O3: 7004 | P3: 933 | Q3: 13610 | R3: 11588.029 | S3: 0 | T3: -14595.253 | U3: -15048.504 | V3: 5673 | W3: 0 | X3: 1:shelfLife(3),deliveryDay(3),timeWindow(240),discount(0),delay(0),deliveryFeeInCents(599) (open from 8 to 20)
A4: 81 | B4: -1730322955 | C4: 1315.287 | D4: 5523 | E4: 7978 | F4: 0.3887009 | G4: -2.6651439 | H4: -2.7357375 | I4: 2.1535416 | J4: 0 | K4: 3.7529961 | L4: 0.3230957 | M4: 6718 | N4: -389.88832 | O4: 7228 | P4: 750 | Q4: 13502 | R4: 11894.011 | S4: 0 | T4: -14719.59 | U4: -15109.478 | V4: 5524 | W4: 0 | X4: 1:shelfLife(3),deliveryDay(3),timeWindow(240),discount(0),delay(0),deliveryFeeInCents(599) (open from 8 to 20)
A5: 21 | B5: -470406801 | C5: 1317.909 | D5: 5367 | E5: 8104 | F5: 0.39204295 | G5: -2.6630335 | H5: -2.7358885 | I5: 2.0568751 | J5: 0 | K5: 3.7572238 | L5: 0.33126171 | M5: 6868 | N5: -391.01314 | O5: 7228 | P5: 876 | Q5: 13471 | R5: 11039.248 | S5: 0 | T5: -14292.501 | U5: -14683.514 | V5: 5367 | W5: 0 | X5: 1:shelfLife(3),deliveryDay(3),timeWindow(240),discount(0),delay(0),deliveryFeeInCents(599) (open from 8 to 20)
A6: 61 | B6: 702795945 | C6: 1432.649 | D6: 5754 | E6: 7967 | F6: 0.40306905 | G6: -2.6278397 | H6: -2.7234272 | I6: 2.0638312 | J6: 0 | K6: 3.7494806 | L6: 0.3404071 | M6: 6607 | N6: -550.01045 | O6: 7513 | P6: 454 | Q6: 13721 | R6: 11875.284 | S6: 0 | T6: -15120.589 | U6: -15670.6 | V6: 5754 | W6: 0 | X6: 1:shelfLife(3),deliveryDay(3),timeWindow(240),discount(0),delay(0),deliveryFeeInCents(599) (open from 8 to 20)
A7: 2 | B7: 382434788 | C7: 1064.332 | D7: 5437 | E7: 7943 | F7: 0.39819038 | G7: -2.6599118 | H7: -2.7338699 | I7: 2.131165 | J7: 0 | K7: 3.747518 | L7: 0.32076964 | M7: 6668 | N7: -402.11034 | O7: 7068 | P7: 875 | Q7: 13381 | R7: 11587.144 | S7: 0 | T7: -14461.94 | U7: -14864.051 | V7: 5438 | W7: 0 | X7: 1:shelfLife(3),deliveryDay(3),timeWindow(240),discount(0),delay(0),deliveryFeeInCents(599) (open from 8 to 20)
A8: 22 | B8: -777409062 | C8: 1248.395 | D8: 5508 | E8: 8229 | F8: 0.38909224 | G8: -2.6707935 | H8: -2.7509199 | I8: 2.0395835 | J8: 0 | K8: 3.7436774 | L8: 0.32201162 | M8: 6796 | N8: -441.33622 | O8: 7448 | P8: 781 | Q8: 13737 | R8: 11234.026 | S8: 0 | T8: -14710.73 | U8: -15152.067 | V8: 5508 | W8: 0 | X8: 1:shelfLife(3),deliveryDay(3),timeWindow(240),discount(0),delay(0),deliveryFeeInCents(599) (open from 8 to 20)
A9: 82 | B9: -352012795 | C9: 1316.1 | D9: 5536 | E9: 7910 | F9: 0.39815838 | G9: -2.5463852 | H9: -2.6259619 | I9: 2.1314865 | J9: 0 | K9: 3.7531697 | L9: 0.31004592 | M9: 6724 | N9: -440.5367 | O9: 7003 | P9: 907 | Q9: 13446 | R9: 11799.909 | S9: 0 | T9: -14096.788 | U9: -14537.325 | V9: 5536 | W9: 0 | X9: 1:shelfLife(3),deliveryDay(3),timeWindow(240),discount(0),delay(0),deliveryFeeInCents(599) (open from 8 to 20)
A10: 42 | B10: 1585358012 | C10: 1415.989 | D10: 5956 | E10: 7741 | F10: 0.41769382 | G10: -2.745702 | H10: -2.8020418 | I10: 2.0766738 | J10: 0 | K10: 3.747773 | L10: 0.34692697 | M10: 6487 | N10: -335.55996 | O10: 6897 | P10: 844 | Q10: 13697 | R10: 12368.669 | S10: 0 | T10: -16353.401 | U10: -16688.961 | V10: 5956 | W10: 0 | X10: 1:shelfLife(3),deliveryDay(3),timeWindow(240),discount(0),delay(0),deliveryFeeInCents(599) (open from 8 to 20)
A11: 62 | B11: -557000124 | C11: 1417.86 | D11: 5741 | E11: 7903 | F11: 0.41176471 | G11: -2.7181862 | H11: -2.7839518 | I11: 2.0551859 | J11: 0 | K11: 3.7682279 | L11: 0.34961744 | M11: 6706 | N11: -377.56064 | O11: 7182 | P11: 721 | Q11: 13644 | R11: 11798.822 | S11: 0 | T11: -15605.107 | U11: -15982.667 | V11: 5741 | W11: 0 | X11: 1:shelfLife(3),deliveryDay(3),timeWindow(240),discount(0),delay(0),deliveryFeeInCents(599) (open from 8 to 20)
A12: 3 | B12: 2141997007 | C12: 1243.295 | D12: 5393 | E12: 8114 | F12: 0.39323593 | G12: -2.7650736 | H12: -2.8079535 | I12: 2.0410075 | J12: 0 | K12: 3.7461296 | L12: 0.3384656 | M12: 6740 | N12: -231.25159 | O12: 7233 | P12: 881 | Q12: 13508 | R12: 11007.154 | S12: 0 | T12: -14912.042 | U12: -15143.293 | V12: 5394 | W12: 0 | X12: 1:shelfLife(3),deliveryDay(3),timeWindow(240),discount(0),delay(0),deliveryFeeInCents(599) (open from 8 to 20)
A13: 23 | B13: -902824430 | C13: 1312.777 | D13: 5906 | E13: 8162 | F13: 0.41525667 | G13: -2.6470529 | H13: -2.7402971 | I13: 2.0916831 | J13: 0 | K13: 3.7358623 | L13: 0.35589713 | M13: 6769 | N13: -550.70007 | O13: 7393 | P13: 769 | Q13: 14070 | R13: 12353.48 | S13: 0 | T13: -15633.494 | U13: -16184.194 | V13: 5908 | W13: 0 | X13: 1:shelfLife(3),deliveryDay(3),timeWindow(240),discount(0),delay(0),deliveryFeeInCents(599) (open from 8 to 20)
... A101: 40 | B101: -477307801 | C101: 877.304 | D101: 5233 | E101: 8168 | F101: 0.38803967 | G101: -2.6986966 | H101: -2.7794897 | I101: 2.1308315 | J101: 0 | K101: 3.7529376 | L101: 0.32926904 | M101: 6801 | N101: -422.79027 | O101: 7318 | P101: 850 | Q101: 13403 | R101: 11150.641 | S101: 0 | T101: -14122.279 | U101: -14545.07 | V101: 5235 | W101: 0 | X101: 1:shelfLife(3),deliveryDay(3),timeWindow(240),discount(0),delay(0),deliveryFeeInCents(599) (open from 8 to 20)
B102: Mean | C102: =AVERAGE(C2:C101) -> 1203.2195 | D102: =AVERAGE(D2:D101) -> 5473.34 | E102: =AVERAGE(E2:E101) -> 8159.39 | F102: =AVERAGE(F2:F101) -> 0.39037618 | G102: =AVERAGE(G2:G101) -> -2.6543822 | H102: =AVERAGE(H2:H101) -> -2.7289071 | I102: =AVERAGE(I2:I101) -> 2.1125235 | J102: =AVERAGE(J2:J101) -> 4.7465767e-10 | ... W102: =AVERAGE(W2:W101) -> 0
B103: SD | C103: =STDEVA(C2:C101) -> 145.12061 | D103: =STDEVA(D2:D101) -> 216.34 | E103: =STDEVA(E2:E101) -> 276.91219 | F103: =STDEVA(F2:F101) -> 0.013924789 | G103: =STDEVA(G2:G101) -> 0.070817698 | H103: =STDEVA(H2:H101) -> 0.072064259 | I103: =STDEVA(I2:I101) -> 0.051065514 | J103: =STDEVA(J2:J101) -> 3.3630813e-09 | ... W103: =STDEVA(W2:W101) -> 0

Sheet Time Window 0
A1: Run | B1: Seed | C1: runTime | D1: OrdersFulfilled | E1: TotalLostSales | F1: RemainingCustomerBase | G1: AvExpUtil | H1: AvActUtil | I1: AvDistance | J1: AvDelay | K1: AvShelfLife | L1: avVehUtil | M1: foodWaste | N1: gapUtility | O1: lostSaleOffer | P1: lostSaleTW | Q1: totalInterest | R1: totalKm | S1: totalDelay | T1: totalExpUtil | U1: totalActUtil | V1: ordersPlaced | W1: stockouts | X1: service
A2: 21 | B2: -470406801 | C2: 2870.232 | D2: 6311 | E2: 7160 | F2: 0.44146198 | G2: -1.1659777 | H2: -1.2879124 | I2: 3.8649398 | J2: 32.300043 | K2: 3.9005552 | L2: 0.60302036 | M2: 6004 | N2: -769.5302 | O2: 6284 | P2: 876 | Q2: 13471 | R2: 24391.635 | S2: 203845.57 | T2: -7358.4851 | U2: -8128.0153 | V2: 6311 | W2: 0 | X2: 1:shelfLife(3),deliveryDay(1),timeWindow(0),discount(0),delay(0),deliveryFeeInCents(599) (open from 8 to 20)
A3: 41 | B3: 761480347 | C3: 3055.068 | D3: 6600 | E3: 7010 | F3: 0.46023268 | G3: -1.123824 | H3: -1.2235263 | I3: 3.9815548 | J3: 28.75478 | K3: 3.9375806 | L3: 0.6123476 | M3: 5934 | N3: -658.03547 | O3: 6077 | P3: 933 | Q3: 13610 | R3: 26278.262 | S3: 189781.55 | T3: -7417.2384 | U3: -8075.2738 | V3: 6600 | W3: 0 | X3: 1:shelfLife(3),deliveryDay(1),timeWindow(0),discount(0),delay(0),deliveryFeeInCents(599) (open from 8 to 20)
A4: 1 | B4: 515711404 | C4: 3110.664 | D4: 6483 | E4: 7318 | F4: 0.43198946 | G4: -1.2171388 | H4: -1.3436543 | I4: 3.8218748 | J4: 31.123691 | K4: 3.9108914 | L4: 0.60374112 | M4: 5997 | N4: -820.20026 | O4: 6475 | P4: 843 | Q4: 13801 | R4: 24777.215 | S4: 201774.89 | T4: -7890.7107 | U4: -8710.9109 | V4: 6483 | W4: 0 | X4: 1:shelfLife(3),deliveryDay(1),timeWindow(0),discount(0),delay(0),deliveryFeeInCents(599) (open from 8 to 20)
A5: 81 | B5: -1730322955 | C5: 3117.916 | D5: 6471 | E5: 7031 | F5: 0.44519641 | G5: -1.1611491 | H5: -1.3134455 | I5: 4.0170081 | J5: 30.904951 | K5: 3.8880191 | L5: 0.60218917 | M5: 5906 | N5: -985.51 | O5: 6281 | P5: 750 | Q5: 13502 | R5: 25994.06 | S5: 199985.94 | T5: -7513.796 | U5: -8499.306 | V5: 6471 | W5: 0 | X5: 1:shelfLife(3),deliveryDay(1),timeWindow(0),discount(0),delay(0),deliveryFeeInCents(599) (open from 8 to 20)
A6: 61 | B6: 702795945 | C6: 3115.26 | D6: 6642 | E6: 7079 | F6: 0.45056631 | G6: -1.1798573 | H6: -1.2741027 | I6: 3.733581 | J6: 31.909038 | K6: 3.9138749 | L6: 0.60420247 | M6: 5814 | N6: -625.97798 | O6: 6625 | P6: 454 | Q6: 13721 | R6: 24798.445 | S6: 211939.83 | T6: -7836.6122 | U6: -8462.5902 | V6: 6642 | W6: 0 | X6: 1:shelfLife(3),deliveryDay(1),timeWindow(0),discount(0),delay(0),deliveryFeeInCents(599) (open from 8 to 20)
A7: 82 | B7: -352012795 | C7: 2917.485 | D7: 6495 | E7: 6951 | F7: 0.44611418 | G7: -1.0898623 | H7: -1.2302496 | I7: 3.9428624 | J7: 31.241585 | K7: 3.8965227 | L7: 0.59784472 | M7: 5848 | N7: -911.81539 | O7: 6044 | P7: 907 | Q7: 13446 | R7: 25608.891 | S7: 202914.09 | T7: -7078.6555 | U7: -7990.4709 | V7: 6495 | W7: 0 | X7: 1:shelfLife(3),deliveryDay(1),timeWindow(0),discount(0),delay(0),deliveryFeeInCents(599) (open from 8 to 20)
A8: 22 | B8: -777409062 | C8: 3236.736 | D8: 6506 | E8: 7231 | F8: 0.44245974 | G8: -1.2460446 | H8: -1.3438844 | I8: 3.8707265 | J8: 31.833709 | K8: 3.8973907 | L8: 0.60481084 | M8: 5898 | N8: -636.54567 | O8: 6450 | P8: 781 | Q8: 13737 | R8: 25182.947 | S8: 207110.11 | T8: -8106.7665 | U8: -8743.3121 | V8: 6506 | W8: 0 | X8: 1:shelfLife(3),deliveryDay(1),timeWindow(0),discount(0),delay(0),deliveryFeeInCents(599) (open from 8 to 20)
A9: 2 | B9: 382434788 | C9: 3069.587 | D9: 6281 | E9: 7100 | F9: 0.44230913 | G9: -1.146971 | H9: -1.2425329 | I9: 3.846366 | J9: 30.541358 | K9: 3.9021458 | L9: 0.60118685 | M9: 5905 | N9: -600.22429 | O9: 6225 | P9: 875 | Q9: 13381 | R9: 24159.025 | S9: 191830.27 | T9: -7204.1246 | U9: -7804.3489 | V9: 6281 | W9: 0 | X9: 1:shelfLife(3),deliveryDay(1),timeWindow(0),discount(0),delay(0),deliveryFeeInCents(599) (open from 8 to 20)
A10: 62 | B10: -557000124 | C10: 3141.959 | D10: 6596 | E10: 7048 | F10: 0.44672518 | G10: -1.1558625 | H10: -1.2813122 | I10: 3.9339809 | J10: 34.034449 | K10: 3.9044459 | L10: 0.6071042 | M10: 5947 | N10: -827.46632 | O10: 6327 | P10: 721 | Q10: 13644 | R10: 25948.538 | S10: 224491.23 | T10: -7624.069 | U10: -8451.5354 | V10: 6596 | W10: 0 | X10: 1:shelfLife(3),deliveryDay(1),timeWindow(0),discount(0),delay(0),deliveryFeeInCents(599) (open from 8 to 20)
A11: 42 | B11: 1585358012 | C11: 3318.798 | D11: 6974 | E11: 6723 | F11: 0.47531179 | G11: -1.3052157 | H11: -1.4125794 | I11: 3.776551 | J11: 34.885002 | K11: 3.9173379 | L11: 0.6166157 | M11: 5554 | N11: -748.75415 | O11: 5879 | P11: 844 | Q11: 13697 | R11: 26337.666 | S11: 243288.01 | T11: -9102.5742 | U11: -9851.3284 | V11: 6974 | W11: 0 | X11: 1:shelfLife(3),deliveryDay(1),timeWindow(0),discount(0),delay(0),deliveryFeeInCents(599) (open from 8 to 20)
A12: 3 | B12: 2141997007 | C12: 2962.674 | D12: 6440 | E12: 7068 | F12: 0.44997404 | G12: -1.1773571 | H12: -1.3003692 | I12: 3.7712961 | J12: 33.699907 | K12: 3.9317925 | L12: 0.6047809 | M12: 5845 | N12: -792.19767 | O12: 6187 | P12: 881 | Q12: 13508 | R12: 24287.147 | S12: 217027.4 | T12: -7582.1799 | U12: -8374.3776 | V12: 6440 | W12: 0 | X12: 1:shelfLife(3),deliveryDay(1),timeWindow(0),discount(0),delay(0),deliveryFeeInCents(599) (open from 8 to 20)
A13: 83 | B13: -563020019 | C13: 3269.42 | D13: 6698 | E13: 7099 | F13: 0.45418905 | G13: -1.1624766 | H13: -1.2576371 | I13: 3.8360885 | J13: 32.235242 | K13: 3.9048498 | L13: 0.61134467 | M13: 5872 | N13: -637.38497 | O13: 6367 | P13: 732 | Q13: 13797 | R13: 25694.121 | S13: 215911.65 | T13: -7786.2683 | U13: -8423.6533 | V13: 6698 | W13: 0 | X13: 1:shelfLife(3),deliveryDay(1),timeWindow(0),discount(0),delay(0),deliveryFeeInCents(599) (open from 8 to 20)
... A101: 80 | B101: 953410059 | C101: 3049.969 | D101: 6579 | E101: 7521 | F101: 0.43366802 | G101: -1.2547095 | H101: -1.354905 | I101: 3.7329569 | J101: 30.820699 | K101: 3.9013097 | L101: 0.60623 | M101: 6169 | N101: -659.18595 | O101: 6753 | P101: 768 | Q101: 14100 | R101: 24559.124 | S101: 202769.38 | T101: -8254.7341 | U101: -8913.92 | V101: 6579 | W101: 0 | X101: 1:shelfLife(3),deliveryDay(1),timeWindow(0),discount(0),delay(0),deliveryFeeInCents(599) (open from 8 to 20)
B102: Mean | C102: =AVERAGE(C2:C101) -> 3054.4827 | D102: =AVERAGE(D2:D101) -> 6471.29 | E102: =AVERAGE(E2:E101) -> 7162.08 | F102: =AVERAGE(F2:F101) -> 0.44346658 | G102: =AVERAGE(G2:G101) -> -1.1751492 | H102: =AVERAGE(H2:H101) -> -1.2868302 | I102: =AVERAGE(I2:I101) -> 3.8866619 | J102: =AVERAGE(J2:J101) -> 31.276333 | ... W102: =AVERAGE(W2:W101) -> 0
B103: SD | C103: =STDEVA(C2:C101) -> 264.77568 | D103: =STDEVA(D2:D101) -> 215.15723 | E103: =STDEVA(E2:E101) -> 250.26017 | F103: =STDEVA(F2:F101) -> 0.013072945 | G103: =STDEVA(G2:G101) -> 0.067117344 | H103: =STDEVA(H2:H101) -> 0.062200114 | I103: =STDEVA(I2:I101) -> 0.099291611 | J103: =STDEVA(J2:J101) -> 2.1560845 | ... W103: =STDEVA(W2:W101) -> 0

Sheet Time Window 120
A1: Run | B1: Seed | C1: runTime | D1: OrdersFulfilled | E1: TotalLostSales | F1: RemainingCustomerBase | G1: AvExpUtil | H1: AvActUtil | I1: AvDistance | J1: AvDelay | K1: AvShelfLife | L1: avVehUtil | M1: foodWaste | N1: gapUtility | O1: lostSaleOffer | P1: lostSaleTW | Q1: totalInterest | R1: totalKm | S1: totalDelay | T1: totalExpUtil | U1: totalActUtil | V1: ordersPlaced | W1: stockouts | X1: service
A2: 81 | B2: -1730322955 | C2: 3310.372 | D2: 7143 | E2: 6359 | F2: 0.49992644 | G2: -1.1633211 | H2: -1.2619181 | I2: 2.8011416 | J2: 1.4819003 | K2: 3.8461177 | L2: 0.45128433 | M2: 5337 | N2: -704.27803 | O2: 5609 | P2: 750 | Q2: 13502 | R2: 20008.555 | S2: 10585.214 | T2: -8309.6029 | U2: -9013.8809 | V2: 7143 | W2: 0 | X2: 1:shelfLife(3),deliveryDay(1),timeWindow(120),discount(0),delay(0),deliveryFeeInCents(599) (open from 8 to 20)
A3: 21 | B3: -470406801 | C3: 3563.083 | D3: 6987 | E3: 6484 | F3: 0.49404324 | G3: -1.137852 | H3: -1.2572651 | I3: 2.7097308 | J3: 2.3126379 | K3: 3.8603214 | L3: 0.43412978 | M3: 5418 | N3: -834.33927 | O3: 5608 | P3: 876 | Q3: 13471 | R3: 18932.889 | S3: 16158.401 | T3: -7950.1719 | U3: -8784.5111 | V3: 6987 | W3: 0 | X3: 1:shelfLife(3),deliveryDay(1),timeWindow(120),discount(0),delay(0),deliveryFeeInCents(599) (open from 8 to 20)
A4: 41 | B4: 761480347 | C4: 3631.918 | D4: 7305 | E4: 6305 | F4: 0.51006073 | G4: -1.1270845 | H4: -1.2434596 | I4: 2.7297789 | J4: 0.76246751 | K4: 3.8524055 | L4: 0.46027666 | M4: 5292 | N4: -850.11997 | O4: 5372 | P4: 933 | Q4: 13610 | R4: 19941.035 | S4: 5569.8252 | T4: -8233.3524 | U4: -9083.4723 | V4: 7305 | W4: 0 | X4: 1:shelfLife(3),deliveryDay(1),timeWindow(120),discount(0),delay(0),deliveryFeeInCents(599) (open from 8 to 20)
A5: 1 | B5: 515711404 | C5: 3732.653 | D5: 7175 | E5: 6626 | F5: 0.4832809 | G5: -1.1660138 | H5: -1.2765966 | I5: 2.7116906 | J5: 1.4336379 | K5: 3.8532621 | L5: 0.44883299 | M5: 5390 | N5: -793.43152 | O5: 5783 | P5: 843 | Q5: 13801 | R5: 19456.38 | S5: 10286.352 | T5: -8366.149 | U5: -9159.5806 | V5: 7175 | W5: 0 | X5: 1:shelfLife(3),deliveryDay(1),timeWindow(120),discount(0),delay(0),deliveryFeeInCents(599) (open from 8 to 20)
A6: 61 | B6: 702795945 | C6: 3820.786 | D6: 7472 | E6: 6249 | F6: 0.51494337 | G6: -1.1641843 | H6: -1.2600242 | I6: 2.7328406 | J6: 1.4927732 | K6: 3.8795097 | L6: 0.45831366 | M6: 5060 | N6: -716.11629 | O6: 5795 | P6: 454 | Q6: 13721 | R6: 20419.785 | S6: 11154.001 | T6: -8698.7848 | U6: -9414.9011 | V6: 7472 | W6: 0 | X6: 1:shelfLife(3),deliveryDay(1),timeWindow(120),discount(0),delay(0),deliveryFeeInCents(599) (open from 8 to 20)
A7: 82 | B7: -352012795 | C7: 3294.608 | D7: 7209 | E7: 6237 | F7: 0.50563536 | G7: -1.1042246 | H7: -1.2454097 | I7: 2.7746482 | J7: 1.4850335 | K7: 3.8497033 | L7: 0.43603759 | M7: 5205 | N7: -1017.8033 | O7: 5330 | P7: 907 | Q7: 13446 | R7: 20002.439 | S7: 10705.607 | T7: -7960.3552 | U7: -8978.1585 | V7: 7209 | W7: 0 | X7: 1:shelfLife(3),deliveryDay(1),timeWindow(120),discount(0),delay(0),deliveryFeeInCents(599) (open from 8 to 20)
A8: 22 | B8: -777409062 | C8: 3192.228 | D8: 7114 | E8: 6623 | F8: 0.49062957 | G8: -1.1919453 | H8: -1.2964794 | I8: 2.71428 | J8: 1.6628837 | K8: 3.8470567 | L8: 0.43571372 | M8: 5390 | N8: -743.65543 | O8: 5842 | P8: 781 | Q8: 13737 | R8: 19309.388 | S8: 11829.754 | T8: -8479.4987 | U8: -9223.1541 | V8: 7114 | W8: 0 | X8: 1:shelfLife(3),deliveryDay(1),timeWindow(120),discount(0),delay(0),deliveryFeeInCents(599) (open from 8 to 20)
A9: 2 | B9: 382434788 | C9: 3227.503 | D9: 6953 | E9: 6428 | F9: 0.4980184 | G9: -1.0852121 | H9: -1.2083528 | I9: 2.7488349 | J9: 1.0320892 | K9: 3.8454456 | L9: 0.43198408 | M9: 5348 | N9: -856.1973 | O9: 5553 | P9: 875 | Q9: 13381 | R9: 19112.649 | S9: 7176.116 | T9: -7545.4797 | U9: -8401.677 | V9: 6953 | W9: 0 | X9: 1:shelfLife(3),deliveryDay(1),timeWindow(120),discount(0),delay(0),deliveryFeeInCents(599) (open from 8 to 20)
A10: 62 | B10: -557000124 | C10: 3166.529 | D10: 7274 | E10: 6370 | F10: 0.5075796 | G10: -1.1427942 | H10: -1.2571846 | I10: 2.6909678 | J10: 2.0447241 | K10: 3.8582562 | L10: 0.44367665 | M10: 5336 | N10: -832.07608 | O10: 5649 | P10: 721 | Q10: 13644 | R10: 19574.1 | S10: 14873.323 | T10: -8312.6849 | U10: -9144.761 | V10: 7274 | W10: 0 | X10: 1:shelfLife(3),deliveryDay(1),timeWindow(120),discount(0),delay(0),deliveryFeeInCents(599) (open from 8 to 20)
A11: 42 | B11: 1585358012 | C11: 3525.014 | D11: 7696 | E11: 6001 | F11: 0.5270221 | G11: -1.1781721 | H11: -1.3064725 | I11: 2.7434597 | J11: 1.857989 | K11: 3.8646591 | L11: 0.47236852 | M11: 4942 | N11: -987.39997 | O11: 5157 | P11: 844 | Q11: 13697 | R11: 21113.666 | S11: 14299.083 | T11: -9067.2127 | U11: -10054.613 | V11: 7696 | W11: 0 | X11: 1:shelfLife(3),deliveryDay(1),timeWindow(120),discount(0),delay(0),deliveryFeeInCents(599) (open from 8 to 20)
A12: 3 | B12: 2141997007 | C12: 3015.149 | D12: 6926 | E12: 6582 | F12: 0.48720611 | G12: -1.1330111 | H12: -1.2545109 | I12: 2.7609643 | J12: 1.6743304 | K12: 3.8700824 | L12: 0.44300216 | M12: 5413 | N12: -841.50769 | O12: 5701 | P12: 881 | Q12: 13508 | R12: 19122.439 | S12: 11596.412 | T12: -7847.2348 | U12: -8688.7425 | V12: 6926 | W12: 0 | X12: 1:shelfLife(3),deliveryDay(1),timeWindow(120),discount(0),delay(0),deliveryFeeInCents(599) (open from 8 to 20)
A13: 83 | B13: -563020019 | C13: 3483.664 | D13: 7302 | E13: 6495 | F13: 0.49883839 | G13: -1.1335838 | H13: -1.2567607 | I13: 2.7386651 | J13: 1.0604439 | K13: 3.8499498 | L13: 0.45746262 | M13: 5325 | N13: -899.43813 | O13: 5763 | P13: 732 | Q13: 13797 | R13: 19997.732 | S13: 7743.3613 | T13: -8277.4287 | U13: -9176.8669 | V13: 7302 | W13: 0 | X13: 1:shelfLife(3),deliveryDay(1),timeWindow(120),discount(0),delay(0),deliveryFeeInCents(599) (open from 8 to 20)
... A101: 80 | B101: 953410059 | C101: 3207.785 | D101: 7299 | E101: 6801 | F101: 0.49262978 | G101: -1.1780468 | H101: -1.2731058 | I101: 2.5831745 | J101: 1.0674093 | K101: 3.8625915 | L101: 0.44248687 | M101: 5551 | N101: -693.83566 | O101: 6033 | P101: 768 | Q101: 14100 | R101: 18854.59 | S101: 7791.0203 | T101: -8598.5635 | U101: -9292.3992 | V101: 7299 | W101: 0 | X101: 1:shelfLife(3),deliveryDay(1),timeWindow(120),discount(0),delay(0),deliveryFeeInCents(599) (open from 8 to 20)
B102: Mean | C102: =AVERAGE(C2:C101) -> 3119.1994 | D102: =AVERAGE(D2:D101) -> 7108.46 | E102: =AVERAGE(E2:E101) -> 6524.91 | F102: =AVERAGE(F2:F101) -> 0.49373496 | G102: =AVERAGE(G2:G101) -> -1.1435606 | H102: =AVERAGE(H2:H101) -> -1.2560362 | I102: =AVERAGE(I2:I101) -> 2.7061568 | J102: =AVERAGE(J2:J101) -> 1.17311 | ... W102: =AVERAGE(W2:W101) -> 0
B103: SD | C103: =STDEVA(C2:C101) -> 342.93017 | D103: =STDEVA(D2:D101) -> 240.52864 | E103: =STDEVA(E2:E101) -> 252.11838 | F103: =STDEVA(F2:F101) -> 0.013440286 | G103: =STDEVA(G2:G101) -> 0.047935962 | H103: =STDEVA(H2:H101) -> 0.044984377 | I103: =STDEVA(I2:I101) -> 0.074620587 | J103: =STDEVA(J2:J101) -> 0.53324608 | ... W103: =STDEVA(W2:W101) -> 0

Sheet Time Window 240
A1: Run | B1: Seed | C1: runTime | D1: OrdersFulfilled | E1: TotalLostSales | F1: RemainingCustomerBase | G1: AvExpUtil | H1: AvActUtil | I1: AvDistance | J1: AvDelay | K1: AvShelfLife | L1: avVehUtil | M1: foodWaste | N1: gapUtility | O1: lostSaleOffer | P1: lostSaleTW | Q1: totalInterest | R1: totalKm | S1: totalDelay | T1: totalExpUtil | U1: totalActUtil | V1: ordersPlaced | W1: stockouts | X1: service
A2: 1 | B2: 515711404 | C2: 1858.931 | D2: 6193 | E2: 7608 | F2: 0.4309651 | G2: -1.6222862 | H2: -1.6950354 | I2: 2.0581459 | J2: 0 | K2: 3.7520103 | L2: 0.37034654 | M2: 6268 | N2: -450.53629 | O2: 6765 | P2: 843 | Q2: 13801 | R2: 12746.098 | S2: 0 | T2: -10046.818 | U2: -10497.355 | V2: 6193 | W2: 0 | X2: 1:shelfLife(3),deliveryDay(1),timeWindow(240),discount(0),delay(0),deliveryFeeInCents(599) (open from 8 to 20)
A3: 21 | B3: -470406801 | C3: 1851.415 | D3: 6148 | E3: 7323 | F3: 0.4473452 | G3: -1.5986465 | H3: -1.6682263 | I3: 2.1079723 | J3: 0.0031620256 | K3: 3.7606335 | L3: 0.3674711 | M3: 6206 | N3: -427.77622 | O3: 6447 | P3: 876 | Q3: 13471 | R3: 12959.813 | S3: 19.440133 | T3: -9828.4788 | U3: -10256.255 | V3: 6148 | W3: 0 | X3: 1:shelfLife(3),deliveryDay(1),timeWindow(240),discount(0),delay(0),deliveryFeeInCents(599) (open from 8 to 20)
A4: 41 | B4: 761480347 | C4: 2024.539 | D4: 6570 | E4: 7038 | F4: 0.47413478 | G4: -1.4821412 | H4: -1.5479288 | I4: 2.0849299 | J4: 0 | K4: 3.7690208 | L4: 0.39869235 | M4: 5969 | N4: -432.22408 | O4: 6105 | P4: 933 | Q4: 13610 | R4: 13697.99 | S4: 0 | T4: -9737.668 | U4: -10169.892 | V4: 6572 | W4: 0 | X4: 1:shelfLife(3),deliveryDay(1),timeWindow(240),discount(0),delay(0),deliveryFeeInCents(599) (open from 8 to 20)
A5: 81 | B5: -1730322955 | C5: 2053.419 | D5: 6234 | E5: 7268 | F5: 0.44968368 | G5: -1.5518208 | H5: -1.620663 | I5: 2.1479978 | J5: 0 | K5: 3.7474556 | L5: 0.37318191 | M5: 6142 | N5: -429.16276 | O5: 6518 | P5: 750 | Q5: 13502 | R5: 13390.619 | S5: 0 | T5: -9674.0506 | U5: -10103.213 | V5: 6234 | W5: 0 | X5: 1:shelfLife(3),deliveryDay(1),timeWindow(240),discount(0),delay(0),deliveryFeeInCents(599) (open from 8 to 20)
A6: 61 | B6: 702795945 | C6: 2326.682 | D6: 6540 | E6: 7180 | F6: 0.46057727 | G6: -1.5412617 | H6: -1.5960119 | I6: 2.1100397 | J6: 0.0035781677 | K6: 3.7608456 | L6: 0.37389291 | M6: 5924 | N6: -358.06595 | O6: 6726 | P6: 454 | Q6: 13721 | R6: 13799.659 | S6: 23.401217 | T6: -10079.852 | U6: -10437.918 | V6: 6541 | W6: 0 | X6: 1:shelfLife(3),deliveryDay(1),timeWindow(240),discount(0),delay(0),deliveryFeeInCents(599) (open from 8 to 20)
A7: 2 | B7: 382434788 | C7: 1859.834 | D7: 6211 | E7: 7169 | F7: 0.45352576 | G7: -1.5055774 | H7: -1.5634354 | I7: 2.1174537 | J7: 0 | K7: 3.7718601 | L7: 0.36089787 | M7: 5996 | N7: -359.35651 | O7: 6294 | P7: 875 | Q7: 13381 | R7: 13151.505 | S7: 0 | T7: -9351.1409 | U7: -9710.4974 | V7: 6212 | W7: 0 | X7: 1:shelfLife(3),deliveryDay(1),timeWindow(240),discount(0),delay(0),deliveryFeeInCents(599) (open from 8 to 20)
A8: 22 | B8: -777409062 | C8: 1886.998 | D8: 6239 | E8: 7498 | F8: 0.44348463 | G8: -1.6532887 | H8: -1.7050139 | I8: 2.0634618 | J8: 0 | K8: 3.7443998 | L8: 0.36322799 | M8: 6174 | N8: -322.71327 | O8: 6717 | P8: 781 | Q8: 13737 | R8: 12873.938 | S8: 0 | T8: -10314.868 | U8: -10637.581 | V8: 6239 | W8: 0 | X8: 1:shelfLife(3),deliveryDay(1),timeWindow(240),discount(0),delay(0),deliveryFeeInCents(599) (open from 8 to 20)
A9: 82 | B9: -352012795 | C9: 1801.782 | D9: 6430 | E9: 7016 | F9: 0.46526703 | G9: -1.4465543 | H9: -1.5303452 | I9: 2.153578 | J9: 0 | K9: 3.7555687 | L9: 0.39625046 | M9: 5954 | N9: -538.77589 | O9: 6109 | P9: 907 | Q9: 13446 | R9: 13847.506 | S9: 0 | T9: -9301.3439 | U9: -9840.1198 | V9: 6430 | W9: 0 | X9: 1:shelfLife(3),deliveryDay(1),timeWindow(240),discount(0),delay(0),deliveryFeeInCents(599) (open from 8 to 20)
A10: 42 | B10: 1585358012 | C10: 2136.853 | D10: 6691 | E10: 7005 | F10: 0.47378018 | G10: -1.684738 | H10: -1.7386668 | I10: 2.0898727 | J10: 0.0095657948 | K10: 3.7711864 | L10: 0.3954087 | M10: 5835 | N10: -360.83765 | O10: 6161 | P10: 844 | Q10: 13697 | R10: 13983.338 | S10: 64.004733 | T10: -11272.582 | U10: -11633.419 | V10: 6692 | W10: 0 | X10: 1:shelfLife(3),deliveryDay(1),timeWindow(240),discount(0),delay(0),deliveryFeeInCents(599) (open from 8 to 20)
A11: 62 | B11: -557000124 | C11: 2078.509 | D11: 6444 | E11: 7199 | F11: 0.45934576 | G11: -1.5364223 | H11: -1.6192279 | I11: 2.0705475 | J11: 0.0047938366 | K11: 3.7634286 | L11: 0.39874141 | M11: 6091 | N11: -533.5994 | O11: 6478 | P11: 721 | Q11: 13644 | R11: 13342.608 | S11: 30.891483 | T11: -9900.7053 | U11: -10434.305 | V11: 6445 | W11: 0 | X11: 1:shelfLife(3),deliveryDay(1),timeWindow(240),discount(0),delay(0),deliveryFeeInCents(599) (open from 8 to 20)
A12: 3 | B12: 2141997007 | C12: 1987.273 | D12: 6157 | E12: 7350 | F12: 0.45138322 | G12: -1.5569694 | H12: -1.6044802 | I12: 2.0772612 | J12: 0 | K12: 3.7582396 | L12: 0.37133938 | M12: 6122 | N12: -292.52351 | O12: 6469 | P12: 881 | Q12: 13508 | R12: 12789.697 | S12: 0 | T12: -9586.2608 | U12: -9878.7843 | V12: 6158 | W12: 0 | X12: 1:shelfLife(3),deliveryDay(1),timeWindow(240),discount(0),delay(0),deliveryFeeInCents(599) (open from 8 to 20)
A13: 23 | B13: -902824430 | C13: 2002.189 | D13: 6654 | E13: 7415 | F13: 0.46852595 | G13: -1.6369797 | H13: -1.6887664 | I13: 2.0939948 | J13: 0 | K13: 3.7531708 | L13: 0.4255213 | M13: 6113 | N13: -344.58896 | O13: 6646 | P13: 769 | Q13: 14070 | R13: 13933.441 | S13: 0 | T13: -10892.463 | U13: -11237.052 | V13: 6655 | W13: 0 | X13: 1:shelfLife(3),deliveryDay(1),timeWindow(240),discount(0),delay(0),deliveryFeeInCents(599) (open from 8 to 20)
... A101: 20 | B101: 1882698207 | C101: 2197.989 | D101: 6626 | E101: 7315 | F101: 0.461891 | G101: -1.575382 | H101: -1.6512988 | I101: 2.0493974 | J101: 0 | K101: 3.7612292 | L101: 0.38838934 | M101: 6309 | N101: -503.02482 | O101: 6355 | P101: 960 | Q101: 13942 | R101: 13579.307 | S101: 0 | T101: -10438.481 | U101: -10941.506 | V101: 6627 | W101: 0 | X101: 1:shelfLife(3),deliveryDay(1),timeWindow(240),discount(0),delay(0),deliveryFeeInCents(599) (open from 8 to 20)
B102: Mean | C102: =AVERAGE(C2:C101) -> 1947.4885 | D102: =AVERAGE(D2:D101) -> 6281.12 | E102: =AVERAGE(E2:E101) -> 7351.61 | F102: =AVERAGE(F2:F101) -> 0.44974227 | G102: =AVERAGE(G2:G101) -> -1.5613228 | H102: =AVERAGE(H2:H101) -> -1.6267259 | I102: =AVERAGE(I2:I101) -> 2.0991976 | J102: =AVERAGE(J2:J101) -> 0.0014571397 | ... W102: =AVERAGE(W2:W101) -> 0
B103: SD | C103: =STDEVA(C2:C101) -> 187.31603 | D103: =STDEVA(D2:D101) -> 231.96143 | E103: =STDEVA(E2:E101) -> 268.98447 | F103: =STDEVA(F2:F101) -> 0.014325007 | G103: =STDEVA(G2:G101) -> 0.060769114 | H103: =STDEVA(H2:H101) -> 0.060659891 | I103: =STDEVA(I2:I101) -> 0.048086917 | J103: =STDEVA(J2:J101) -> 0.0056915096 | ... W103: =STDEVA(W2:W101) -> 0

Sheet Time Window 360
A1: Run | B1: Seed | C1: runTime | D1: OrdersFulfilled | E1: TotalLostSales | F1: RemainingCustomerBase | G1: AvExpUtil | H1: AvActUtil | I1: AvDistance | J1: AvDelay | K1: AvShelfLife | L1: avVehUtil | M1: foodWaste | N1: gapUtility | O1: lostSaleOffer | P1: lostSaleTW | Q1: totalInterest | R1: totalKm | S1: totalDelay | T1: totalExpUtil | U1: totalActUtil | V1: ordersPlaced | W1: stockouts | X1: service
A2: 81 | B2: -1730322955 | C2: 1749.43 | D2: 5443 | E2: 8051 | F2: 0.3917905 | G2: -3.1648901 | H2: -3.2765418 | I2: 1.8928343 | J2: 0 | K2: 3.7241539 | L2: 0.43476055 | M2: 6808 | N2: -607.71987 | O2: 7301 | P2: 750 | Q2: 13502 | R2: 10302.697 | S2: 0 | T2: -17226.497 | U2: -17834.217 | V2: 5451 | W2: 0 | X2: 1:shelfLife(3),deliveryDay(1),timeWindow(360),discount(0),delay(0),deliveryFeeInCents(599) (open from 8 to 20)
A3: 61 | B3: 702795945 | C3: 1858.097 | D3: 5436 | E3: 8285 | F3: 0.38385093 | G3: -3.1354407 | H3: -3.2152391 | I3: 1.8416496 | J3: 0 | K3: 3.7132777 | L3: 0.46417032 | M3: 6851 | N3: -433.78404 | O3: 7831 | P3: 454 | Q3: 13721 | R3: 10011.207 | S3: 0 | T3: -17044.256 | U3: -17478.04 | V3: 5436 | W3: 0 | X3: 1:shelfLife(3),deliveryDay(1),timeWindow(360),discount(0),delay(0),deliveryFeeInCents(599) (open from 8 to 20)
A4: 1 | B4: 515711404 | C4: 2035.286 | D4: 5356 | E4: 8442 | F4: 0.36628375 | G4: -3.1897049 | H4: -3.3092052 | I4: 1.8931965 | J4: 0 | K4: 3.7351694 | L4: 0.43730611 | M4: 6947 | N4: -640.0437 | O4: 7599 | P4: 843 | Q4: 13801 | R4: 10139.961 | S4: 0 | T4: -17084.059 | U4: -17724.103 | V4: 5359 | W4: 0 | X4: 1:shelfLife(3),deliveryDay(1),timeWindow(360),discount(0),delay(0),deliveryFeeInCents(599) (open from 8 to 20)
A5: 21 | B5: -470406801 | C5: 2232.553 | D5: 5336 | E5: 8131 | F5: 0.39057214 | G5: -3.1889109 | H5: -3.2564273 | I5: 1.8527918 | J5: 0 | K5: 3.7301426 | L5: 0.43169771 | M5: 6902 | N5: -360.2675 | O5: 7255 | P5: 876 | Q5: 13471 | R5: 9886.4969 | S5: 0 | T5: -17016.029 | U5: -17376.296 | V5: 5340 | W5: 0 | X5: 1:shelfLife(3),deliveryDay(1),timeWindow(360),discount(0),delay(0),deliveryFeeInCents(599) (open from 8 to 20)
A6: 41 | B6: 761480347 | C6: 2559.187 | D6: 5597 | E6: 8007 | F6: 0.40367308 | G6: -3.0772436 | H6: -3.1655375 | I6: 1.8840642 | J6: 0 | K6: 3.7405432 | L6: 0.42243204 | M6: 6756 | N6: -494.1808 | O6: 7074 | P6: 933 | Q6: 13610 | R6: 10545.107 | S6: 0 | T6: -17223.333 | U6: -17717.513 | V6: 5603 | W6: 0 | X6: 1:shelfLife(3),deliveryDay(1),timeWindow(360),discount(0),delay(0),deliveryFeeInCents(599) (open from 8 to 20)
A7: 82 | B7: -352012795 | C7: 1675.208 | D7: 5402 | E7: 8042 | F7: 0.38777164 | G7: -2.9498591 | H7: -3.0629695 | I7: 1.9455646 | J7: 0 | K7: 3.7108609 | L7: 0.43540958 | M7: 6829 | N7: -611.02215 | O7: 7135 | P7: 907 | Q7: 13446 | R7: 10509.94 | S7: 0 | T7: -15935.139 | U7: -16546.161 | V7: 5404 | W7: 0 | X7: 1:shelfLife(3),deliveryDay(1),timeWindow(360),discount(0),delay(0),deliveryFeeInCents(599) (open from 8 to 20)
A8: 62 | B8: -557000124 | C8: 2019.897 | D8: 5454 | E8: 8188 | F8: 0.38971495 | G8: -2.953224 | H8: -3.0557328 | I8: 1.8883355 | J8: 0 | K8: 3.7248996 | L8: 0.46632429 | M8: 6953 | N8: -559.08305 | O8: 7467 | P8: 721 | Q8: 13644 | R8: 10298.982 | S8: 0 | T8: -16106.883 | U8: -16665.966 | V8: 5456 | W8: 0 | X8: 1:shelfLife(3),deliveryDay(1),timeWindow(360),discount(0),delay(0),deliveryFeeInCents(599) (open from 8 to 20)
A9: 2 | B9: 382434788 | C9: 1891.873 | D9: 5283 | E9: 8089 | F9: 0.39003963 | G9: -3.1716295 | H9: -3.2303001 | I9: 1.9217413 | J9: 0 | K9: 3.7280673 | L9: 0.43721045 | M9: 6755 | N9: -309.95669 | O9: 7214 | P9: 875 | Q9: 13381 | R9: 10152.559 | S9: 0 | T9: -16755.719 | U9: -17065.675 | V9: 5292 | W9: 0 | X9: 1:shelfLife(3),deliveryDay(1),timeWindow(360),discount(0),delay(0),deliveryFeeInCents(599) (open from 8 to 20)
A10: 22 | B10: -777409062 | C10: 2183.46 | D10: 5421 | E10: 8313 | F10: 0.38060029 | G10: -3.1978965 | H10: -3.2596522 | I10: 1.8375378 | J10: 0 | K10: 3.7068322 | L10: 0.44608399 | M10: 6845 | N10: -334.77757 | O10: 7532 | P10: 781 | Q10: 13737 | R10: 9961.2925 | S10: 0 | T10: -17335.797 | U10: -17670.574 | V10: 5424 | W10: 0 | X10: 1:shelfLife(3),deliveryDay(1),timeWindow(360),discount(0),delay(0),deliveryFeeInCents(599) (open from 8 to 20)
A11: 42 | B11: 1585358012 | C11: 2325.922 | D11: 5724 | E11: 7973 | F11: 0.40091897 | G11: -3.1884322 | H11: -3.2749434 | I11: 1.9003628 | J11: 0 | K11: 3.7295788 | L11: 0.45497976 | M11: 6668 | N11: -495.19012 | O11: 7129 | P11: 844 | Q11: 13697 | R11: 10877.676 | S11: 0 | T11: -18250.586 | U11: -18745.776 | V11: 5724 | W11: 0 | X11: 1:shelfLife(3),deliveryDay(1),timeWindow(360),discount(0),delay(0),deliveryFeeInCents(599) (open from 8 to 20)
A12: 83 | B12: -563020019 | C12: 2028.89 | D12: 5712 | E12: 8078 | F12: 0.40046464 | G12: -3.2070923 | H12: -3.2809734 | I12: 1.8542242 | J12: 0 | K12: 3.7320206 | L12: 0.46656266 | M12: 6757 | N12: -422.00898 | O12: 7346 | P12: 732 | Q12: 13797 | R12: 10591.329 | S12: 0 | T12: -18318.911 | U12: -18740.92 | V12: 5719 | W12: 0 | X12: 1:shelfLife(3),deliveryDay(1),timeWindow(360),discount(0),delay(0),deliveryFeeInCents(599) (open from 8 to 20)
A13: 63 | B13: 624355429 | C13: 1591.464 | D13: 5433 | E13: 8417 | F13: 0.38124132 | G13: -3.119207 | H13: -3.217259 | I13: 1.8343457 | J13: 0 | K13: 3.7443175 | L13: 0.46388202 | M13: 6872 | N13: -532.71676 | O13: 7499 | P13: 918 | Q13: 13850 | R13: 9966.0003 | S13: 0 | T13: -16946.652 | U13: -17479.368 | V13: 5433 | W13: 0 | X13: 1:shelfLife(3),deliveryDay(1),timeWindow(360),discount(0),delay(0),deliveryFeeInCents(599) (open from 8 to 20)
... A101: 20 | B101: 1882698207 | C101: 1672.927 | D101: 5643 | E101: 8282 | F101: 0.39624903 | G101: -3.152599 | H101: -3.2192898 | I101: 1.8238036 | J101: 0 | K101: 3.7274052 | L101: 0.46309384 | M101: 7103 | N101: -376.3361 | O101: 7322 | P101: 960 | Q101: 13942 | R101: 10291.724 | S101: 0 | T101: -17790.116 | U101: -18166.452 | V101: 5660 | W101: 0 | X101: 1:shelfLife(3),deliveryDay(1),timeWindow(360),discount(0),delay(0),deliveryFeeInCents(599) (open from 8 to 20)
B102: Mean | C102: =AVERAGE(C2:C101) -> 1809.022 | D102: =AVERAGE(D2:D101) -> 5406.09 | E102: =AVERAGE(E2:E101) -> 8221.59 | F102: =AVERAGE(F2:F101) -> 0.38459959 | G102: =AVERAGE(G2:G101) -> -3.1599393 | H102: =AVERAGE(H2:H101) -> -3.2501202 | I102: =AVERAGE(I2:I101) -> 1.8654594 | J102: =AVERAGE(J2:J101) -> 0 | ... W102: =AVERAGE(W2:W101) -> 0
B103: SD | C103: =STDEVA(C2:C101) -> 251.59776 | D103: =STDEVA(D2:D101) -> 218.66944 | E103: =STDEVA(E2:E101) -> 271.90072 | F103: =STDEVA(F2:F101) -> 0.014453554 | G103: =STDEVA(G2:G101) -> 0.062392551 | H103: =STDEVA(H2:H101) -> 0.062473 | I103: =STDEVA(I2:I101) -> 0.049530957 | J103: =STDEVA(J2:J101) -> 0 | ... W103: =STDEVA(W2:W101) -> 0

Sheet Time Window 480
A1: Run | B1: Seed | C1: runTime | D1: OrdersFulfilled | E1: TotalLostSales | F1: RemainingCustomerBase | G1: AvExpUtil | H1: AvActUtil | I1: AvDistance | J1: AvDelay | K1: AvShelfLife | L1: avVehUtil | M1: foodWaste | N1: gapUtility | O1: lostSaleOffer | P1: lostSaleTW | Q1: totalInterest | R1: totalKm | S1: totalDelay | T1: totalExpUtil | U1: totalActUtil | V1: ordersPlaced | W1: stockouts | X1: service
A2: 1 | B2: 515711404 | C2: 1921.836 | D2: 5152 | E2: 8631 | F2: 0.35743031 | G2: -2.8470105 | H2: -2.9360807 | I2: 1.7701946 | J2: 0 | K2: 3.719414 | L2: 0.42220619 | M2: 7114 | N2: -458.88962 | O2: 7788 | P2: 843 | Q2: 13801 | R2: 9120.0428 | S2: 0 | T2: -14667.798 | U2: -15126.688 | V2: 5170 | W2: 0 | X2: 1:shelfLife(3),deliveryDay(1),timeWindow(480),discount(0),delay(0),deliveryFeeInCents(599) (open from 8 to 20)
A3: 41 | B3: 761480347 | C3: 2110.731 | D3: 5417 | E3: 8191 | F3: 0.38457599 | G3: -2.730907 | H3: -2.8081117 | I3: 1.7355586 | J3: 0 | K3: 3.7116255 | L3: 0.44654076 | M3: 6947 | N3: -418.21762 | O3: 7258 | P3: 933 | Q3: 13610 | R3: 9401.5211 | S3: 0 | T3: -14793.323 | U3: -15211.541 | V3: 5419 | W3: 0 | X3: 1:shelfLife(3),deliveryDay(1),timeWindow(480),discount(0),delay(0),deliveryFeeInCents(599) (open from 8 to 20)
A4: 61 | B4: 702795945 | C4: 2132.822 | D4: 5271 | E4: 8447 | F4: 0.37544757 | G4: -2.7014181 | H4: -2.7480839 | I4: 1.6729337 | J4: 0 | K4: 3.7075771 | L4: 0.45802097 | M4: 7035 | N4: -245.97564 | O4: 7993 | P4: 454 | Q4: 13721 | R4: 8818.0337 | S4: 0 | T4: -14239.175 | U4: -14485.15 | V4: 5274 | W4: 0 | X4: 1:shelfLife(3),deliveryDay(1),timeWindow(480),discount(0),delay(0),deliveryFeeInCents(599) (open from 8 to 20)
A5: 21 | B5: -470406801 | C5: 2131.512 | D5: 5314 | E5: 8152 | F5: 0.38711575 | G5: -2.8338791 | H5: -2.8972891 | I5: 1.7401602 | J5: 0 | K5: 3.7053299 | L5: 0.45056372 | M5: 6926 | N5: -336.96119 | O5: 7276 | P5: 876 | Q5: 13471 | R5: 9247.2114 | S5: 0 | T5: -15059.233 | U5: -15396.195 | V5: 5319 | W5: 0 | X5: 1:shelfLife(3),deliveryDay(1),timeWindow(480),discount(0),delay(0),deliveryFeeInCents(599) (open from 8 to 20)
A6: 81 | B6: -1730322955 | C6: 2327.7 | D6: 5249 | E6: 8239 | F6: 0.3825217 | G6: -2.8037437 | H6: -2.8827001 | I6: 1.7706521 | J6: 0 | K6: 3.7024582 | L6: 0.44138991 | M6: 6961 | N6: -414.44214 | O6: 7489 | P6: 750 | Q6: 13502 | R6: 9294.153 | S6: 0 | T6: -14716.851 | U6: -15131.293 | V6: 5263 | W6: 0 | X6: 1:shelfLife(3),deliveryDay(1),timeWindow(480),discount(0),delay(0),deliveryFeeInCents(599) (open from 8 to 20)
A7: 2 | B7: 382434788 | C7: 1563.486 | D7: 5013 | E7: 8365 | F7: 0.37373813 | G7: -2.8048811 | H7: -2.8538246 | I7: 1.7571628 | J7: 0 | K7: 3.6906626 | L7: 0.42301644 | M7: 7045 | N7: -245.35383 | O7: 7490 | P7: 875 | Q7: 13381 | R7: 8808.6569 | S7: 0 | T7: -14060.869 | U7: -14306.223 | V7: 5016 | W7: 0 | X7: 1:shelfLife(3),deliveryDay(1),timeWindow(480),discount(0),delay(0),deliveryFeeInCents(599) (open from 8 to 20)
A8: 22 | B8: -777409062 | C8: 2204.895 | D8: 5282 | E8: 8441 | F8: 0.37415813 | G8: -2.7697122 | H8: -2.8280987 | I8: 1.7198516 | J8: 0 | K8: 3.7130737 | L8: 0.43086481 | M8: 6998 | N8: -308.39763 | O8: 7660 | P8: 781 | Q8: 13737 | R8: 9084.2561 | S8: 0 | T8: -14629.62 | U8: -14938.017 | V8: 5296 | W8: 0 | X8: 1:shelfLife(3),deliveryDay(1),timeWindow(480),discount(0),delay(0),deliveryFeeInCents(599) (open from 8 to 20)
A9: 82 | B9: -352012795 | C9: 2132.994 | D9: 5190 | E9: 8250 | F9: 0.37303867 | G9: -2.5713433 | H9: -2.6241877 | I9: 1.8521188 | J9: 0 | K9: 3.7099661 | L9: 0.43315507 | M9: 7029 | N9: -274.26213 | O9: 7343 | P9: 907 | Q9: 13446 | R9: 9612.4968 | S9: 0 | T9: -13345.272 | U9: -13619.534 | V9: 5196 | W9: 0 | X9: 1:shelfLife(3),deliveryDay(1),timeWindow(480),discount(0),delay(0),deliveryFeeInCents(599) (open from 8 to 20)
A10: 62 | B10: -557000124 | C10: 2385.374 | D10: 5266 | E10: 8362 | F10: 0.38006818 | G10: -2.675279 | H10: -2.7480472 | I10: 1.7733104 | J10: 0 | K10: 3.7048011 | L10: 0.44480279 | M10: 7108 | N10: -383.19778 | O10: 7641 | P10: 721 | Q10: 13644 | R10: 9338.2526 | S10: 0 | T10: -14088.019 | U10: -14471.217 | V10: 5282 | W10: 0 | X10: 1:shelfLife(3),deliveryDay(1),timeWindow(480),discount(0),delay(0),deliveryFeeInCents(599) (open from 8 to 20)
A11: 42 | B11: 1585358012 | C11: 2492.33 | D11: 5665 | E11: 8018 | F11: 0.40427394 | G11: -2.9393766 | H11: -2.9899405 | I11: 1.7474321 | J11: 0 | K11: 3.7113894 | L11: 0.46113566 | M11: 6711 | N11: -286.44471 | O11: 7174 | P11: 844 | Q11: 13697 | R11: 9899.2028 | S11: 0 | T11: -16651.568 | U11: -16938.013 | V11: 5679 | W11: 0 | X11: 1:shelfLife(3),deliveryDay(1),timeWindow(480),discount(0),delay(0),deliveryFeeInCents(599) (open from 8 to 20)
A12: 3 | B12: 2141997007 | C12: 1958.79 | D12: 5266 | E12: 8227 | F12: 0.38767337 | G12: -2.8275819 | H12: -2.9162034 | I12: 1.7044459 | J12: 0 | K12: 3.7139773 | L12: 0.4493979 | M12: 6867 | N12: -466.68053 | O12: 7346 | P12: 881 | Q12: 13508 | R12: 8975.6124 | S12: 0 | T12: -14890.046 | U12: -15356.727 | V12: 5281 | W12: 0 | X12: 1:shelfLife(3),deliveryDay(1),timeWindow(480),discount(0),delay(0),deliveryFeeInCents(599) (open from 8 to 20)
A13: 63 | B13: 624355429 | C13: 2138.751 | D13: 5301 | E13: 8542 | F13: 0.37305359 | G13: -2.7163145 | H13: -2.805941 | I13: 1.7128987 | J13: 0 | K13: 3.7305529 | L13: 0.47284453 | M13: 6974 | N13: -475.10993 | O13: 7624 | P13: 918 | Q13: 13850 | R13: 9080.0759 | S13: 0 | T13: -14399.183 | U13: -14874.293 | V13: 5308 | W13: 0 | X13: 1:shelfLife(3),deliveryDay(1),timeWindow(480),discount(0),delay(0),deliveryFeeInCents(599) (open from 8 to 20)
... A101: 100 | B101: -1988436389 | C101: 1627.505 | D101: 4836 | E101: 8283 | F101: 0.36044418 | G101: -2.7431423 | H101: -2.8321574 | I101: 1.7765545 | J101: 0 | K101: 3.7053976 | L101: 0.44548457 | M101: 7146 | N101: -430.47716 | O101: 7506 | P101: 777 | Q101: 13135 | R101: 8591.4175 | S101: 0 | T101: -13265.836 | U101: -13696.313 | V101: 4852 | W101: 0 | X101: 1:shelfLife(3),deliveryDay(1),timeWindow(480),discount(0),delay(0),deliveryFeeInCents(599) (open from 8 to 20)
B102: Mean | C102: =AVERAGE(C2:C101) -> 2151.1723 | D102: =AVERAGE(D2:D101) -> 5271.31 | E102: =AVERAGE(E2:E101) -> 8349.63 | F102: =AVERAGE(F2:F101) -> 0.3769174 | G102: =AVERAGE(G2:G101) -> -2.8282486 | H102: =AVERAGE(H2:H101) -> -2.8979369 | I102: =AVERAGE(I2:I101) -> 1.7344665 | J102: =AVERAGE(J2:J101) -> 0 | ... W102: =AVERAGE(W2:W101) -> 0
B103: SD | C103: =STDEVA(C2:C101) -> 256.97782 | D103: =STDEVA(D2:D101) -> 230.61038 | E103: =STDEVA(E2:E101) -> 273.34585 | F103: =STDEVA(F2:F101) -> 0.014596117 | G103: =STDEVA(G2:G101) -> 0.096924302 | H103: =STDEVA(H2:H101) -> 0.09877088 | I103: =STDEVA(I2:I101) -> 0.047168729 | J103: =STDEVA(J2:J101) -> 0 | ... W103: =STDEVA(W2:W101) -> 0

Sheet 12 hours
A1: Run | B1: Seed | C1: runTime | D1: OrdersFulfilled | E1: TotalLostSales | F1: RemainingCustomerBase | G1: AvExpUtil | H1: AvActUtil | I1: AvDistance | J1: AvDelay | K1: AvShelfLife | L1: avVehUtil | M1: foodWaste | N1: gapUtility | O1: lostSaleOffer | P1: lostSaleTW | Q1: totalInterest | R1: totalKm | S1: totalDelay | T1: totalExpUtil | U1: totalActUtil | V1: ordersPlaced | W1: stockouts | X1: service
A2: 1 | B2: 515711404 | C2: 1858.931 | D2: 6193 | E2: 7608 | F2: 0.4309651 | G2: -1.6222862 | H2: -1.6950354 | I2: 2.0581459 | J2: 0 | K2: 3.7520103 | L2: 0.37034654 | M2: 6268 | N2: -450.53629 | O2: 6765 | P2: 843 | Q2: 13801 | R2: 12746.098 | S2: 0 | T2: -10046.818 | U2: -10497.355 | V2: 6193 | W2: 0 | X2: 1:shelfLife(3),deliveryDay(1),timeWindow(240),discount(0),delay(0),deliveryFeeInCents(599) (open from 8 to 20)
A3: 21 | B3: -470406801 | C3: 1851.415 | D3: 6148 | E3: 7323 | F3: 0.4473452 | G3: -1.5986465 | H3: -1.6682263 | I3: 2.1079723 | J3: 0.0031620256 | K3: 3.7606335 | L3: 0.3674711 | M3: 6206 | N3: -427.77622 | O3: 6447 | P3: 876 | Q3: 13471 | R3: 12959.813 | S3: 19.440133 | T3: -9828.4788 | U3: -10256.255 | V3: 6148 | W3: 0 | X3: 1:shelfLife(3),deliveryDay(1),timeWindow(240),discount(0),delay(0),deliveryFeeInCents(599) (open from 8 to 20)
A4: 41 | B4: 761480347 | C4: 2024.539 | D4: 6570 | E4: 7038 | F4: 0.47413478 | G4: -1.4821412 | H4: -1.5479288 | I4: 2.0849299 | J4: 0 | K4: 3.7690208 | L4: 0.39869235 | M4: 5969 | N4: -432.22408 | O4: 6105 | P4: 933 | Q4: 13610 | R4: 13697.99 | S4: 0 | T4: -9737.668 | U4: -10169.892 | V4: 6572 | W4: 0 | X4: 1:shelfLife(3),deliveryDay(1),timeWindow(240),discount(0),delay(0),deliveryFeeInCents(599) (open from 8 to 20)
A5: 81 | B5: -1730322955 | C5: 2053.419 | D5: 6234 | E5: 7268 | F5: 0.44968368 | G5: -1.5518208 | H5: -1.620663 | I5: 2.1479978 | J5: 0 | K5: 3.7474556 | L5: 0.37318191 | M5: 6142 | N5: -429.16276 | O5: 6518 | P5: 750 | Q5: 13502 | R5: 13390.619 | S5: 0 | T5: -9674.0506 | U5: -10103.213 | V5: 6234 | W5: 0 | X5: 1:shelfLife(3),deliveryDay(1),timeWindow(240),discount(0),delay(0),deliveryFeeInCents(599) (open from 8 to 20)
A6: 61 | B6: 702795945 | C6: 2326.682 | D6: 6540 | E6: 7180 | F6: 0.46057727 | G6: -1.5412617 | H6: -1.5960119 | I6: 2.1100397 | J6: 0.0035781677 | K6: 3.7608456 | L6: 0.37389291 | M6: 5924 | N6: -358.06595 | O6: 6726 | P6: 454 | Q6: 13721 | R6: 13799.659 | S6: 23.401217 | T6: -10079.852 | U6: -10437.918 | V6: 6541 | W6: 0 | X6: 1:shelfLife(3),deliveryDay(1),timeWindow(240),discount(0),delay(0),deliveryFeeInCents(599) (open from 8 to 20)
A7: 2 | B7: 382434788 | C7: 1859.834 | D7: 6211 | E7: 7169 | F7: 0.45352576 | G7: -1.5055774 | H7: -1.5634354 | I7: 2.1174537 | J7: 0 | K7: 3.7718601 | L7: 0.36089787 | M7: 5996 | N7: -359.35651 | O7: 6294 | P7: 875 | Q7: 13381 | R7: 13151.505 | S7: 0 | T7: -9351.1409 | U7: -9710.4974 | V7: 6212 | W7: 0 | X7: 1:shelfLife(3),deliveryDay(1),timeWindow(240),discount(0),delay(0),deliveryFeeInCents(599) (open from 8 to 20)
A8: 22 | B8: -777409062 | C8: 1886.998 | D8: 6239 | E8: 7498 | F8: 0.44348463 | G8: -1.6532887 | H8: -1.7050139 | I8: 2.0634618 | J8: 0 | K8: 3.7443998 | L8: 0.36322799 | M8: 6174 | N8: -322.71327 | O8: 6717 | P8: 781 | Q8: 13737 | R8: 12873.938 | S8: 0 | T8: -10314.868 | U8: -10637.581 | V8: 6239 | W8: 0 | X8: 1:shelfLife(3),deliveryDay(1),timeWindow(240),discount(0),delay(0),deliveryFeeInCents(599) (open from 8 to 20)
A9: 82 | B9: -352012795 | C9: 1801.782 | D9: 6430 | E9: 7016 | F9: 0.46526703 | G9: -1.4465543 | H9: -1.5303452 | I9: 2.153578 | J9: 0 | K9: 3.7555687 | L9: 0.39625046 | M9: 5954 | N9: -538.77589 | O9: 6109 | P9: 907 | Q9: 13446 | R9: 13847.506 | S9: 0 | T9: -9301.3439 | U9: -9840.1198 | V9: 6430 | W9: 0 | X9: 1:shelfLife(3),deliveryDay(1),timeWindow(240),discount(0),delay(0),deliveryFeeInCents(599) (open from 8 to 20)
A10: 42 | B10: 1585358012 | C10: 2136.853 | D10: 6691 | E10: 7005 | F10: 0.47378018 | G10: -1.684738 | H10: -1.7386668 | I10: 2.0898727 | J10: 0.0095657948 | K10: 3.7711864 | L10: 0.3954087 | M10: 5835 | N10: -360.83765 | O10: 6161 | P10: 844 | Q10: 13697 | R10: 13983.338 | S10: 64.004733 | T10: -11272.582 | U10: -11633.419 | V10: 6692 | W10: 0 | X10: 1:shelfLife(3),deliveryDay(1),timeWindow(240),discount(0),delay(0),deliveryFeeInCents(599) (open from 8 to 20)
A11: 62 | B11: -557000124 | C11: 2078.509 | D11: 6444 | E11: 7199 | F11: 0.45934576 | G11: -1.5364223 | H11: -1.6192279 | I11: 2.0705475 | J11: 0.0047938366 | K11: 3.7634286 | L11: 0.39874141 | M11: 6091 | N11: -533.5994 | O11: 6478 | P11: 721 | Q11: 13644 | R11: 13342.608 | S11: 30.891483 | T11: -9900.7053 | U11: -10434.305 | V11: 6445 | W11: 0 | X11: 1:shelfLife(3),deliveryDay(1),timeWindow(240),discount(0),delay(0),deliveryFeeInCents(599) (open from 8 to 20)
A12: 3 | B12: 2141997007 | C12: 1987.273 | D12: 6157 | E12: 7350 | F12: 0.45138322 | G12: -1.5569694 | H12: -1.6044802 | I12: 2.0772612 | J12: 0 | K12: 3.7582396 | L12: 0.37133938 | M12: 6122 | N12: -292.52351 | O12: 6469 | P12: 881 | Q12: 13508 | R12: 12789.697 | S12: 0 | T12: -9586.2608 | U12: -9878.7843 | V12: 6158 | W12: 0 | X12: 1:shelfLife(3),deliveryDay(1),timeWindow(240),discount(0),delay(0),deliveryFeeInCents(599) (open from 8 to 20)
A13: 23 | B13: -902824430 | C13: 2002.189 | D13: 6654 | E13: 7415 | F13: 0.46852595 | G13: -1.6369797 | H13: -1.6887664 | I13: 2.0939948 | J13: 0 | K13: 3.7531708 | L13: 0.4255213 | M13: 6113 | N13: -344.58896 | O13: 6646 | P13: 769 | Q13: 14070 | R13: 13933.441 | S13: 0 | T13: -10892.463 | U13: -11237.052 | V13: 6655 | W13: 0 | X13: 1:shelfLife(3),deliveryDay(1),timeWindow(240),discount(0),delay(0),deliveryFeeInCents(599) (open from 8 to 20)
... A101: 20 | B101: 1882698207 | C101: 2197.989 | D101: 6626 | E101: 7315 | F101: 0.461891 | G101: -1.575382 | H101: -1.6512988 | I101: 2.0493974 | J101: 0 | K101: 3.7612292 | L101: 0.38838934 | M101: 6309 | N101: -503.02482 | O101: 6355 | P101: 960 | Q101: 13942 | R101: 13579.307 | S101: 0 | T101: -10438.481 | U101: -10941.506 | V101: 6627 | W101: 0 | X101: 1:shelfLife(3),deliveryDay(1),timeWindow(240),discount(0),delay(0),deliveryFeeInCents(599) (open from 8 to 20)
B102: Mean | C102: =AVERAGE(C2:C101) -> 1947.4885 | D102: =AVERAGE(D2:D101) -> 6281.12 | E102: =AVERAGE(E2:E101) -> 7351.61 | F102: =AVERAGE(F2:F101) -> 0.44974227 | G102: =AVERAGE(G2:G101) -> -1.5613228 | H102: =AVERAGE(H2:H101) -> -1.6267259 | I102: =AVERAGE(I2:I101) -> 2.0991976 | J102: =AVERAGE(J2:J101) -> 0.0014571397 | ... W102: =AVERAGE(W2:W101) -> 0
B103: SD | C103: =STDEVA(C2:C101) -> 187.31603 | D103: =STDEVA(D2:D101) -> 231.96143 | E103: =STDEVA(E2:E101) -> 268.98447 | F103: =STDEVA(F2:F101) -> 0.014325007 | G103: =STDEVA(G2:G101) -> 0.060769114 | H103: =STDEVA(H2:H101) -> 0.060659891 | I103: =STDEVA(I2:I101) -> 0.048086917 | J103: =STDEVA(J2:J101) -> 0.0056915096 | ... W103: =STDEVA(W2:W101) -> 0

Sheet 24 hours
A1: Run | B1: Seed | C1: runTime | D1: OrdersFulfilled | E1: TotalLostSales | F1: RemainingCustomerBase | G1: AvExpUtil | H1: AvActUtil | I1: AvDistance | J1: AvDelay | K1: AvShelfLife | L1: avVehUtil | M1: foodWaste | N1: gapUtility | O1: lostSaleOffer | P1: lostSaleTW | Q1: totalInterest | R1: totalKm | S1: totalDelay | T1: totalExpUtil | U1: totalActUtil | V1: ordersPlaced | W1: stockouts | X1: service
A2: 1 | B2: 515711404 | C2: 2255.281 | D2: 6495 | E2: 7305 | F2: 0.4554767 | G2: -1.5646505 | H2: -1.6458128 | I2: 2.1541996 | J2: 0 | K2: 3.8696257 | L2: 0.47294911 | M2: 6020 | N2: -527.14885 | O2: 7305 | P2: 0 | Q2: 13801 | R2: 13991.526 | S2: 0 | T2: -10162.405 | U2: -10689.554 | V2: 6496 | W2: 0 | X2: 1:shelfLife(3),deliveryDay(1),timeWindow(240),discount(0),delay(0),deliveryFeeInCents(599) (open from 0 to 24)
A3: 21 | B3: -470406801 | C3: 2292.842 | D3: 6591 | E3: 6879 | F3: 0.48132078 | G3: -1.5743499 | H3: -1.6337566 | I3: 2.1114947 | J3: 0 | K3: 3.8318459 | L3: 0.47553938 | M3: 5795 | N3: -391.5492 | O3: 6879 | P3: 0 | Q3: 13471 | R3: 13916.862 | S3: 0 | T3: -10376.54 | U3: -10768.09 | V3: 6592 | W3: 0 | X3: 1:shelfLife(3),deliveryDay(1),timeWindow(240),discount(0),delay(0),deliveryFeeInCents(599) (open from 0 to 24)
A4: 81 | B4: -1730322955 | C4: 2373.663 | D4: 6579 | E4: 6921 | F4: 0.47520965 | G4: -1.4939155 | H4: -1.5754143 | I4: 2.1749006 | J4: 0 | K4: 3.8288736 | L4: 0.46871268 | M4: 5831 | N4: -536.18032 | O4: 6921 | P4: 0 | Q4: 13502 | R4: 14308.671 | S4: 0 | T4: -9828.4701 | U4: -10364.65 | V4: 6581 | W4: 0 | X4: 1:shelfLife(3),deliveryDay(1),timeWindow(240),discount(0),delay(0),deliveryFeeInCents(599) (open from 0 to 24)
A5: 41 | B5: 761480347 | C5: 2534.402 | D5: 7062 | E5: 6547 | F5: 0.50925587 | G5: -1.4356205 | H5: -1.5157649 | I5: 2.1125868 | J5: 0 | K5: 3.8547309 | L5: 0.49653268 | M5: 5546 | N5: -565.97965 | O5: 6547 | P5: 0 | Q5: 13610 | R5: 14919.088 | S5: 0 | T5: -10138.352 | U5: -10704.332 | V5: 7063 | W5: 0 | X5: 1:shelfLife(3),deliveryDay(1),timeWindow(240),discount(0),delay(0),deliveryFeeInCents(599) (open from 0 to 24)
A6: 61 | B6: 702795945 | C6: 2609.371 | D6: 6885 | E6: 6834 | F6: 0.4862258 | G6: -1.5040047 | H6: -1.5627345 | I6: 2.1477016 | J6: 0 | K6: 3.8296317 | L6: 0.49161028 | M6: 5631 | N6: -404.35446 | O6: 6834 | P6: 0 | Q6: 13721 | R6: 14786.926 | S6: 0 | T6: -10355.073 | U6: -10759.427 | V6: 6887 | W6: 0 | X6: 1:shelfLife(3),deliveryDay(1),timeWindow(240),discount(0),delay(0),deliveryFeeInCents(599) (open from 0 to 24)
A7: 2 | B7: 382434788 | C7: 2047.82 | D7: 6722 | E7: 6659 | F7: 0.49054064 | G7: -1.4626586 | H7: -1.5274086 | I7: 2.1283464 | J7: 0 | K7: 3.8453597 | L7: 0.4970268 | M7: 5555 | N7: -435.24907 | O7: 6659 | P7: 0 | Q7: 13381 | R7: 14306.744 | S7: 0 | T7: -9831.9913 | U7: -10267.24 | V7: 6722 | W7: 0 | X7: 1:shelfLife(3),deliveryDay(1),timeWindow(240),discount(0),delay(0),deliveryFeeInCents(599) (open from 0 to 24)
A8: 82 | B8: -352012795 | C8: 2092.93 | D8: 6801 | E8: 6644 | F8: 0.49082873 | G8: -1.3957356 | H8: -1.4595322 | I8: 2.2016812 | J8: 0 | K8: 3.8473218 | L8: 0.52755449 | M8: 5600 | N8: -433.88089 | O8: 6644 | P8: 0 | Q8: 13446 | R8: 14973.634 | S8: 0 | T8: -9492.3978 | U8: -9926.2787 | V8: 6802 | W8: 0 | X8: 1:shelfLife(3),deliveryDay(1),timeWindow(240),discount(0),delay(0),deliveryFeeInCents(599) (open from 0 to 24)
A9: 22 | B9: -777409062 | C9: 2401.59 | D9: 6662 | E9: 7075 | F9: 0.47459736 | G9: -1.5585147 | H9: -1.6509875 | I9: 2.1451681 | J9: 0 | K9: 3.8450369 | L9: 0.4907642 | M9: 5806 | N9: -616.05434 | O9: 7075 | P9: 0 | Q9: 13737 | R9: 14291.11 | S9: 0 | T9: -10382.825 | U9: -10998.879 | V9: 6662 | W9: 0 | X9: 1:shelfLife(3),deliveryDay(1),timeWindow(240),discount(0),delay(0),deliveryFeeInCents(599) (open from 0 to 24)
A10: 62 | B10: -557000124 | C10: 2485.066 | D10: 6777 | E10: 6867 | F10: 0.4806702 | G10: -1.4646612 | H10: -1.5629619 | I10: 2.1608702 | J10: 0 | K10: 3.8513666 | L10: 0.47302494 | M10: 5797 | N10: -666.18421 | O10: 6867 | P10: 0 | Q10: 13644 | R10: 14644.217 | S10: 0 | T10: -9926.0088 | U10: -10592.193 | V10: 6777 | W10: 0 | X10: 1:shelfLife(3),deliveryDay(1),timeWindow(240),discount(0),delay(0),deliveryFeeInCents(599) (open from 0 to 24)
A11: 42 | B11: 1585358012 | C11: 2596.446 | D11: 7072 | E11: 6625 | F11: 0.49792138 | G11: -1.6922092 | H11: -1.7389838 | I11: 2.1457117 | J11: 0 | K11: 3.8480538 | L11: 0.4815799 | M11: 5507 | N11: -330.78977 | O11: 6625 | P11: 0 | Q11: 13697 | R11: 15174.473 | S11: 0 | T11: -11967.304 | U11: -12298.093 | V11: 7072 | W11: 0 | X11: 1:shelfLife(3),deliveryDay(1),timeWindow(240),discount(0),delay(0),deliveryFeeInCents(599) (open from 0 to 24)
A12: 3 | B12: 2141997007 | C12: 2394.128 | D12: 6581 | E12: 6925 | F12: 0.4801602 | G12: -1.5042205 | H12: -1.5815763 | I12: 2.117573 | J12: 0 | K12: 3.8356871 | L12: 0.47084109 | M12: 5751 | N12: -509.07812 | O12: 6925 | P12: 0 | Q12: 13508 | R12: 13935.748 | S12: 0 | T12: -9899.2754 | U12: -10408.354 | V12: 6583 | W12: 0 | X12: 1:shelfLife(3),deliveryDay(1),timeWindow(240),discount(0),delay(0),deliveryFeeInCents(599) (open from 0 to 24)
A13: 83 | B13: -563020019 | C13: 2453.803 | D13: 6747 | E13: 7048 | F13: 0.47190359 | G13: -1.4148684 | H13: -1.4799682 | I13: 2.106046 | J13: 0 | K13: 3.8422895 | L13: 0.48754546 | M13: 5826 | N13: -439.22817 | O13: 7048 | P13: 0 | Q13: 13797 | R13: 14209.492 | S13: 0 | T13: -9546.1172 | U13: -9985.3454 | V13: 6749 | W13: 0 | X13: 1:shelfLife(3),deliveryDay(1),timeWindow(240),discount(0),delay(0),deliveryFeeInCents(599) (open from 0 to 24)
... A101: 20 | B101: 1882698207 | C101: 2311.278 | D101: 7033 | E101: 6904 | F101: 0.48988225 | G101: -1.556594 | H101: -1.6177401 | I101: 2.0913634 | J101: 0 | K101: 3.858674 | L101: 0.50891176 | M101: 5907 | N101: -430.04093 | O101: 6904 | P101: 0 | Q101: 13942 | R101: 14708.559 | S101: 0 | T101: -10947.525 | U101: -11377.566 | V101: 7038 | W101: 0 | X101: 1:shelfLife(3),deliveryDay(1),timeWindow(240),discount(0),delay(0),deliveryFeeInCents(599) (open from 0 to 24)
B102: Mean | C102: =AVERAGE(C2:C101) -> 2257.9604 | D102: =AVERAGE(D2:D101) -> 6697.25 | E102: =AVERAGE(E2:E101) -> 6934.85 | F102: =AVERAGE(F2:F101) -> 0.47892293 | G102: =AVERAGE(G2:G101) -> -1.521633 | H102: =AVERAGE(H2:H101) -> -1.5929952 | I102: =AVERAGE(I2:I101) -> 2.137626 | J102: =AVERAGE(J2:J101) -> 0 | ... W102: =AVERAGE(W2:W101) -> 0
B103: SD | C103: =STDEVA(C2:C101) -> 193.52311 | D103: =STDEVA(D2:D101) -> 234.81815 | E103: =STDEVA(E2:E101) -> 257.06849 | F103: =STDEVA(F2:F101) -> 0.014317447 | G103: =STDEVA(G2:G101) -> 0.060829273 | H103: =STDEVA(H2:H101) -> 0.06203394 | I103: =STDEVA(I2:I101) -> 0.046136869 | J103: =STDEVA(J2:J101) -> 0 | ... W103: =STDEVA(W2:W101) -> 0

Sheet Combined
A1: Run | B1: Seed | C1: runTime | D1: OrdersFulfilled | E1: TotalLostSales | F1: RemainingCustomerBase | G1: AvExpUtil | H1: AvActUtil | I1: AvDistance | J1: AvDelay | K1: AvShelfLife | L1: avVehUtil | M1: foodWaste | N1: gapUtility | O1: lostSaleOffer | P1: lostSaleTW | Q1: totalInterest | R1: totalKm | S1: totalDelay | T1: totalExpUtil | U1: totalActUtil | V1: ordersPlaced | W1: stockouts | X1: service
A2: 1 | B2: 515711404 | C2: 3907.542 | D2: 8028 | E2: 5773 | F2: 0.55586449 | G2: -0.16045387 | H2: -0.28129528 | I2: 2.1102398 | J2: 0 | K2: 3.8253513 | L2: 0.5788086 | M2: 4654 | N2: -970.11481 | O2: 4930 | P2: 843 | Q2: 13801 | R2: 16941.005 | S2: 0 | T2: -1288.1237 | U2: -2258.2385 | V2: 8028 | W2: 0 | X2: 1:shelfLife(3),deliveryDay(1),timeWindow(240),discount(0),delay(0),deliveryFeeInCents(599) (open from 8 to 20)/2:shelfLife(3),deliveryDay(1),timeWindow(360),discount(0),delay(0),deliveryFeeInCents(399) (open from 8 to 20)/3:shelfLife(3),deliveryDay(0),timeWindow(120),discount(0),delay(0),deliveryFeeInCents(799) (open from 8 to 20)/
A3: 21 | B3: -470406801 | C3: 4255.658 | D3: 7797 | E3: 5670 | F3: 0.55522871 | G3: -0.17227653 | H3: -0.27381914 | I3: 2.0255476 | J3: 0.00029136634 | K3: 3.8247294 | L3: 0.57064944 | M3: 4722 | N3: -791.72767 | O3: 4794 | P3: 876 | Q3: 13471 | R3: 15793.194 | S3: 2.2717833 | T3: -1343.2401 | U3: -2134.9678 | V3: 7801 | W3: 0 | X3: 1:shelfLife(3),deliveryDay(1),timeWindow(240),discount(0),delay(0),deliveryFeeInCents(599) (open from 8 to 20)/2:shelfLife(3),deliveryDay(1),timeWindow(360),discount(0),delay(0),deliveryFeeInCents(399) (open from 8 to 20)/3:shelfLife(3),deliveryDay(0),timeWindow(120),discount(0),delay(0),deliveryFeeInCents(799) (open from 8 to 20)/
A4: 61 | B4: 702795945 | C4: 4388.321 | D4: 8160 | E4: 5553 | F4: 0.56777494 | G4: -0.1350406 | H4: -0.25412738 | I4: 2.0910435 | J4: 9.5281863e-05 | K4: 3.815778 | L4: 0.58571013 | M4: 4477 | N4: -971.74817 | O4: 5099 | P4: 454 | Q4: 13721 | R4: 17062.915 | S4: 0.7775 | T4: -1101.9313 | U4: -2073.6794 | V4: 8168 | W4: 0 | X4: 1:shelfLife(3),deliveryDay(1),timeWindow(240),discount(0),delay(0),deliveryFeeInCents(599) (open from 8 to 20)/2:shelfLife(3),deliveryDay(1),timeWindow(360),discount(0),delay(0),deliveryFeeInCents(399) (open from 8 to 20)/3:shelfLife(3),deliveryDay(0),timeWindow(120),discount(0),delay(0),deliveryFeeInCents(799) (open from 8 to 20)/
A5: 81 | B5: -1730322955 | C5: 4428.68 | D5: 7979 | E5: 5520 | F5: 0.57120789 | G5: -0.087255826 | H5: -0.20044878 | I5: 2.1390551 | J5: 0.00035405857 | K5: 3.795193 | L5: 0.58964151 | M5: 4619 | N5: -903.16657 | O5: 4770 | P5: 750 | Q5: 13502 | R5: 17067.521 | S5: 2.8250333 | T5: -696.21424 | U5: -1599.3808 | V5: 7982 | W5: 0 | X5: 1:shelfLife(3),deliveryDay(1),timeWindow(240),discount(0),delay(0),deliveryFeeInCents(599) (open from 8 to 20)/2:shelfLife(3),deliveryDay(1),timeWindow(360),discount(0),delay(0),deliveryFeeInCents(399) (open from 8 to 20)/3:shelfLife(3),deliveryDay(0),timeWindow(120),discount(0),delay(0),deliveryFeeInCents(799) (open from 8 to 20)/
A6: 41 | B6: 761480347 | C6: 4530.986 | D6: 8025 | E6: 5585 | F6: 0.57079096 | G6: -0.11040019 | H6: -0.1945126 | I6: 2.0135246 | J6: 0 | K6: 3.8292119 | L6: 0.59325358 | M6: 4706 | N6: -675.00214 | O6: 4652 | P6: 933 | Q6: 13610 | R6: 16158.535 | S6: 0 | T6: -885.96151 | U6: -1560.9637 | V6: 8025 | W6: 0 | X6: 1:shelfLife(3),deliveryDay(1),timeWindow(240),discount(0),delay(0),deliveryFeeInCents(599) (open from 8 to 20)/2:shelfLife(3),deliveryDay(1),timeWindow(360),discount(0),delay(0),deliveryFeeInCents(399) (open from 8 to 20)/3:shelfLife(3),deliveryDay(0),timeWindow(120),discount(0),delay(0),deliveryFeeInCents(799) (open from 8 to 20)/
A7: 2 | B7: 382434788 | C7: 3016.488 | D7: 7614 | E7: 5765 | F7: 0.54924101 | G7: -0.062800188 | H7: -0.14882024 | I7: 2.0118227 | J7: 0 | K7: 3.800394 | L7: 0.5565596 | M7: 4794 | N7: -654.95668 | O7: 4890 | P7: 875 | Q7: 13381 | R7: 15318.018 | S7: 0 | T7: -478.16063 | U7: -1133.1173 | V7: 7616 | W7: 0 | X7: 1:shelfLife(3),deliveryDay(1),timeWindow(240),discount(0),delay(0),deliveryFeeInCents(599) (open from 8 to 20)/2:shelfLife(3),deliveryDay(1),timeWindow(360),discount(0),delay(0),deliveryFeeInCents(399) (open from 8 to 20)/3:shelfLife(3),deliveryDay(0),timeWindow(120),discount(0),delay(0),deliveryFeeInCents(799) (open from 8 to 20)/
A8: 22 | B8: -777409062 | C8: 4035.123 | D8: 7804 | E8: 5933 | F8: 0.54062957 | G8: -0.19112376 | H8: -0.29076327 | I8: 2.0605642 | J8: 4.9128652e-05 | K8: 3.8032752 | L8: 0.54165732 | M8: 4783 | N8: -777.58677 | O8: 5152 | P8: 781 | Q8: 13737 | R8: 16080.643 | S8: 0.3834 | T8: -1491.5298 | U8: -2269.1166 | V8: 7804 | W8: 0 | X8: 1:shelfLife(3),deliveryDay(1),timeWindow(240),discount(0),delay(0),deliveryFeeInCents(599) (open from 8 to 20)/2:shelfLife(3),deliveryDay(1),timeWindow(360),discount(0),delay(0),deliveryFeeInCents(399) (open from 8 to 20)/3:shelfLife(3),deliveryDay(0),timeWindow(120),discount(0),delay(0),deliveryFeeInCents(799) (open from 8 to 20)/
A9: 62 | B9: -557000124 | C9: 4602.433 | D9: 7955 | E9: 5689 | F9: 0.55965765 | G9: -0.057158357 | H9: -0.15721927 | I9: 2.0728391 | J9: 0 | K9: 3.8013895 | L9: 0.58971377 | M9: 4783 | N9: -795.98459 | O9: 4968 | P9: 721 | Q9: 13644 | R9: 16489.435 | S9: 0 | T9: -454.69473 | U9: -1250.6793 | V9: 7955 | W9: 0 | X9: 1:shelfLife(3),deliveryDay(1),timeWindow(240),discount(0),delay(0),deliveryFeeInCents(599) (open from 8 to 20)/2:shelfLife(3),deliveryDay(1),timeWindow(360),discount(0),delay(0),deliveryFeeInCents(399) (open from 8 to 20)/3:shelfLife(3),deliveryDay(0),timeWindow(120),discount(0),delay(0),deliveryFeeInCents(799) (open from 8 to 20)/
A10: 82 | B10: -352012795 | C10: 4851.3 | D10: 7991 | E10: 5454 | F10: 0.56869245 | G10: 0.019851782 | H10: -0.076390494 | I10: 2.1156869 | J10: 0.0081244921 | K10: 3.8226828 | L10: 0.56384812 | M10: 4589 | N10: -769.07203 | O10: 4547 | P10: 907 | Q10: 13446 | R10: 16906.454 | S10: 64.922817 | T10: 158.63559 | U10: -610.43643 | V10: 7992 | W10: 0 | X10: 1:shelfLife(3),deliveryDay(1),timeWindow(240),discount(0),delay(0),deliveryFeeInCents(599) (open from 8 to 20)/2:shelfLife(3),deliveryDay(1),timeWindow(360),discount(0),delay(0),deliveryFeeInCents(399) (open from 8 to 20)/3:shelfLife(3),deliveryDay(0),timeWindow(120),discount(0),delay(0),deliveryFeeInCents(799) (open from 8 to 20)/
A11: 42 | B11: 1585358012 | C11: 4849.007 | D11: 8438 | E11: 5255 | F11: 0.58799504 | G11: -0.11234413 | H11: -0.22607838 | I11: 2.0840082 | J11: 0.00018405033 | K11: 3.82271 | L11: 0.63735501 | M11: 4302 | N11: -959.68957 | O11: 4411 | P11: 844 | Q11: 13697 | R11: 17584.861 | S11: 1.5530167 | T11: -947.95979 | U11: -1907.6494 | V11: 8442 | W11: 0 | X11: 1:shelfLife(3),deliveryDay(1),timeWindow(240),discount(0),delay(0),deliveryFeeInCents(599) (open from 8 to 20)/2:shelfLife(3),deliveryDay(1),timeWindow(360),discount(0),delay(0),deliveryFeeInCents(399) (open from 8 to 20)/3:shelfLife(3),deliveryDay(0),timeWindow(120),discount(0),delay(0),deliveryFeeInCents(799) (open from 8 to 20)/
A12: 3 | B12: 2141997007 | C12: 4084.185 | D12: 7990 | E12: 5516 | F12: 0.57190536 | G12: -0.066629093 | H12: -0.16589346 | I12: 2.0908921 | J12: 0.00053465791 | K12: 3.8240188 | L12: 0.63099657 | M12: 4518 | N12: -793.12231 | O12: 4635 | P12: 881 | Q12: 13508 | R12: 16706.228 | S12: 4.2719167 | T12: -532.36645 | U12: -1325.4888 | V12: 7992 | W12: 0 | X12: 1:shelfLife(3),deliveryDay(1),timeWindow(240),discount(0),delay(0),deliveryFeeInCents(599) (open from 8 to 20)/2:shelfLife(3),deliveryDay(1),timeWindow(360),discount(0),delay(0),deliveryFeeInCents(399) (open from 8 to 20)/3:shelfLife(3),deliveryDay(0),timeWindow(120),discount(0),delay(0),deliveryFeeInCents(799) (open from 8 to 20)/
A13: 63 | B13: 624355429 | C13: 3647.867 | D13: 7664 | E13: 6186 | F13: 0.53739308 | G13: -0.05102425 | H13: -0.16633691 | I13: 2.1170042 | J13: 0.0015047495 | K13: 3.8172188 | L13: 0.57236963 | M13: 4926 | N13: -883.75622 | O13: 5268 | P13: 918 | Q13: 13850 | R13: 16224.72 | S13: 11.5324 | T13: -391.04985 | U13: -1274.8061 | V13: 7664 | W13: 0 | X13: 1:shelfLife(3),deliveryDay(1),timeWindow(240),discount(0),delay(0),deliveryFeeInCents(599) (open from 8 to 20)/2:shelfLife(3),deliveryDay(1),timeWindow(360),discount(0),delay(0),deliveryFeeInCents(399) (open from 8 to 20)/3:shelfLife(3),deliveryDay(0),timeWindow(120),discount(0),delay(0),deliveryFeeInCents(799) (open from 8 to 20)/
... A101: 100 | B101: -1988436389 | C101: 3110.985 | D101: 7662 | E101: 5473 | F101: 0.55439676 | G101: -0.027210674 | H101: -0.14206978 | I101: 1.9848741 | J101: 0 | K101: 3.8207529 | L101: 0.54023897 | M101: 4667 | N101: -880.05048 | O101: 4696 | P101: 777 | Q101: 13135 | R101: 15208.105 | S101: 0 | T101: -208.48818 | U101: -1088.5387 | V101: 7662 | W101: 0 | X101: 1:shelfLife(3),deliveryDay(1),timeWindow(240),discount(0),delay(0),deliveryFeeInCents(599) (open from 8 to 20)/2:shelfLife(3),deliveryDay(1),timeWindow(360),discount(0),delay(0),deliveryFeeInCents(399) (open from 8 to 20)/3:shelfLife(3),deliveryDay(0),timeWindow(120),discount(0),delay(0),deliveryFeeInCents(799) (open from 8 to 20)/
B102: Mean | C102: =AVERAGE(C2:C101) -> 3789.9093 | D102: =AVERAGE(D2:D101) -> 7870.82 | E102: =AVERAGE(E2:E101) -> 5759.19 | F102: =AVERAGE(F2:F101) -> 0.55342564 | G102: =AVERAGE(G2:G101) -> -0.10528747 | H102: =AVERAGE(H2:H101) -> -0.21232413 | I102: =AVERAGE(I2:I101) -> 2.0816085 | J102: =AVERAGE(J2:J101) -> 0.0016826569 | ... W102: =AVERAGE(W2:W101) -> 0
B103: SD | C103: =STDEVA(C2:C101) -> 598.15651 | D103: =STDEVA(D2:D101) -> 276.22511 | E103: =STDEVA(E2:E101) -> 247.08362 | F103: =STDEVA(F2:F101) -> 0.015059096 | G103: =STDEVA(G2:G101) -> 0.065300194 | H103: =STDEVA(H2:H101) -> 0.065003172 | I103: =STDEVA(I2:I101) -> 0.062191111 | J103: =STDEVA(J2:J101) -> 0.0065429088 | ... W103: =STDEVA(W2:W101) -> 0

Sheet Discount 0
A1: Run | B1: Seed | C1: runTime | D1: OrdersFulfilled | E1: TotalLostSales | F1: RemainingCustomerBase | G1: AvExpUtil | H1: AvActUtil | I1: AvDistance | J1: AvDelay | K1: AvShelfLife | L1: avVehUtil | M1: foodWaste | N1: gapUtility | O1: lostSaleOffer | P1: lostSaleTW | Q1: totalInterest | R1: totalKm | S1: totalDelay | T1: totalExpUtil | U1: totalActUtil | V1: ordersPlaced | W1: stockouts | X1: service
A2: 1 | B2: 515711404 | C2: 1858.931 | D2: 6193 | E2: 7608 | F2: 0.4309651 | G2: -1.6222862 | H2: -1.6950354 | I2: 2.0581459 | J2: 0 | K2: 3.7520103 | L2: 0.37034654 | M2: 6268 | N2: -450.53629 | O2: 6765 | P2: 843 | Q2: 13801 | R2: 12746.098 | S2: 0 | T2: -10046.818 | U2: -10497.355 | V2: 6193 | W2: 0 | X2: 1:shelfLife(3),deliveryDay(1),timeWindow(240),discount(0),delay(0),deliveryFeeInCents(599) (open from 8 to 20)
A3: 21 | B3: -470406801 | C3: 1851.415 | D3: 6148 | E3: 7323 | F3: 0.4473452 | G3: -1.5986465 | H3: -1.6682263 | I3: 2.1079723 | J3: 0.0031620256 | K3: 3.7606335 | L3: 0.3674711 | M3: 6206 | N3: -427.77622 | O3: 6447 | P3: 876 | Q3: 13471 | R3: 12959.813 | S3: 19.440133 | T3: -9828.4788 | U3: -10256.255 | V3: 6148 | W3: 0 | X3: 1:shelfLife(3),deliveryDay(1),timeWindow(240),discount(0),delay(0),deliveryFeeInCents(599) (open from 8 to 20)
A4: 41 | B4: 761480347 | C4: 2024.539 | D4: 6570 | E4: 7038 | F4: 0.47413478 | G4: -1.4821412 | H4: -1.5479288 | I4: 2.0849299 | J4: 0 | K4: 3.7690208 | L4: 0.39869235 | M4: 5969 | N4: -432.22408 | O4: 6105 | P4: 933 | Q4: 13610 | R4: 13697.99 | S4: 0 | T4: -9737.668 | U4: -10169.892 | V4: 6572 | W4: 0 | X4: 1:shelfLife(3),deliveryDay(1),timeWindow(240),discount(0),delay(0),deliveryFeeInCents(599) (open from 8 to 20)
A5: 81 | B5: -1730322955 | C5: 2053.419 | D5: 6234 | E5: 7268 | F5: 0.44968368 | G5: -1.5518208 | H5: -1.620663 | I5: 2.1479978 | J5: 0 | K5: 3.7474556 | L5: 0.37318191 | M5: 6142 | N5: -429.16276 | O5: 6518 | P5: 750 | Q5: 13502 | R5: 13390.619 | S5: 0 | T5: -9674.0506 | U5: -10103.213 | V5: 6234 | W5: 0 | X5: 1:shelfLife(3),deliveryDay(1),timeWindow(240),discount(0),delay(0),deliveryFeeInCents(599) (open from 8 to 20)
A6: 61 | B6: 702795945 | C6: 2326.682 | D6: 6540 | E6: 7180 | F6: 0.46057727 | G6: -1.5412617 | H6: -1.5960119 | I6: 2.1100397 | J6: 0.0035781677 | K6: 3.7608456 | L6: 0.37389291 | M6: 5924 | N6: -358.06595 | O6: 6726 | P6: 454 | Q6: 13721 | R6: 13799.659 | S6: 23.401217 | T6: -10079.852 | U6: -10437.918 | V6: 6541 | W6: 0 | X6: 1:shelfLife(3),deliveryDay(1),timeWindow(240),discount(0),delay(0),deliveryFeeInCents(599) (open from 8 to 20)
A7: 2 | B7: 382434788 | C7: 1859.834 | D7: 6211 | E7: 7169 | F7: 0.45352576 | G7: -1.5055774 | H7: -1.5634354 | I7: 2.1174537 | J7: 0 | K7: 3.7718601 | L7: 0.36089787 | M7: 5996 | N7: -359.35651 | O7: 6294 | P7: 875 | Q7: 13381 | R7: 13151.505 | S7: 0 | T7: -9351.1409 | U7: -9710.4974 | V7: 6212 | W7: 0 | X7: 1:shelfLife(3),deliveryDay(1),timeWindow(240),discount(0),delay(0),deliveryFeeInCents(599) (open from 8 to 20)
A8: 22 | B8: -777409062 | C8: 1886.998 | D8: 6239 | E8: 7498 | F8: 0.44348463 | G8: -1.6532887 | H8: -1.7050139 | I8: 2.0634618 | J8: 0 | K8: 3.7443998 | L8: 0.36322799 | M8: 6174 | N8: -322.71327 | O8: 6717 | P8: 781 | Q8: 13737 | R8: 12873.938 | S8: 0 | T8: -10314.868 | U8: -10637.581 | V8: 6239 | W8: 0 | X8: 1:shelfLife(3),deliveryDay(1),timeWindow(240),discount(0),delay(0),deliveryFeeInCents(599) (open from 8 to 20)
A9: 82 | B9: -352012795 | C9: 1801.782 | D9: 6430 | E9: 7016 | F9: 0.46526703 | G9: -1.4465543 | H9: -1.5303452 | I9: 2.153578 | J9: 0 | K9: 3.7555687 | L9: 0.39625046 | M9: 5954 | N9: -538.77589 | O9: 6109 | P9: 907 | Q9: 13446 | R9: 13847.506 | S9: 0 | T9: -9301.3439 | U9: -9840.1198 | V9: 6430 | W9: 0 | X9: 1:shelfLife(3),deliveryDay(1),timeWindow(240),discount(0),delay(0),deliveryFeeInCents(599) (open from 8 to 20)
A10: 42 | B10: 1585358012 | C10: 2136.853 | D10: 6691 | E10: 7005 | F10: 0.47378018 | G10: -1.684738 | H10: -1.7386668 | I10: 2.0898727 | J10: 0.0095657948 | K10: 3.7711864 | L10: 0.3954087 | M10: 5835 | N10: -360.83765 | O10: 6161 | P10: 844 | Q10: 13697 | R10: 13983.338 | S10: 64.004733 | T10: -11272.582 | U10: -11633.419 | V10: 6692 | W10: 0 | X10: 1:shelfLife(3),deliveryDay(1),timeWindow(240),discount(0),delay(0),deliveryFeeInCents(599) (open from 8 to 20)
